BEGIN:VCALENDAR
VERSION:2.0
PRODID:-//PLAN FOR CULTURE - ECPv6.0.6//NONSGML v1.0//EN
CALSCALE:GREGORIAN
METHOD:PUBLISH
X-ORIGINAL-URL:https://planforculture.com
X-WR-CALDESC:Events for PLAN FOR CULTURE
REFRESH-INTERVAL;VALUE=DURATION:PT1H
X-Robots-Tag:noindex
X-PUBLISHED-TTL:PT1H
BEGIN:VTIMEZONE
TZID:Europe/Zagreb
BEGIN:DAYLIGHT
TZOFFSETFROM:+0100
TZOFFSETTO:+0200
TZNAME:CEST
DTSTART:20230326T010000
END:DAYLIGHT
BEGIN:STANDARD
TZOFFSETFROM:+0200
TZOFFSETTO:+0100
TZNAME:CET
DTSTART:20231029T010000
END:STANDARD
END:VTIMEZONE
BEGIN:VEVENT
DTSTART;TZID=Europe/Zagreb:20231004T193000
DTEND;TZID=Europe/Zagreb:20231004T230000
DTSTAMP:20260419T165653
CREATED:20230922T101421Z
LAST-MODIFIED:20230922T101421Z
UID:10000057-1696447800-1696460400@planforculture.com
SUMMARY:JazzHR Festival Fall edition  - druga večer
DESCRIPTION:4.10. DAN 2 – Tvornica kulture (Veliki pogon) \n19:30 – Vladimir Samardžić Trio \nKoncertna promocija albuma “Catching the Wind” \nVladimir Samardžić – bas\, kompozicije / Marco Antonio da Costa – gitara / Vladimir Kostadinović – bubnjevi \n20:30 – Jan Pele DalMotion \nKoncertna pretpromocija novog albuma \nJan Ivelić – bubnjevi\, kompozicije / Lenart Krečić – tenor saksofon / Tomaž Gajšt – truba / Borna Pehar – klavir / Jošt Lampert – kontrabas \n22:00 – Jumbo jam session
URL:https://planforculture.com/event/jazzhr-festival-fall-edition-druga-vecer/
LOCATION:Tvornica kulture (Veliki pogon)\, Ul. Pavla Šubića 2\, Zagreb
CATEGORIES:CONCERT
ATTACH;FMTTYPE=image/jpeg:https://planforculture.com/wp-content/uploads/2023/09/JazzHR2023_FallEdition_1-509x228-3.jpg
END:VEVENT
END:VCALENDAR