BEGIN:VCALENDAR
VERSION:2.0
PRODID:-//PLAN FOR CULTURE - ECPv6.0.6//NONSGML v1.0//EN
CALSCALE:GREGORIAN
METHOD:PUBLISH
X-ORIGINAL-URL:https://planforculture.com
X-WR-CALDESC:Events for PLAN FOR CULTURE
REFRESH-INTERVAL;VALUE=DURATION:PT1H
X-Robots-Tag:noindex
X-PUBLISHED-TTL:PT1H
BEGIN:VTIMEZONE
TZID:Europe/Zagreb
BEGIN:DAYLIGHT
TZOFFSETFROM:+0100
TZOFFSETTO:+0200
TZNAME:CEST
DTSTART:20240331T010000
END:DAYLIGHT
BEGIN:STANDARD
TZOFFSETFROM:+0200
TZOFFSETTO:+0100
TZNAME:CET
DTSTART:20241027T010000
END:STANDARD
END:VTIMEZONE
BEGIN:VEVENT
DTSTART;TZID=Europe/Zagreb:20240320T180000
DTEND;TZID=Europe/Zagreb:20240320T200000
DTSTAMP:20260419T165614
CREATED:20240317T173522Z
LAST-MODIFIED:20240317T182902Z
UID:10002052-1710957600-1710964800@planforculture.com
SUMMARY:Udri brigu na heklanje
DESCRIPTION:Centar mladih Ribnjak vas poziva da se pridružite srijedom na radionici kukičanja i dopustite heklanju da bude vaša terapija i putovanje kroz vrijeme\, oživljavajući sjećanja na naše korijene i pružajući nam trenutke unutarnjeg mira i harmonije. Uz to\, slušamo stare ploče i audio knjige! \nOsim što nas vraća u prošlost\, heklanje je i svojevrsna terapija koncem\, oaza mira u svijetu užurbanosti. Kroz ovu aktivnost\, um se usredotočuje na stvaranje\, isključujući brige i stres. Opuštajući ritam kukičanja djeluje kao meditacija\, umirujući um i oslobađa napetost. \nPrijave na radionicu: marina.curkovic@cmr.hr
URL:https://planforculture.com/event/udri-brigu-na-heklanje/
LOCATION:Centar mladih Ribnjak\, Park Ribnjak 1\, Zagreb\, 10000\, Croatia (Local Name: Hrvatska)
ATTACH;FMTTYPE=image/jpeg:https://planforculture.com/wp-content/uploads/2024/03/heklanje.jpg
ORGANIZER;CN="Centar%20mladih%20Ribnjak":MAILTO:cmr@cmr.hr
END:VEVENT
END:VCALENDAR