BEGIN:VCALENDAR
VERSION:2.0
PRODID:-//PLAN FOR CULTURE - ECPv6.0.6//NONSGML v1.0//EN
CALSCALE:GREGORIAN
METHOD:PUBLISH
X-WR-CALNAME:PLAN FOR CULTURE
X-ORIGINAL-URL:https://planforculture.com
X-WR-CALDESC:Events for PLAN FOR CULTURE
REFRESH-INTERVAL;VALUE=DURATION:PT1H
X-Robots-Tag:noindex
X-PUBLISHED-TTL:PT1H
BEGIN:VTIMEZONE
TZID:Europe/Zagreb
BEGIN:DAYLIGHT
TZOFFSETFROM:+0100
TZOFFSETTO:+0200
TZNAME:CEST
DTSTART:20240331T010000
END:DAYLIGHT
BEGIN:STANDARD
TZOFFSETFROM:+0200
TZOFFSETTO:+0100
TZNAME:CET
DTSTART:20241027T010000
END:STANDARD
END:VTIMEZONE
BEGIN:VEVENT
DTSTART;TZID=Europe/Zagreb:20240626T100000
DTEND;TZID=Europe/Zagreb:20240831T180000
DTSTAMP:20260421T020221
CREATED:20240717T144319Z
LAST-MODIFIED:20240717T144709Z
UID:10002420-1719396000-1725127200@planforculture.com
SUMMARY:IZLOŽBA Citius\, Altius\, Fortius – Communiter. Antičke i moderne Olimpijske igre
DESCRIPTION:Olimpijske igre\, fenomen s više od 2500 godina povijesti\, povezuju ljude i pružaju pozornicu talentiranim sportašima da pokažu svoju snagu\, vještinu\, brzinu i spretnost još od 776. pr. Kr. Inspirirale su mnoge pojedince\, a ovaj puta ujedinile Arheološki muzej u Zagrebu i Hrvatski športski muzej koji su u suradnji s Hrvatskim olimpijskim odborom i Hrvatskom olimpijskom akademijom postavili izložbu Citius\, Altius\, Fortius – Communiter. Antičke i moderne Olimpijske igre koja će vas odvesti na putovanje kroz povijest Olimpijskih igara.
URL:https://planforculture.com/event/citius-altius-fortius-communiter-anticke-i-moderne-olimpijske-igre/
LOCATION:Arheološki muzej u Zagrebu\, Trg Nikole Šubića Zrinskog 19\, Zagreb\, 10000\, Croatia (Local Name: Hrvatska)
CATEGORIES:EXHIBITION
ATTACH;FMTTYPE=image/png:https://planforculture.com/wp-content/uploads/2024/07/1.png
ORGANIZER;CN="Arheolo%C5%A1ki%20muzej%20u%20Zagrebu":MAILTO:amz@amz.hr
END:VEVENT
END:VCALENDAR