BEGIN:VCALENDAR
VERSION:2.0
PRODID:-//PLAN FOR CULTURE - ECPv6.0.6//NONSGML v1.0//EN
CALSCALE:GREGORIAN
METHOD:PUBLISH
X-ORIGINAL-URL:https://planforculture.com
X-WR-CALDESC:Events for PLAN FOR CULTURE
REFRESH-INTERVAL;VALUE=DURATION:PT1H
X-Robots-Tag:noindex
X-PUBLISHED-TTL:PT1H
BEGIN:VTIMEZONE
TZID:Europe/Zagreb
BEGIN:DAYLIGHT
TZOFFSETFROM:+0100
TZOFFSETTO:+0200
TZNAME:CEST
DTSTART:20240331T010000
END:DAYLIGHT
BEGIN:STANDARD
TZOFFSETFROM:+0200
TZOFFSETTO:+0100
TZNAME:CET
DTSTART:20241027T010000
END:STANDARD
END:VTIMEZONE
BEGIN:VEVENT
DTSTART;TZID=Europe/Zagreb:20240901T173000
DTEND;TZID=Europe/Zagreb:20241201T200000
DTSTAMP:20260422T224344
CREATED:20240725T102009Z
LAST-MODIFIED:20240725T102252Z
UID:10002465-1725211800-1733083200@planforculture.com
SUMMARY:Urania: Kreativna Ura i Održiva Ura
DESCRIPTION:Urania – prostor kreacije najavljuje jesensku sezonu događanja: Kreativna Ura i Održiva Ura. \nPridružite nam se ove jeseni u Uraniji na inspirativnim događanjima koja slave kreativnost\, održivost i zajedništvo. Urania – prostor kreacije s ponosom najavljuje jesensku sezonu događanja koja uključuju serije Kreativna Ura i Održiva Ura. Ova jedinstvena događanja okupljaju stručnjake\, entuzijaste i ljubitelje umjetnosti\, dizajna\, arhitekture i održivosti kako bi zajedno stvarali\, učili i inspirirali se. \nKroz niz radionica\, predavanja i panel diskusija koje će obuhvatiti različite aspekte kreativnih industrija\, uključujući dizajn\, umjetnost\, književnost\, glazbu i film\, te arhitekturu i održivost\, Urania namjerava potaknuti inovativno razmišljanje i promicati ekološki prihvatljive prakse u svakodnevnim i profesionalnim djelatnostima.  \nViše informacija možete pronaći ovdje.
URL:https://planforculture.com/event/urania-kreativna-ura-i-odrziva-ura/
LOCATION:Urania\, Trg E. Kvaternika 3/3\, 10000 Zagreb\, Trg E. Kvaternika 3/3\, Zagreb\, 10000\, Croatia (Local Name: Hrvatska)
CATEGORIES:LECTURE
ATTACH;FMTTYPE=image/gif:https://planforculture.com/wp-content/uploads/2024/07/Urania_Newsletter_Jesen.gif
ORGANIZER;CN="Urania":MAILTO:urania@urania.hr
END:VEVENT
BEGIN:VEVENT
DTSTART;VALUE=DATE:20240905
DTEND;VALUE=DATE:20241006
DTSTAMP:20260422T224344
CREATED:20240925T121703Z
LAST-MODIFIED:20240925T121703Z
UID:10002538-1725494400-1728172799@planforculture.com
SUMMARY:Kaleidoskop kulture
DESCRIPTION:Kaleidoskop je jedinstveni program kulture koji se prestižnim nagradama pozicionirao na evropskoj mapi kao najznačajnija umetnička smotra u regionu. \nSa svojim prepoznatljivim konceptom 4/5 u pet nedelja umetnosti već sedmu godinu u Novi Sad dovodi svetske zvezde\, predstavljajući velikane srpske kulture\, a pružajući priliku mladim umetnicima jača lokalnu i nacionalnu scenu.
URL:https://planforculture.com/event/kaleidoskop-kulture/
LOCATION:Distrikt\, Novi Sad\, Srbija\, Bulevar despota Stefana 5\, Novi Sad\, Novi Sad\, 21000\, Serbia
CATEGORIES:CONCERT,CONFERENCE,EXHIBITION,LECTURE,LITERATURE,PERFORMANCE,THEATER,WORKSHOP
ATTACH;FMTTYPE=image/jpeg:https://planforculture.com/wp-content/uploads/2024/09/Kaleidoskop-kulture-foto-V.Velickovic.jpg
ORGANIZER;CN="Fondacija%20%22Novi%20Sad%20-%20Evropska%20prestonica%20kulture%22":MAILTO:info@ns2022.rs
END:VEVENT
BEGIN:VEVENT
DTSTART;TZID=Europe/Zagreb:20240905T190000
DTEND;TZID=Europe/Zagreb:20241103T190000
DTSTAMP:20260422T224344
CREATED:20240903T124722Z
LAST-MODIFIED:20240903T124814Z
UID:10002486-1725562800-1730660400@planforculture.com
SUMMARY:Otvorenje izložbe: Jedna za sve – Sve za jednu / Klub likovnih umjetnica 1927. – 1940.
DESCRIPTION:Veliki izložbeni projekt Jedna za sve – Sve za jednu / Klub likovnih umjetnica 1927. – 1940. u Galeriji Klovićevi dvori donosi iscrpan prikaz djelovanja i recepcije umjetnica članica Kluba likovnih umjetnica osnovanog u Zagrebu 1927. godine kao prvog i jedinog ženskog likovnog udruženja u prvoj polovici 20. stoljeća na ovim područjima. Izložba temeljena na višegodišnjem istraživanju kroz dvjestotinjak radova\, većinom slika\, grafika\, skulptura\, djela primijenjene umjetnosti i arhivskog gradiva\, posuđenog iz dvadesetak umjetničkih institucija iz Hrvatske i Slovenije te desetak privatnih zbirki\, predstavit će stvaralaštvo prvih generacija akademski školovanih umjetnica. Članice Kluba likovnih umjetnica\, udruženo su istupile na likovnu scenu i tržište\, te sudjelovale i u organizaciji gostujućih izložbi u Zagrebu\, njemačke kiparice i grafičarke Käthe Kollwitz 1936. godine i izložbe bugarskih likovnih umjetnica 1938. godine. Javnost će izložbu moći razgledati od 5. rujna do 3. studenoga 2024. Autorice i kustosice izložbe su Dunja Nekić\, viša kustosica i voditeljica Zbirke starije fotografije MUO i dr. sc. Darija Alujević\, stručna savjetnica u Arhivu za likovne umjetnosti Kabineta za arhitekturu i urbanizam HAZU.
URL:https://planforculture.com/event/otvorenje-izlozbe-jedna-za-sve-sve-za-jednu-klub-likovnih-umjetnica-1927-1940/
LOCATION:Galerija Klovićevi Dvori\, Jezuitski trg 4\, Zagreb\, Croatia (Local Name: Hrvatska)
CATEGORIES:EXHIBITION
ATTACH;FMTTYPE=image/jpeg:https://planforculture.com/wp-content/uploads/2024/09/FB-event-1920x1080-1-scaled.jpg
ORGANIZER;CN="Muzej%20za%20umjetnost%20i%20obrt%2C%20Zagreb":MAILTO:muo@muo.hr
END:VEVENT
BEGIN:VEVENT
DTSTART;TZID=Europe/Zagreb:20240924T190000
DTEND;TZID=Europe/Zagreb:20241011T200000
DTSTAMP:20260422T224344
CREATED:20240912T124936Z
LAST-MODIFIED:20240912T124936Z
UID:10002498-1727204400-1728676800@planforculture.com
SUMMARY:Gledanje između slika [Mirna Kutleša] / izložba
DESCRIPTION:Gledanje između slika naziv je izložbe kojom će riječka umjetnica Mirna Kutleša u Galeriji Kortil premijerno predstaviti svoj recentni slikarski ciklus. Iako pretežito sačinjen od motiva iz prirode\, ciklus donosi intuitivni pogled autorice na čovjeka tekuće modernosti (kako Zygmunt Bauman označava suvremeno doba). Mirna o društvenoj dezintegraciji\, o našoj vremenskoj i prostornoj neučvršćenosti\, promišlja kroz figuralne prikaze koji nadilaze partikularnosti\, koji egzistiraju onkraj vremena i prostora\, često nadahnuti arhetipom ili mitom. \nUgođaj začudnosti i snovitosti pritom postaje temeljni gradivni i kohezivni element svake slike\, a onda i ciklusa u cjelini. On proizlazi iz slikarskog postupka koji razotkriva proces\, svaku Mirninu slikarsku misao\, asocijaciju ostavlja zabilježenom\, svaku fazu stvaranja vidljivom. Osim što doprinosi slojevitosti slike i potiče promatrača na relacijsku interpretaciju\, spomenuta transparentnost slikarskog procesa oprimjeruje autentičnost i samopromatranje kao put ostvarivanja čovjekove integracije.\nVana Gović Marković\, kustosica izložbe
URL:https://planforculture.com/event/gledanje-izmedu-slika-mirna-kutlesa-izlozba/
LOCATION:Galerija Kortil\, Strossmayerova 1\, Rijeka\, Primorsko-goranska županija\, 51000\, Croatia (Local Name: Hrvatska)
CATEGORIES:EXHIBITION
ATTACH;FMTTYPE=image/jpeg:https://planforculture.com/wp-content/uploads/2024/09/gledanje-izmedju-slika-1.jpg
ORGANIZER;CN="Hrvatski%20kulturni%20dom%20na%20Su%C5%A1aku":MAILTO:press@hkd-rijeka.hr
END:VEVENT
BEGIN:VEVENT
DTSTART;TZID=Europe/Zagreb:20241002T190000
DTEND;TZID=Europe/Zagreb:20241002T210000
DTSTAMP:20260422T224344
CREATED:20240926T190502Z
LAST-MODIFIED:20240926T190502Z
UID:10002546-1727895600-1727902800@planforculture.com
SUMMARY:Edit Glavurtić\, otvorenje izložbe u Crikvenici
DESCRIPTION:Gradska galerija Crikvenica \nSrdačno Vas pozivamo da svojim dolaskom uveličate otvorenje samostalne izložbe “Rascvjetavanje – Skice iz Edena“ akademske umjetnice Edit Glavurtić u srijedu 2. listopada 2024. u 19 sati u Gradskoj galeriji Crikvenica. Izložbu će predstaviti viša kustosica\, povjesničarka umjetnosti i muzeologinja Sonja Švec Španjol. Umjetnica će se predstaviti s preko 30 slika različitih formata. Glavni motiv ciklusa je cvijeće – božuri\, irisi\, makovi i gladiole. Djela su izvedena u dvije međusobno posve različite likovne tehnike – ulje na platnu i akvarel na papiru. Izložbu će otvoriti ravnateljica Centra za kulturu “Dr. Ivan Kostrenčić” Andrea Car Avdagić. \n  \nIzložba ostaje otvorena do 31. listopada 2024. i može se pogledati u Gradskoj galeriji Crikvenica ponedjeljkom\, utorkom i petkom od 10 do 14 sati\, srijedom i četvrtkom od 15 do 19 sati i subotom od 10 do 13 sati.
URL:https://planforculture.com/event/edit-glavurtic-otvorenje-izlozbe-u-crikvenici/
LOCATION:Gradska galerija Crikvenica\, Strossmayerovo šetalište 22\, Crikvenica\, Croatia (Local Name: Hrvatska)
CATEGORIES:EXHIBITION
ATTACH;FMTTYPE=image/jpeg:https://planforculture.com/wp-content/uploads/2024/09/e-najava_Glavurtic-scaled.jpg
END:VEVENT
BEGIN:VEVENT
DTSTART;TZID=Europe/Zagreb:20241002T200000
DTEND;TZID=Europe/Zagreb:20241002T223500
DTSTAMP:20260422T224344
CREATED:20240709T115522Z
LAST-MODIFIED:20240909T122837Z
UID:10002383-1727899200-1727908500@planforculture.com
SUMMARY:GSK Kerempuh: KAKO DRUGA POLOVICA VOLI
DESCRIPTION:Autor: Alan Ayckbourn\nU prijevodu i lokalizaciji Damira Munitića\nRedatelj: Filip Detelić \nU suvremenom vodvilju\, u brzom ritmu i uz upečatljive karaktere\, pred vama će se odviti nevjerojatan niz komičnih obrata i situacija koje će naše junake voditi u sve dublji kaos iz kojeg će uzalud pokušati izvući živu glavu\, propadajući sve dublje u živo blato svojih ljubavnih odabira.Naša tri para žive u gotovo identičnim stanovima\, što je Ayckbourn iskoristio za specifično poigravanje scenskim prostorom. Postavlja se pitanje koliko smo uopće originalni i neponovljivi ili živimo u strogo utabanim stazama\, vrteći se u krug kao zamorci noću u svojim sumornim kavezima.Ova priča koja je osvajala publiku gdje god da je igrana\, propituje čvrsto zadane društvene norme malograđanskih okvira te njima suprotstavljenu ljubavničku vatru. Mogu li strast i želja opstati u rutini predvidive svakodnevice? Odgovor je da mogu\, ali ne nužno prema vlastitom partneru… \nScenograf: Matija Blašković\nKostimografkinja: Vedrana Rapić\nAutor glazbe: Mario Mirković\nOblikovatelj svjetla: Aleksandar Mondecar\nInspicijentica: Ena Subotić \nFotografije: Luka Dubroja \nIgraju: \nDobroslav Skrbnik – Filip Detelić\nDivna Skrbnik – Nataša Kopeč\nVjeko Šubić – Marko Hergešić\nMilica Plazilet – Josipa Anković\nLjudevit Plazilet – Matija Šakoronja\nTereza Šubić – Mia Anočić – Valentić / Ana Maras Harmander \n  \nPopusti na grupne posjete (10 i više osoba) \nProdaja na tel. 01/4833 645\, 01/4833 646
URL:https://planforculture.com/event/gsk-kerempuh-kako-druga-polovica-voli-4/
LOCATION:Satiričko kazalište Kerempuh\, Prolaz Fadila Hadžića 7\, Zagreb\, Croatia (Local Name: Hrvatska)
CATEGORIES:THEATER
ATTACH;FMTTYPE=image/jpeg:https://planforculture.com/wp-content/uploads/2024/07/Kako-druga-polovica-voli.jpg
ORGANIZER;CN="Satiri%C4%8Dko%20kazali%C5%A1te%20Kerempuh":MAILTO:blagajna@kerempuh.hr
END:VEVENT
END:VCALENDAR