BEGIN:VCALENDAR
VERSION:2.0
PRODID:-//PLAN FOR CULTURE - ECPv6.0.6//NONSGML v1.0//EN
CALSCALE:GREGORIAN
METHOD:PUBLISH
X-WR-CALNAME:PLAN FOR CULTURE
X-ORIGINAL-URL:https://planforculture.com
X-WR-CALDESC:Events for PLAN FOR CULTURE
REFRESH-INTERVAL;VALUE=DURATION:PT1H
X-Robots-Tag:noindex
X-PUBLISHED-TTL:PT1H
BEGIN:VTIMEZONE
TZID:Europe/Zagreb
BEGIN:DAYLIGHT
TZOFFSETFROM:+0100
TZOFFSETTO:+0200
TZNAME:CEST
DTSTART:20240331T010000
END:DAYLIGHT
BEGIN:STANDARD
TZOFFSETFROM:+0200
TZOFFSETTO:+0100
TZNAME:CET
DTSTART:20241027T010000
END:STANDARD
END:VTIMEZONE
BEGIN:VEVENT
DTSTART;TZID=Europe/Zagreb:20240901T173000
DTEND;TZID=Europe/Zagreb:20241201T200000
DTSTAMP:20260420T122729
CREATED:20240725T102009Z
LAST-MODIFIED:20240725T102252Z
UID:10002465-1725211800-1733083200@planforculture.com
SUMMARY:Urania: Kreativna Ura i Održiva Ura
DESCRIPTION:Urania – prostor kreacije najavljuje jesensku sezonu događanja: Kreativna Ura i Održiva Ura. \nPridružite nam se ove jeseni u Uraniji na inspirativnim događanjima koja slave kreativnost\, održivost i zajedništvo. Urania – prostor kreacije s ponosom najavljuje jesensku sezonu događanja koja uključuju serije Kreativna Ura i Održiva Ura. Ova jedinstvena događanja okupljaju stručnjake\, entuzijaste i ljubitelje umjetnosti\, dizajna\, arhitekture i održivosti kako bi zajedno stvarali\, učili i inspirirali se. \nKroz niz radionica\, predavanja i panel diskusija koje će obuhvatiti različite aspekte kreativnih industrija\, uključujući dizajn\, umjetnost\, književnost\, glazbu i film\, te arhitekturu i održivost\, Urania namjerava potaknuti inovativno razmišljanje i promicati ekološki prihvatljive prakse u svakodnevnim i profesionalnim djelatnostima.  \nViše informacija možete pronaći ovdje.
URL:https://planforculture.com/event/urania-kreativna-ura-i-odrziva-ura/
LOCATION:Urania\, Trg E. Kvaternika 3/3\, 10000 Zagreb\, Trg E. Kvaternika 3/3\, Zagreb\, 10000\, Croatia (Local Name: Hrvatska)
CATEGORIES:LECTURE
ATTACH;FMTTYPE=image/gif:https://planforculture.com/wp-content/uploads/2024/07/Urania_Newsletter_Jesen.gif
ORGANIZER;CN="Urania":MAILTO:urania@urania.hr
END:VEVENT
BEGIN:VEVENT
DTSTART;TZID=Europe/Zagreb:20240905T190000
DTEND;TZID=Europe/Zagreb:20241103T190000
DTSTAMP:20260420T122729
CREATED:20240903T124722Z
LAST-MODIFIED:20240903T124814Z
UID:10002486-1725562800-1730660400@planforculture.com
SUMMARY:Otvorenje izložbe: Jedna za sve – Sve za jednu / Klub likovnih umjetnica 1927. – 1940.
DESCRIPTION:Veliki izložbeni projekt Jedna za sve – Sve za jednu / Klub likovnih umjetnica 1927. – 1940. u Galeriji Klovićevi dvori donosi iscrpan prikaz djelovanja i recepcije umjetnica članica Kluba likovnih umjetnica osnovanog u Zagrebu 1927. godine kao prvog i jedinog ženskog likovnog udruženja u prvoj polovici 20. stoljeća na ovim područjima. Izložba temeljena na višegodišnjem istraživanju kroz dvjestotinjak radova\, većinom slika\, grafika\, skulptura\, djela primijenjene umjetnosti i arhivskog gradiva\, posuđenog iz dvadesetak umjetničkih institucija iz Hrvatske i Slovenije te desetak privatnih zbirki\, predstavit će stvaralaštvo prvih generacija akademski školovanih umjetnica. Članice Kluba likovnih umjetnica\, udruženo su istupile na likovnu scenu i tržište\, te sudjelovale i u organizaciji gostujućih izložbi u Zagrebu\, njemačke kiparice i grafičarke Käthe Kollwitz 1936. godine i izložbe bugarskih likovnih umjetnica 1938. godine. Javnost će izložbu moći razgledati od 5. rujna do 3. studenoga 2024. Autorice i kustosice izložbe su Dunja Nekić\, viša kustosica i voditeljica Zbirke starije fotografije MUO i dr. sc. Darija Alujević\, stručna savjetnica u Arhivu za likovne umjetnosti Kabineta za arhitekturu i urbanizam HAZU.
URL:https://planforculture.com/event/otvorenje-izlozbe-jedna-za-sve-sve-za-jednu-klub-likovnih-umjetnica-1927-1940/
LOCATION:Galerija Klovićevi Dvori\, Jezuitski trg 4\, Zagreb\, Croatia (Local Name: Hrvatska)
CATEGORIES:EXHIBITION
ATTACH;FMTTYPE=image/jpeg:https://planforculture.com/wp-content/uploads/2024/09/FB-event-1920x1080-1-scaled.jpg
ORGANIZER;CN="Muzej%20za%20umjetnost%20i%20obrt%2C%20Zagreb":MAILTO:muo@muo.hr
END:VEVENT
BEGIN:VEVENT
DTSTART;VALUE=DATE:20241005
DTEND;VALUE=DATE:20241019
DTSTAMP:20260420T122729
CREATED:20241008T085338Z
LAST-MODIFIED:20241008T085338Z
UID:10002619-1728086400-1729295999@planforculture.com
SUMMARY:Fubar izložba 2k24
DESCRIPTION:Fubar izložba centralni je događaj desetog izdanja Fubar festivala\, usmjerenog elektroničkim eksperimentima i istraživanju u suvremenoj teoriji i praksi digitalne umjetnosti s greškom. \n\nIzložba predstavlja radove više od stotinu umjetnika iz cijelog svijeta\, a u 2024. tematski je fokusirana na arhiviranje neuspjeha i pogrešaka\, te njihovo dijeljenje vlastitim poluautomatiziranim DIY sustavima za izlaganje digitalne umjetnosti. Ovogodišnji kustoski odabir usmjeren je primarno prema djelima izraslima iz pukotina i rascjepa novomedijske umjetnosti\, softverskog koda i teorije. Ova izložba uključuje neočekivane\, slomljene\, uništene\, ponekad uzaludne radove i neuspjehe koji možda nikada prije nisu bili izloženi.
URL:https://planforculture.com/event/fubar-izlozba-2k24/
LOCATION:Pogon Jedinstvo\, Trnjanska struga 34\, Zagreb\, 10 000\, Croatia (Local Name: Hrvatska)
CATEGORIES:EXHIBITION
ATTACH;FMTTYPE=image/jpeg:https://planforculture.com/wp-content/uploads/2024/10/452486153_880512784111539_1734587591519765690_n.jpg
ORGANIZER;CN="Format%20C":MAILTO:dina@formatc.hr
END:VEVENT
BEGIN:VEVENT
DTSTART;VALUE=DATE:20241005
DTEND;VALUE=DATE:20241102
DTSTAMP:20260420T122729
CREATED:20241017T121632Z
LAST-MODIFIED:20241017T121632Z
UID:10002638-1728086400-1730505599@planforculture.com
SUMMARY:Izložba Tisje Kljaković Braić
DESCRIPTION:Izložba je otvorena 5. listopada i trajat će do 1. studenog \n“Rekla bi’ da su moje nove slike za oktavu grublje od prijašnjih\, da su crna i bila zaminile uloge. Izluđuju me požari; mislim se koliko triba da se ovo opet zazeleni i okrićem glavu iz auta da ne gledam spaljenu zemlju. Jedna slika zove se Oda za izgoreno stablo\, druga je Čovik koji zaliva izgoreno stablo. Zalivamo tako mi u životu i ono šta znamo da nikad neće procvitat. Kroz slike prolazi siva Cesta\, k’o neka prolaznost i k’o budućnost. Na jednoj velikoj\, sivoj slici ljubavnici su konačno našli svoje Parkirno mjesto\, leže zagrijeni na betonu. Jedan čovik drži svu težinu svita… i sve se vrti na Ringišpilu života. Sve ide u krug. \nTisja
URL:https://planforculture.com/event/izlozba-tisje-kljakovic-braic/
LOCATION:Galerija Kaptol\, Radićeva 32\, Radićeva 32\, Zagreb\, Grad Zagreb\, 10000\, Croatia (Local Name: Hrvatska)
CATEGORIES:EXHIBITION
ATTACH;FMTTYPE=image/jpeg:https://planforculture.com/wp-content/uploads/2024/10/Tisja-Galerija-Kaptol-146-1536x1024-1.jpg
ORGANIZER;CN="Galerija%20Kaptol":MAILTO:info@galerijakaptol.hr
END:VEVENT
BEGIN:VEVENT
DTSTART;TZID=Europe/Zagreb:20241007T190000
DTEND;TZID=Europe/Zagreb:20241031T200000
DTSTAMP:20260420T122729
CREATED:20241007T131414Z
LAST-MODIFIED:20241007T131414Z
UID:10002618-1728327600-1730404800@planforculture.com
SUMMARY:Nina Đurđević: "Samo(s)mislena"
DESCRIPTION:Galerija Spot i Ured za fotografiju pozivaju na otvorenje izložbe Samo(s)mislena umjetnice Nine Đurđević\, koje će se održati u ponedjeljak\, 7. 10.\, s početkom u 19:00 sati u Galeriji Spot na adresi Čanićeva 6\, Zagreb. Prilikom otvorenja izložbe zakazano je vodstvo i razgovor s autoricom\, a radionica izražavanja putem medija fotografije i poezije održat će se u četvrtak\, 24. 10.\, u 19:00 sati u Galeriji Spot kao dio popratnog programa. Izložba ostaje otvorena do 31. 10. 2024. \nIz predgovora Vlatke Valentić: \n“(…) Spontano\, bez tračka pretencioznosti\, Nina Đurđević od 2021. povremenim javljanjima na Facebooku gradi osebujnu tekstualnu i slikovnu poetiku. U objavama koje ostaju u sjenovitoj zoni između očitovanja i obraćanja govori o stvarima koje je ushićuju ili muče\, pokazuje što u svakodnevici vidi i promatra. Bilježi svojevrstan podsjetnik\, „da se poprati”\, ali i da nešto otpusti\, „izbaci iz sebe”\, u mrežu u kojoj svi govorimo – ako ne šutimo – u prazno i u puno u isti mah.\nU taj ambivalentni javni prostor Nina ulazi s onim osobnim koje nije privatno\, anegdotalnim u kojem se prelijeva univerzalno. Slika koju hvata priručnom kamerom redovito plijeni jednako kao njezini profesionalni radovi. Gdje prestaje intuicija i počinje vještina\, gdje se vještina pretvara u umijeće\, umijeće u umjetnost? Tekst nas pak fascinira obrnuto: sirovom krhkosti krajnje oslobođena jezika koji odbija kompromis s hrvatskim standardom i kaže što misli onako kako misli\, u letu. Iskrzan\, grbav\, poetičan\, izmišlja riječi\, iznenađuje sintagmama i sintaktičkim iščašenjima. Autorica ne zazire ni od opširnosti ni od neočekivanih prečica\, izgovara sva svoja kolebanja u formi („jel ljepost ili lijepost jer znam da je ljepota”) i zebnje o sadržaju: „znam da su ove moje pisarije ponekad sladunjave/ možda čak i bljutave/ nadobudne (…)” \n  \nPopratni program:  \n\nVodstvo izložbom i razgovor s autoricom\, 7. 10. 2024.\, 19:30\, Galerija Spot\nRadionica izražavanja putem medija fotografije i poezije\, 24. 10. 2024.\, 19:00\, Galerija Spot\n\nTrajanje izložbe: \n\n7.–31. 10. 2024.\n\nRealizacija izložbe i rad Ureda za fotografiju omogućeni su sredstvima Ministarstva kulture i medija RH\, Grada Zagreba i Zaklade Kultura nova.
URL:https://planforculture.com/event/nina-durdevic-samosmislena/
LOCATION:Galerija Spot\, Ulica Gjure Čanića 6\, Zagreb\, 10000 Zagreb\, Croatia (Local Name: Hrvatska)
CATEGORIES:EXHIBITION,WORKSHOP
ATTACH;FMTTYPE=image/jpeg:https://planforculture.com/wp-content/uploads/2024/10/Glavni-vizual-scaled.jpg
ORGANIZER;CN="Ured%20za%20fotografiju":MAILTO:info@officeforphotography.com
END:VEVENT
BEGIN:VEVENT
DTSTART;TZID=Europe/Zagreb:20241009T180000
DTEND;TZID=Europe/Zagreb:20241015T210000
DTSTAMP:20260420T122729
CREATED:20241008T162335Z
LAST-MODIFIED:20241008T162803Z
UID:10002623-1728496800-1729026000@planforculture.com
SUMMARY:ELIS KONDELÍKOVÁ Hell is empty u Galeriji Flora
DESCRIPTION:Češka umjetnica\, Elis Kondelíková\, rezidencijalni boravak u galeriji Flora zaključuje izložbom koja je svojevrsno preplitanje globalne teme sveprisutnijeg ratnog sukoba koji se nezaustavljivo širi\, arheologije ratnih trauma općenito\, te vizualnih bljeskova\, asocijativnih fotografija i video radova\, koji su nastali za vrijeme njenih svakodnevnih dubrovačkih ophoda gradom. \nHell is empty\, naslov je koji umjetnica preuzima od Netflixove mračne horor serije\, zapravo citata iz Shakespeareove drame Oluja: Hell is empty and all the devils are here.  \nPakao je prazan\, ali ta praznina se prelila i na ovostrano.  \nElis na svojim fotografijama bilježi tu prazninu. Fotografira napuštene prostore\, detalje… asocijacije na gubitak doma. Fotografira zaboravljene lutke bez ekstremiteta promišljajući tijelo i tjelesnost. Zaokupljena je i šablonama\, ponavljajućim motivima\, istim uzorcima koji se iščitavaju na različitim objektima\, kao što se\, uostalom\, obrazac rata preslikava u prostoru i vremenu ne mijenjajući se u svojoj strahoti. Ako nam je bliži\, pogađa nas direktno\, a ako je udaljen\, postaje zanemariva vijest. Međutim\, u vremenu smo intenziviranih ratnih sukoba koji prijete da postanu globalni i ništa više nije sigurno.  \nPrema fotografijama Elis se odnosi kao prema vizualiziranim riječima. Slaže ih u povezane grupe tvoreći različite kontekste. Te rečenično-slikovne nizove učvršćuje pjesmama koje je sama pretipkala na pisaćoj mašini. Ponegdje se\, sasvim slučajno\, crvena vrpca za pisaću mašinu presložila preko standardne crne i dobio se dojam krvarećih slova. A poezija koju nam Kondeliková prenosi je poezija poljske pjesnikinje Anne Świrszczyńske\, poznate i kao Anna Swir\, koja je i sama prošla ratnu traumu\, citirajući zbirku Building the Barricade. Poeziju Swirove isprepleće s poezijom Semezdina Mehmedinovića iz zbirke Sarajevo blues\, napisane i objavljene tijekom opsade Sarajeva.  \nOno što vidimo zrcali spokoj i nemir istovremeno. Fragmente možemo iščitavati kako god želimo\, interpretacija je slobodna. Upravo iz tog razloga u prostoru će se naći i ogledalo\, a odraz nas samih u navedenom kontekstu označava nas\, ne samo kao promatrače\, već i kao agente nadolazeće promjene.  \nHelena Puhara \n\nCzech photographer Elis Kondelíková concludes her stay as an artist-in-residence at the Flora Gallery with an exhibition that entwines the global theme of an increasingly present war conflict with visual flashes\, associative photographs\, and video works created during her daily walks through Dubrovnik. \nThe title Hell is empty\, taken from the Netflix horror series\, is actually a quote from Shakespeare’s play The Tempest: Hell is empty and all the devils are here. Hell may be empty\, but that emptiness has spilled over into this world\, too. \nIn her work\, Elis captures this emptiness. She photographs abandoned spaces and details… things that remind of losing home. She photographs forgotten dolls with missing arms and legs\, thus contemplating the body and corporeality. She is also interested in repetitive motifs and patterns that keep emerging on various objects\, much like the pattern of war keeps reflecting in space and time\, unchanged in its horror. If war is somewhere close to us\, it affects us directly; if it’s far away\, it becomes just a minor piece of news. However\, we have found ourselves in the times of intensified conflicts that threaten to become global\, and nothing is certain anymore. \nElis approaches her photographs as if they were visualized words. She arranged them into connected groups forming different contexts. She reinforces these sequences of pictures and sentences with poems she has typed herself on a typewriter. In some places\, entirely by chance\, the red typewriter ribbon overlapped with the standard black one\, creating the impression of bleeding letters. The poetry Kondeliková shares with us is from the Polish poet Anna Świrszczyńska\, also known as Anna Swir\, who herself experienced war trauma\, quoting from her collection Building the Barricade. She combines Swir’s poetry with that of Semezdin Mehmedinović from his collection Sarajevo Blues\, written and published during the siege of Sarajevo. \nWhat we see reflects both peace and turmoil simultaneously. We can make of these fragments whatever we wish: their interpretation is free. For this reason\, a mirror will be put in the exhibition space\, and our reflection in them marks us not only as observers but also as agents of the coming change.  \nHelena Puhara \nElis Kondelíková ( born 27. 6. 2001.) is a photographer and visual artist\, based and studying in Ústí nad Labem\, Czech Republic. In her work\, most often through photography\, she reflects on themes such as Home\, Identity\, and the Crisis of the Individual and Society. She works with physical space as her mirror\, using digital photography (and sometimes video) to search for still lifes and moments as metaphors for her inner world or the theme she is currently processing. She often reflects the mood of texts or poems\, as seen in her latest two books\, Home is Where and Plíšková Sobě. The photographs serve as visual poems\, connected into a whole by visual and other cues\, creating a dynamic and rhythmic continuity between them. \nContact: eliska.kondelikova@seznam.cz \n@tadyelis
URL:https://planforculture.com/event/elis-kondelikova-hell-is-empty-u-galeriji-flora/
LOCATION:HDLUDU\, Šetalište kralja Zvonimira 32\, Dubrovnik
CATEGORIES:EXHIBITION
ATTACH;FMTTYPE=image/jpeg:https://planforculture.com/wp-content/uploads/2024/10/Flora-plakati_ElisK-scaled.jpg
ORGANIZER;CN="Hrvatsko%20dru%C5%A1tvo%20likovnih%20umjetnika%20Dubrovnik":MAILTO:hdludubrovnik@gmail.com
END:VEVENT
BEGIN:VEVENT
DTSTART;TZID=Europe/Zagreb:20241010T190000
DTEND;TZID=Europe/Zagreb:20241021T200000
DTSTAMP:20260420T122729
CREATED:20241004T133314Z
LAST-MODIFIED:20241004T133314Z
UID:10002612-1728586800-1729540800@planforculture.com
SUMMARY:Dorotea Dolinšek\, izložba "Disanje izvan granica"
DESCRIPTION:KONTEJNER | biro suvremene umjetničke prakse \nOdranska 1/1\, 10 000 Zagreb \n  \nDorotea Dolinšek – Disanje izvan granica \nOtvorenje izložbe: 10. listopada 2024. u 19 sati u KONTEJNER-u \n  \nProjekt Ex.A.R.U. (Exo Auxiliary Respiratory Unit / Egzo pomoćna respiratorna jedinica) uključuje staklenik s monokulturom (s biljkama širokog lista poput aglaoneme i alokazije) oko kojeg se odvija iskustvena situacija kontroliranog disanja\, nužnog za održavanje ljudskih funkcija u ekstremnim uvjetima gdje je zrak odsutan\, oskudan ili neprikladan za udisanje. U svemiru\, koji je u središtu autoričina umjetničkog interesa\, ova spekulativna situacija pojavljuje se kao imaginarni krajolik koji potiče promišljanje o preživljavanju ljudi\, koji su fiziološki određeni atmosferskim supstratom svog matičnog planeta. U ovoj imaginarnoj dramaturgiji\, staklenik je zamišljen kao jedna od mnogih jedinica ispunjenih vegetacijom optimiziranom za maksimalnu proizvodnju kisika\, opremljenih senzorima i sustavima za navodnjavanje koji iz ljudskog urina ekstrahiraju vodu i hranjive tvari za prehranu biljaka te djeluju kao sustavi za održavanje života u okruženju bez zraka. U Ex.A.R.U.-u\, disanje zraka\, koje se na Zemlji uzima zdravo za gotovo\, kroz iskustvo trenutnog gušenja postaje krajnja granica gdje posjetitelji mogu staviti masku za disanje povezanu s kupolom te na taj način doživjeti i internalizirati elementarnu nužnost\, kao i prolaznost\, tankog sloja zraka koji obavija sav život na Zemlji. \n  \nDorotea Dolinšek (SI) je umjetnica koja živi i radi u Ljubljani. Preddiplomski studij slikarstva završila je na Akademiji likovnih umjetnosti u Veneciji (IT)\, a trenutno pohađa diplomski studij na Akademiji za likovnu umjetnost i dizajn u Ljubljani\, Slovenija\, na Odsjeku za video i novomedijsku umjetnost. Od 2021.godine surađuje s Institutom Kersnikova (Galerija Kapelica). Rad Dorotee Dolinšek istražuje teme ekologije i tehnologije\, s posebnim naglaskom na ekstremna okruženja—posebice svemir\, koji stavlja u kontrast s dubokom ekološkom krizom na Zemlji. Izlagala je u zemlji i inozemstvu\, uključujući u Galeriji Kapelica\, na festivalu Ars Electronica\, u Muzeju suvremene umjetnosti u Zagrebu\, Galeriji Simulaker\, X Centru i dr. \n  \nRadno vrijeme izložbe:\npon–pet 16–20 h\nsub 11 – 15 h \nInformacije o cijenama ulaznica: kontejner.org \n 
URL:https://planforculture.com/event/dorotea-dolinsek-izlozba-disanje-izvan-granica/
LOCATION:KONTEJNER\, Odranska 1/1\, Zagreb\, 10000\, Croatia (Local Name: Hrvatska)
CATEGORIES:EXHIBITION
ATTACH;FMTTYPE=image/png:https://planforculture.com/wp-content/uploads/2024/10/KONTEJNER_Dorotea-Dolinsek.png
ORGANIZER;CN="KONTEJNER":MAILTO:kontejner@kontejner.org
END:VEVENT
BEGIN:VEVENT
DTSTART;TZID=Europe/Zagreb:20241011T190000
DTEND;TZID=Europe/Zagreb:20241018T200000
DTSTAMP:20260420T122729
CREATED:20241010T120223Z
LAST-MODIFIED:20241010T120223Z
UID:10002629-1728673200-1729281600@planforculture.com
SUMMARY:Marianna Nardini - FROM DUSK 'TILL DAWN
DESCRIPTION:NMG@PLATFORMAT\n\n11 – 18 / 09 / 2024\n\nMARIANNA NARDINI\n\nFROM DUST ‘TILL DAWN\n\n– – – – – – – – – – – – – – – – – – – – – – – – – – – – – – –\nOTVORENJE: Petak\, 11. listopada 2024. u 19:00\n– – – – – – – – – – – – – – – – – – – – – – – – – – – – – – –\n\nIzložba je otvorena za posjetitelje od ponedjeljka do petka uz prethodnu najavu na home@mavena.hr\nMKC SPLIT\n Lokacija: Zapadno stubište kod tehničkog ulazaDom mladih Split\,Ulica Slobode 28\n\n— Program se provodi u sklopu 12. Platformata\, festivala nezavisne kulture koji se održava od 8. do 12. listopada u Domu mladih.\n\n– – – – – – – – – – – – – – – – – – – – – – – – – – – – – – –\n\n\nIMPRESSUM\n\nKUSTOSICA / CURATORJelena Šimundić Bendić\n\nKUSTOSI PROGRAMA NMG / NMG CURATORIAL TEAMNatasha Kadin\,Vedran Perkov\,Jelena Šimundić Bendić\n\nPRIJEVOD / TRANSLATIONJelena Šimundić Bendić\n\nDOKUMENTACIJA / DOCUMENTATIONVanessa Barač\n\nPOSTAV / SETUPJelena Šimundić BendićMarianna Nardini\n\nTEHNIČKI POSTAV / TECHNICAL SETUPMarin Renić\n\nDONATORI / DONORSMinistarstvo kulture i medija RH\, Grad Split\n\nMAVENU PODRŽAVA / MAVENA IS SUPPORTED BYZaklada Kultura nova\n\nZAHVALE / SPECIAL MENTIONKUM\, MKC\, PDM\n\nDIZAJN / DESIGNNikola Križanac\n\n– – – – – – – – – – – – – – – – – – – – – – – – – – – – – – –\n\nBIOGRAFIJA\nMarianna Nardini (1994\, Italija) interdisciplinarna je umjetnica koja se aktivno bavi performansom\, videom i zvučnim instalacijama. Diplomirala je na Akademiji likovnih umjetnosti u Zagrebu. U svom radu prakticira istraživački\, interdisciplinarni\, novomedijski pristup ontološkim\, metafizičkim i drugim rubnim i grotesknim temama. Izlagala je na više grupnih i samostalnih izložbi od kojih se ističu Edipova koža\, Galerija Matice Hrvatske\, Zagreb\, 2021.; Spasmus Humanus\, Garaža Kamba\, Zagreb\, 2021.; Ukiseljene bajke – unutar kapka\, ispod sna s Mirjanom Vodopija\, LEXART Zagreb\, 2022.; Don’t kill the grasshopper\, Apoteka\, Vodnjan\, 2022. Tijekom 2022. bila je rezidentica na eksperimentalno-rezidencijalnom programu Dnevna soba koji organizira kustoski kolektiv KUĆĆA.
URL:https://planforculture.com/event/marianna-nardini-from-dusk-till-dawn/
LOCATION:Dom mladih Split\, Ulica Slobode 28\, Split\, -\, 21000\, Croatia (Local Name: Hrvatska)
CATEGORIES:PERFORMANCE
ATTACH;FMTTYPE=image/jpeg:https://planforculture.com/wp-content/uploads/2024/10/instagram_2.jpg
ORGANIZER;CN="MAVENA%20-%2036%20njezinih%20%C4%8Duda":MAILTO:home@mavena.hr
END:VEVENT
BEGIN:VEVENT
DTSTART;TZID=Europe/Zagreb:20241015T080000
DTEND;TZID=Europe/Zagreb:20241029T210000
DTSTAMP:20260420T122729
CREATED:20240627T070817Z
LAST-MODIFIED:20240627T070817Z
UID:10002337-1728979200-1730235600@planforculture.com
SUMMARY:Izložba „Marko Antun de Dominis – pogled u novo doba“
DESCRIPTION:Upoznajte se sa životom i radom hrvatskoga teologa te jednoga od najvećih filozofa i znanstvenika svojega vremena koji je uživao ugled u najelitnijim krugovima onodobne Europe i čije nasljeđe prelazi granice naše nacionalne baštine. \nU povodu 130. obljetnice obilježavanja osnutka Zbirke rukopisa i starih knjiga NSK te 400. obljetnice smrti svestranoga učenjaka Marka Antuna de Dominisa\, od 15. do 29. listopada 2024. godine Knjižnica u suradnji s Hrvatskom akademijom znanosti i umjetnosti\, Papinskim zavodom sv. Jeronima u Rimu i projektom Upoznajmo hrvatsku znanstvenu baštinu organizira izložbu Marko Antun de Dominis – pogled u novo doba. \nMeđu znamenitim hrvatskim humanistima Marko Antun de Dominis (Rab\, 1560. — Rim\, 8. 9. 1624.) ističe se ne samo raznolikim opusom već i specifičnim životnim putem tijekom kojega je dosegnuo visoke službe u diplomatskoj\, političkoj i crkvenoj hijerarhiji. Bio je pripadnikom europske intelektualne elite svojega doba\, a izložba donosi uvid u njegov bogat i zanimljiv životni put. \nAutorica je izložbe viša znanstvena suradnica u Odsjeku za povijest prirodnih i matematičkih znanosti Hrvatske akademije znanosti i umjetnosti dr. sc. Marijana Borić.
URL:https://planforculture.com/event/izlozba-marko-antun-de-dominis-pogled-u-novo-doba/
LOCATION:Nacionalna i sveučilišna knjižnica u Zagrebu\, Ulica Hrvatske bratske zajednice 4\, Zagreb\, 10000\, Croatia (Local Name: Hrvatska)
CATEGORIES:EXHIBITION
ATTACH;FMTTYPE=image/png:https://planforculture.com/wp-content/uploads/2024/06/De-Dominis.png
END:VEVENT
BEGIN:VEVENT
DTSTART;TZID=Europe/Zagreb:20241015T200000
DTEND;TZID=Europe/Zagreb:20241015T214500
DTSTAMP:20260420T122729
CREATED:20241003T103214Z
LAST-MODIFIED:20241003T103214Z
UID:10002574-1729022400-1729028700@planforculture.com
SUMMARY:Z/K/M/: EUFORIJA
DESCRIPTION:Autorski projekt Ksenije Zec
URL:https://planforculture.com/event/z-k-m-euforija/
LOCATION:Zagrebačko kazalište mladih\, Teslina 7\, Zagreb\, grad Zagreb\, 10000\, Croatia (Local Name: Hrvatska)
CATEGORIES:THEATER
ATTACH;FMTTYPE=image/jpeg:https://planforculture.com/wp-content/uploads/2024/10/ZKM-Euforija10.jpg
ORGANIZER;CN="Zagreba%C4%8Dko%20kazali%C5%A1te%20mladih":MAILTO:info@zekaem.hr
END:VEVENT
END:VCALENDAR