BEGIN:VCALENDAR
VERSION:2.0
PRODID:-//PLAN FOR CULTURE - ECPv6.0.6//NONSGML v1.0//EN
CALSCALE:GREGORIAN
METHOD:PUBLISH
X-WR-CALNAME:PLAN FOR CULTURE
X-ORIGINAL-URL:https://planforculture.com
X-WR-CALDESC:Events for PLAN FOR CULTURE
REFRESH-INTERVAL;VALUE=DURATION:PT1H
X-Robots-Tag:noindex
X-PUBLISHED-TTL:PT1H
BEGIN:VTIMEZONE
TZID:Europe/Zagreb
BEGIN:DAYLIGHT
TZOFFSETFROM:+0100
TZOFFSETTO:+0200
TZNAME:CEST
DTSTART:20240331T010000
END:DAYLIGHT
BEGIN:STANDARD
TZOFFSETFROM:+0200
TZOFFSETTO:+0100
TZNAME:CET
DTSTART:20241027T010000
END:STANDARD
BEGIN:DAYLIGHT
TZOFFSETFROM:+0100
TZOFFSETTO:+0200
TZNAME:CEST
DTSTART:20250330T010000
END:DAYLIGHT
BEGIN:STANDARD
TZOFFSETFROM:+0200
TZOFFSETTO:+0100
TZNAME:CET
DTSTART:20251026T010000
END:STANDARD
END:VTIMEZONE
BEGIN:VEVENT
DTSTART;TZID=Europe/Zagreb:20240901T173000
DTEND;TZID=Europe/Zagreb:20241201T200000
DTSTAMP:20260422T175010
CREATED:20240725T102009Z
LAST-MODIFIED:20240725T102252Z
UID:10002465-1725211800-1733083200@planforculture.com
SUMMARY:Urania: Kreativna Ura i Održiva Ura
DESCRIPTION:Urania – prostor kreacije najavljuje jesensku sezonu događanja: Kreativna Ura i Održiva Ura. \nPridružite nam se ove jeseni u Uraniji na inspirativnim događanjima koja slave kreativnost\, održivost i zajedništvo. Urania – prostor kreacije s ponosom najavljuje jesensku sezonu događanja koja uključuju serije Kreativna Ura i Održiva Ura. Ova jedinstvena događanja okupljaju stručnjake\, entuzijaste i ljubitelje umjetnosti\, dizajna\, arhitekture i održivosti kako bi zajedno stvarali\, učili i inspirirali se. \nKroz niz radionica\, predavanja i panel diskusija koje će obuhvatiti različite aspekte kreativnih industrija\, uključujući dizajn\, umjetnost\, književnost\, glazbu i film\, te arhitekturu i održivost\, Urania namjerava potaknuti inovativno razmišljanje i promicati ekološki prihvatljive prakse u svakodnevnim i profesionalnim djelatnostima.  \nViše informacija možete pronaći ovdje.
URL:https://planforculture.com/event/urania-kreativna-ura-i-odrziva-ura/
LOCATION:Urania\, Trg E. Kvaternika 3/3\, 10000 Zagreb\, Trg E. Kvaternika 3/3\, Zagreb\, 10000\, Croatia (Local Name: Hrvatska)
CATEGORIES:LECTURE
ATTACH;FMTTYPE=image/gif:https://planforculture.com/wp-content/uploads/2024/07/Urania_Newsletter_Jesen.gif
ORGANIZER;CN="Urania":MAILTO:urania@urania.hr
END:VEVENT
BEGIN:VEVENT
DTSTART;TZID=Europe/Zagreb:20241022T190000
DTEND;TZID=Europe/Zagreb:20241115T200000
DTSTAMP:20260422T175010
CREATED:20241017T074347Z
LAST-MODIFIED:20241017T074347Z
UID:10002636-1729623600-1731700800@planforculture.com
SUMMARY:Jessica Gobert: Crtanje izostavljanjem
DESCRIPTION:“Crtanje izostavljanjem” je prikaz ilustracija Jessice Gobert prema tekstu Rujane Jeger\, izvatku iz njezinog romana Darkroom\, objavljenog od strane izdavača Knjiga u Centru u sklopu zbirke Vrata u Podrum. Ova slikovnica za odrasle pod nazivom Raspelo govori o trenutku odrastanja dječaka koji otkriva svoju seksualnost u specifičnom kontekstu Jugoslavije 1980-ih\, miješajući religiju\, komunizam i kulturnu pozadinu. \nTekst je vrlo izravan i grafičan\, pa su vizuali trebali nadopuniti narativ umjesto da ga samo ponavljaju. Ilustracije nastoje imati mekoću\, nježnu kvalitetu koja prikazuje ranjivost našeg protagonista i nesigurnosti koje dolaze u tom životnom razdoblju. \nU vizualiziranje društvenog i političkog konteksta uloženo je puno istraživanja\, budući da je ilustratorica francuskinja\, a Jugoslavija 1980-ih bila joj je nepoznata. Svaki je detalj temeljen na dokumentaciji i arhivskim slikama\, poput tapeta\, postera\, Dinamovih suvenira\, Kraševih limenki i tradicionalne čipke iznad televizora. Prisutan je i generacijski jaz između religioznih baka i komunističkih roditelja. Dekoracija je zamišljena da odražava te generacijske razlike i mentalitet. Pažnja na detalje ide sve do omota pornografskih časopisa\, koji su svi iz tog razdoblja. \nCilj ilustracija bio je sakriti ono što je rečeno u tekstu. Postoji gotovo svetogrdni aspekt u priznanju glavnog lika svojim prijateljima. S gledišta ljudi oko njega\, njegovo seksualno buđenje nešto je što treba sakriti od društva. Dodajući tome religiozni simbol raspela\, činilo se da je najlogičniji odgovor na tekst prikazati samo ono što bismo trebali vidjeti. Sram koji mladi lik osjeća naglašen je odsustvom određenih elemenata. \nVrlo je malo religijskih elemenata u knjizi\, raspelo je sveprisutno kroz cijeli narativ i već je “prikazano” na svoj način. Religiozne konotacije dolaze kroz trokutaste kompozicije\, imitirajući velike religijske slike poput Rubensova Podizanja križa i Botticellijeve Apellove klevete. \nSeksualni aspekt prisutan je s pornografskim časopisima\, koji naizgled predstavljaju protagonistove želje\, ali ne i ono što on zapravo želi\, a što je skriveno iza vrata kupaonice. \nIlustratorica je izabrala da se ovaj tekst ilustrira izostavljanjem ključnih elemenata i privlačenjem oka na odsutnost te stvaranjem kontrasta s tekstom kako bi se reflektirali sram i tajnovitost koje naš protagonist osjeća. Tekst je ispričan iz perspektive odrasle osobe koja se osjeća sigurnom\, koja je prihvatila i razumjela tko je. Vizuali reflektiraju njegovo mlado ja\, koje je u nemiru i skrivanju.
URL:https://planforculture.com/event/jessica-gobert-crtanje-izostavljanjem/
LOCATION:Knjižnica Marije Jurić Zagorke\, Krvavi most 2\, Zagreb\, Croatia (Local Name: Hrvatska)
CATEGORIES:EXHIBITION
ATTACH;FMTTYPE=image/jpeg:https://planforculture.com/wp-content/uploads/2024/10/Jessica-slika.jpg
ORGANIZER;CN="Knji%C5%BEnica%20Marije%20Juri%C4%87%20Zagorke":MAILTO:knjiznica.m.j.zagorke@kgz.hr
END:VEVENT
BEGIN:VEVENT
DTSTART;TZID=Europe/Zagreb:20241105T080000
DTEND;TZID=Europe/Zagreb:20241122T210000
DTSTAMP:20260422T175010
CREATED:20240627T070935Z
LAST-MODIFIED:20240627T070935Z
UID:10002338-1730793600-1732309200@planforculture.com
SUMMARY:Izložba „Dragi Lastane!“
DESCRIPTION:U povodu 70. obljetnice izlaženja Modre laste\, u mjesecu studenom donosimo izložbu o ovome čuvenom časopisu\, jednom od najdugovječnijih u Hrvatskoj\, uz kojeg su stasale generacije hrvatskih učenika. \nU suradnji s Hrvatskim školskim muzejom\, Hrvatskom udrugom školskih knjižničara i nakladničkom kućom Školska knjiga\, organiziramo izložbu „Dragi Lastane!“ koja će se u prostoru Knjižnice moći pogledati od 5. do 22. studenoga ove godine. \nU fondu Nacionalne i sveučilišne knjižnice u Zagrebu pohranjena su sva izdanja Modre laste\, časopisa koji je oblikovao naraštaje mladih. Na izložbi Dragi Lastane! prisjetit ćemo se tih izdanja te uz primjerke iz fonda NSK\, izložbene panoe\, dokumentarni film Irene Škorić i druge interaktivne sadržaje\, prezentirati nastanak i razvoj časopisa u koji je utkano znanje brojnih stručnjaka iz različitih područja djelovanja. \nU sklopu izložbe 20. studenoga od 10 do 14 sati održat će se i stručni skup o značaju ovoga časopisa za djecu i mlade u odgoju i obrazovanju namijenjen školskim knjižničarima i učiteljima predmetne nastave\, a tijekom trajanja izložbe bit će organizirane i radionice za učenike osnovnoškolskoga uzrasta. \nIzložba se organizira uz financijsku podršku Ministarstva kulture i medija Republike Hrvatske.
URL:https://planforculture.com/event/izlozba-dragi-lastane/
LOCATION:Nacionalna i sveučilišna knjižnica u Zagrebu\, Ulica Hrvatske bratske zajednice 4\, Zagreb\, 10000\, Croatia (Local Name: Hrvatska)
CATEGORIES:EXHIBITION
ATTACH;FMTTYPE=image/png:https://planforculture.com/wp-content/uploads/2024/06/Lastan_istaknuta-slika.png
END:VEVENT
BEGIN:VEVENT
DTSTART;TZID=Europe/Zagreb:20241105T080000
DTEND;TZID=Europe/Zagreb:20250610T170000
DTSTAMP:20260422T175010
CREATED:20241024T093913Z
LAST-MODIFIED:20241024T093913Z
UID:10002672-1730793600-1749574800@planforculture.com
SUMMARY:STRIP LAB škola stripa - ART ZA KVART
DESCRIPTION:Hrvatski školski muzej predstavlja projekt ART ZA KVART kojim uvodi nove radionice za velike i male! Radionice će se održavati utorkom\, četvrtkom i subotom tijekom školske godine 2024./2025.\, a polaznicima će nuditi mogućnosti kreativnog razvoja i izražavanja kroz zanimljive i raznolike teme radionica kao i tehnike koje će se na radionicama koristiti. \nRadionice namijenjene mladima  – STRIP LAB – škola stripa \nHrvatski školski muzej u suradnji sa Zdenkom Mikšom\, mag. educ .art.\, u projektu ART ZA KVART\, organizira školu stripa „Strip lab“ namijenjenu djeci od 10 do 14 godina. Škola stripa provodi se tijekom školske godine 2024./2025. kroz 28 radionica koje su osmišljene za djecu koja žele istražiti fascinantan svijet stripa. Program započinje uvodom u povijest stripa\, gdje se polaznici upoznaju sa stripovima i autorima koji su oblikovali ovaj medij. Kroz interaktivna predavanja i analizu poznatih stripova\, djeca će razviti dublje razumijevanje o evoluciji i raznolikosti stripovskih žanrova. Polaznici će imati priliku upoznati se s ikoničnim i suvremenim stripovima\, raznolikim žanrovima i stilovima te osnovama pripovijedanja i crtanja. Kroz praktične vježbe\, djeca će razvijati svoju kreativnost te crtačke vještine. Radionica će također omogućiti djeci da razviju vlastite likove i priče te stvore i ilustriraju svoje unikatne stripove. Završetkom programa organizirat će se izložba radova polaznika uz dodjelu diploma. \n  \n 
URL:https://planforculture.com/event/strip-lab-skola-stripa-art-za-kvart/
LOCATION:ZAGREB
CATEGORIES:WORKSHOP
ATTACH;FMTTYPE=image/jpeg:https://planforculture.com/wp-content/uploads/2024/10/STRIP-LAB-skola-stripa-_-ART-ZA-KVART.jpg
ORGANIZER;CN="Hrvatski%20%C5%A1kolski%20muzej%2C%20galerija%20%22%C5%A0kolica%20za%205%22":MAILTO:hsm@hsmuzej.hr
END:VEVENT
BEGIN:VEVENT
DTSTART;TZID=Europe/Zagreb:20241105T190000
DTEND;TZID=Europe/Zagreb:20241109T130000
DTSTAMP:20260422T175010
CREATED:20240724T133709Z
LAST-MODIFIED:20241031T105537Z
UID:10002463-1730833200-1731157200@planforculture.com
SUMMARY:Boris Bedrač - ENERGETSKI SOFTVERI 
DESCRIPTION:Izložba „Energetski softveri“ predstavlja višegodišnje istraživanje posvećeno proučavanju vizualnih i energetskih kodova. Ova izložba istražuje lingvistiku vizualno energetskog  jezika\, pokušavajući razumjeti ne samo njegovu strukturu\, već i utjecaj koji ima na čovjeka i prostor oko nas.\n\nBoris Bedrač akademski slikar diplomirao 1994. godine u klasi Đure Sedera. Izlagao je na samostalnim i grupnim izložbama. Otvorenje izložbe je u utorak\, 5.11. s početkom u 19 sati.\n\nIzložba će se moći pogledati od 5. do 10. studenog.\n\nRadno vrijeme Orisa: pon – pet (9 do 19h)\n\nSubota: 10 – 13h\n\nVidimo se u Orisu!
URL:https://planforculture.com/event/boris-bedrac/
CATEGORIES:EXHIBITION
ATTACH;FMTTYPE=image/jpeg:https://planforculture.com/wp-content/uploads/2024/07/viz1080x1080.jpg
END:VEVENT
BEGIN:VEVENT
DTSTART;VALUE=DATE:20241106
DTEND;VALUE=DATE:20241110
DTSTAMP:20260422T175010
CREATED:20241104T154434Z
LAST-MODIFIED:20241104T183212Z
UID:10002714-1730851200-1731196799@planforculture.com
SUMMARY:ISPOD BINE sound art festival
DESCRIPTION:Deveti ISPOD BINE\, sound art festival\, od 6. do 9. studenog u Domu mladih u Splitu\, predstavlja međunarodna gostovanja i nove suradnje umjetnika zvuka; rezidencije\, radionice\, izložbe i izvedbe \n\n\n\n\n\n\n\n\n  \nSplitski Dom mladih ponovno postaje središte suvremene zvukovne umjetnosti kroz deveto izdanje sound art festivala ISPOD BINE\, koji će se održati od 6. do 9. studenog. Ovaj renomirani festival nastavlja promicati inovativne umjetničke prakse\, okupljajući umjetnike iz cijelog svijeta\, te donosi bogat program koji uključuje svjetske premijere\, rezidencije\, radionice\, izložbe i izvedbe. \nFestival započinje 6. studenog u 20 sati otvaranjem instalacije Tonija Meštrovića pod nazivom Odzvuk od zvuka (amfiteatri)\, 14-kanalnom prostorno-zvučnom instalacijom koja će se protezati kroz mali i veliki amfiteatar Doma mladih\, moći će se razgledati svaki dan do završetka festivala\, te poziva na interakciju ostale sudionike festivala i publiku. Monumentalni prostor amfiteatara svojim akustičkim specifičnostima\, postaje rezonantni instrument unutar kojeg se realizira ovaj zvučni rad\, koji kroz feedback sa svih audio izvora doživljava softverske manipulacije i distribucije unutar sustava. Prvog dana festivala u 22 sata slijedi nastup Valeria Tricolija u prostoru po kojem je festival i dobio ime\, ispod bine\, s radom For Old Times Sake. Globalno poznati i vrlo aktivni sound art umjetnik porijeklom sa Sicilije\, Tricoli\, koristi legendarni analogni uređaj Nagra 4.2\, kombinira njegove uzorke i manipulaciju zvuka u stvarnom vremenu\, stvarajući hibridne analogno-digitalne zvučne pejzaže. \nDrugog dana\, 7. studenog\, program festivala započinje otvaranjem audio-vizualne instalacije Sudden Amplitude Roba Mazureka\, svjetski poznatog umjetnika koji spaja eksperimentalni jazz\, elektroniku i vizualnu umjetnost\, nazivajući se “apstraktivistom”. Mazurek kroz svoj sada već dugogodišnji interdisciplinarni rad u raznim djelovima svijeta\, istražuje apstraktne forme kroz zvuk i sliku\, stvarajući složena multimedijalna djela koja nadilaze žanrovske granice. Njegovi radovi\, u kojima se zvuk\, svjetlost i prostor prepliću\, otvaraju nove dimenzije percepcije\, a njegov doprinos ovogodišnjem festivalu nadilazi samo glazbu\, pružajući cjelovito senzorno iskustvo kroz ovu instalaciju-izložbu\, koja će se također moći pogledati do kraja festivala. Iste večeri\, na glavnoj festivalskoj pozornici\, nastupaju Tinymental\, duo Bojana Krhlanka i Pavla Jovanovića\, s elektroakustičkom “komprovizacijom” Inner Disposition\, koja je nastala prošle godine u produkciji organizacije Kontejner\, nakon čega slijedi eksperimentalna audiovizualna izvedba Pitch Shifting autora Grgura Savića\, Sanje Star i Richarda Scotta\, koja spaja improvizaciju uživo\, elektroniku i video umjetnost. \nU petak\, 8. studenog\, na scenu stupa slovenski trio Svojat (Andrej Fon\, Ivo Poderžaj i Vid Drašler)\, koji kroz improvizaciju i eksperimentiranje s bogatim zvučnim teksturama donosi svjež i nekonvencionalan zvuk. Iste večeri premijerno će biti izveden projekt Roj Osa meets Rob Mazurek\, nastao na rezidenciji u sklopu ISPOD BINE festivala u Splitu. Roj Osa\, relativno novi bend Nenada Sinkauza\, Alena Sinkauza i Marca Quarantotta\, koji je s prvim albumom Azbestni krovovi (2023.) izazvao veliki interes publike i kritike\, imali priliku čuti uživo lani\, a ove godine na ISPOD BINE festivalu udružuje snage s multidisciplinarnim umjetnikom Robom Mazurekom\, stvarajući jedinstvenu zvukovnu avanturu kroz rezidenciju u Splitu\, koja će kulminirati premijernim nastupom 8. studenog. Producent ove vrhunske umjetničke suradnje i mini turneje je Umjetnička organizacija P137\, uz koprodukciju udruge Mavena i festivala ISPOD BINE\, a izvedbe će se održati i u Puli i Zagrebu\, kao najava 11. izdanja NO Jazz festivala. \n\n\n\n\n\n\n\n\nPosljednji dan ovogodišnjeg festivala\, 9. studenog\, započinje DJ radionicom koju vode DJ-evi iz beogradskog kolektiva SUTRA. U večernjim satima\, premijerno će nastupiti novi bend iz splitskog underground-a\, 65Bandits (Joško Žižić\, Eugen Jeličić i Lana Beović)\, a nakon njih dugoročni noise jazz duo Brio\, koji kao projekt braće Gordana i Nevena Krajačića postoji još od 90-tih\, svjesno se zadržavajući na margini ‘domaće underground scene’\, baveći se nužnim istraživanjem granica kompozicije i improvizacije\, zvuka i tišine\, buke i muzike. Festival završava u klubu Kocka live actom Jeronima Jandrića\, studenta UMAS-a te predstavljanjem beogradske eksperimentalne elektronske scene kroz nastup DJ-eva iz kolektiva SUTRA (UBICA\, Bucalo\, SAUD). \nOsim izložbi i izvedbi\, festival nudi i “sneek-peak” u rezidencijalni program od 3. do 8. studenog u Beton Kinu\, gdje se može pratiti razvoj suradnje između benda ROJ OSA i ROB MAZUREKA\, DJ radionicu\, kao i već poznati glazbeni intermezzo u lobiju između nastupa koji već godinama pažljivo bira Igor Stangliczky\, koji je autor i ovogodišnjeg vizualnog identiteta festivala\, a ove godine nam se\, kao kreator svjetla cijelog festivala\, autorski pridružuje Izvanredni Bob. \nISPOD BINE nije samo festival\, već je godinama izrastao u platformu koja omogućava umjetnicima i publici da zajedno istraže nove dimenzije zvuka kroz suvremene hibridne\, eksperimentalne\, interdisciplinarne i participative forme. Uz bogat i raznolik program\, međunarodne suradnje\, umjetničke rezidencije i interaktivne radionice\, festival nadilazi granice današnjeg poimanja umjetnosti\, te gleda u budućnost otvarajući prostore za inovacije i eksperiment. \nISPOD BINE 2024 nastavlja istraživati i redefinirati mogućnosti sound arta\, stvarajući inovativnu platformu za dijalog umjetnika i publike u srcu Splita. Ovogodišnji program donosi ne samo zvučne eksperimente\, već i niz interdisciplinarnih suradnji koje otvaraju nova poglavlja u svijetu umjetnosti zvuka. Split se tako i ove godine potvrđuje kao ključna točka na karti europskog sound arta\, okupljajući umjetnike i entuzijaste iz cijelog svijeta u kreativnom središtu Doma mladih. \nOsnivači i voditelji festivala su producentica i kustosica Natasha Kadin i oblikovatelj zvuka i medijski umjetnik Hrvoje Pelicarić\, već godinama uz svestranu pomoć multidisciplinarnog umjetnika Igora Stangliczkog i tehničkog realizatora Eugena Jeličića\, a ove godine im se\, u raznim\, često hibridnim ulogama u produkciji festivala\, pridružuju Izvanredni Bob\, Andrea Miloš\, Marin Renić\, Jelena Šimundić Bendić i Doris Zalović. \nOrganizator i producent festivala je udruga MAVENA – 36 njezinih čuda\, partneri ovogodišnjeg ISPOD BINE festivala su organizacije Kontejner\, P137\, Platforma Doma mladih\, Koalicija udruga mladih i ustanova Multimedijalni kulturni centar Split\, a program se provodi uz financijsku potporu Ministarstva kulture i medija\, Grada Splita\, Grada Pula\, Grada Zagreba i Zaklade Kultura nova. \n  \nPress IB to continue_ \n\n\n\n\n\n\n\n\n  \n6/11 20h — Amfiteatri — TONI MEŠTROVIĆ: Odzvuk od zvuka (amfiteatri)\, otvorenje\n6/11 22h — Ispod Bine — VALERIO TRICOLI: For Old Times Sake\, per Nagra 4.2 (mono) e campionatore \n7/11 20h — Galerija MKC — ROB MAZUREK: Radical Chimeras\, otvorenje\n7/11 21h — Ispod Bine — TINYMENTAL / Bojan Krhlanko\, Pavle Jovanović /: Inner Disposition 7/11 22h — Ispod Bine — PITCH SHIFTING / Grgur Savić\, Sanja Star\, Richard Scott / \n8/11 20h — Ispod Bine — SVOJAT / Andrej Fon\, Ivo Poderžaj\, Vid Drašler / 8/11 22h — Ispod Bine — ROJ OSA meets ROB MAZUREK\, premijera \n9/11 18-20h — Kocka — SUTRA kolektiv – DJ radionica\n9/11 20h — Ispod Bine — 65Bandits / Joško Žižić\, Eugen Jeličić\, Lana Beović /: Angry Birds\n9/11 21h — Ispod Bine — BRIO / Gordan & Neven Krajačić /\n9/11 23h — Klub Kocka — Jeronim Jandrić\, live act \n— SUTRA meets ISPOD BINE / UBICA\, Bucalo\, SAUD /  3 – 8 / 11 — Beton Kino \n— ROJ OSA meets ROB MAZUREK – rezidencija / 6 – 9 / 11 \n— AV Lobi — INCREDIBLE BOB & IGOR STANGLICZKY \n  \nPress linktr.ee/ispodbine to continue_
URL:https://planforculture.com/event/ispod-bine-sound-art-festival/
LOCATION:Dom mladih Split\, Ulica Slobode 28\, Split\, -\, 21000\, Croatia (Local Name: Hrvatska)
CATEGORIES:CONCERT
ATTACH;FMTTYPE=image/jpeg:https://planforculture.com/wp-content/uploads/2024/11/IB_FB_EV_02.jpg
ORGANIZER;CN="MAVENA%20-%2036%20njezinih%20%C4%8Duda":MAILTO:home@mavena.hr
END:VEVENT
BEGIN:VEVENT
DTSTART;TZID=Europe/Zagreb:20241107T183000
DTEND;TZID=Europe/Zagreb:20241109T150000
DTSTAMP:20260422T175010
CREATED:20241030T132027Z
LAST-MODIFIED:20241030T132027Z
UID:10002706-1731004200-1731164400@planforculture.com
SUMMARY:EXPOSIUM
DESCRIPTION:“Exposium” je hibridni višednevni program koji uključuje prezentacije kreativnih istraživanja\, procesa\, eksperimenata i metodologija-u-nastajanju u različitim formatima. U trodnevnom programu “Exposiuma”\, u susretu s publikom\, neposrednim okolišem\, neljudskim i više-no-ljudskim bićima\, pojavama i anomalijama pokušat ćemo domisliti kako iz sada-i-ovdje\, obilježenog višestrukim i uzastopnim krizama koje nam ne pružaju puno razloga za optimizam\, misliti bolje tada-i-tamo.
URL:https://planforculture.com/event/exposium/
LOCATION:Pogon Jedinstvo\, Trnjanska struga 34\, Zagreb\, 10 000\, Croatia (Local Name: Hrvatska)
CATEGORIES:EXHIBITION,OTHER,PERFORMANCE
ATTACH;FMTTYPE=image/jpeg:https://planforculture.com/wp-content/uploads/2024/10/Exposium_vizual-Maja-Maar.jpg
END:VEVENT
BEGIN:VEVENT
DTSTART;TZID=Europe/Zagreb:20241107T190000
DTEND;TZID=Europe/Zagreb:20241124T150000
DTSTAMP:20260422T175010
CREATED:20241104T125452Z
LAST-MODIFIED:20241104T125452Z
UID:10002713-1731006000-1732460400@planforculture.com
SUMMARY:Ralf Baecker\, izložba "Lebdeći kodovi"
DESCRIPTION:KONTEJNER | biro suvremene umjetničke prakse\, Odranska 1/1\, Zagreb \nIzložba Ralfa Baeckera “Lebdeći kodovi”\, 07.11. – 24.11.2024. \nInstalacija “Lebdeći kodovi” Ralfa Baeckera vizualizira nevidljive računalne procese prevođenjem algoritama u fizičke\, dinamične oblike. Kombinirajući mehaničke i digitalne elemente\, Baeckerovo djelo istražuje opipljivo sjecište između ljudske percepcije i apstraktne prirode koda\, otkrivajući tako skrivene slojeve strojne logike. \nOtvorenje izložbe i razgovor s umjetnikom održat će se 7. studenog 2024.\, u 19 sati. \nViše informacija na: www.kontejner.org \n  \n 
URL:https://planforculture.com/event/ralf-baecker-izlozba-lebdeci-kodovi/
LOCATION:KONTEJNER\, Odranska 1/1\, Zagreb\, 10000\, Croatia (Local Name: Hrvatska)
CATEGORIES:EXHIBITION
ATTACH;FMTTYPE=image/png:https://planforculture.com/wp-content/uploads/2024/11/kontejner_ralf-baecker_fb-event-1.png
ORGANIZER;CN="KONTEJNER":MAILTO:kontejner@kontejner.org
END:VEVENT
BEGIN:VEVENT
DTSTART;VALUE=DATE:20241108
DTEND;VALUE=DATE:20241129
DTSTAMP:20260422T175010
CREATED:20240927T072812Z
LAST-MODIFIED:20241213T101101Z
UID:10002548-1731024000-1732838399@planforculture.com
SUMMARY:Želimir Fišić\, otvorenje izložbe
DESCRIPTION:Galerija Događanja\, Ivanićgradska 41 A Zagreb
URL:https://planforculture.com/event/zelimir-fisic-otvorenje-izlozbe/
LOCATION:Galerija Događanja\, Ivanićgradska 41 A\, Zagreb\, 10000\, Croatia (Local Name: Hrvatska)
CATEGORIES:EXHIBITION
ATTACH;FMTTYPE=image/jpeg:https://planforculture.com/wp-content/uploads/2024/09/GD-plakat-Zelimir-Fisic-A3-web-2-scaled.jpg
ORGANIZER;CN="Galerija%20Doga%C4%91anja":MAILTO:galerija@knap.hr
END:VEVENT
BEGIN:VEVENT
DTSTART;TZID=Europe/Zagreb:20241108T190000
DTEND;TZID=Europe/Zagreb:20241108T201500
DTSTAMP:20260422T175010
CREATED:20241022T155619Z
LAST-MODIFIED:20241022T155757Z
UID:10002647-1731092400-1731096900@planforculture.com
SUMMARY:Studio EXIT: MASKE
DESCRIPTION:Autorski tim: \n\nAutor\, redatelj i izvođač: Dražen Šivak\nDramaturgija: Patrik Gregurec\, Karla Leko\nProdukcija: Kazalište Grupa u koprodukciji s Dubrovačkim ljetnim igrama i u suradnji sa Scenom Ribnjak i Teatrom EXIT \n\n\n\n\nO predstavi: \nPredstava MASKE oživljavanje je tradicije commedije dell’arte i njezino približavanje široj publici. U formi predavanja\, glumac na sceni objašnjava značenje maski i arhetipove koji su predstavljeni u tehnici commedije dell’arte. Putujući kroz klasičnu dramsku književnost Hrvatske i svijeta (Držić\, Shakespeare\, Moliere\, itd.)\, gledatelji povezuju arhetipske priče o ljudskim odnosima te stvaraju paralele s karakterima naših suvremenika. \nPredstavi je 2024. godine na 34. Festivalu hrvatske drame Marulićevi dani dodijeljena Nagrada publike za najbolju predstavu (prosječna ocjena: 4\,89)\, a Karla Leko i Patrik Gregurec dobili su Marula za dramaturgiju predstave.
URL:https://planforculture.com/event/studio-exit-maske/
LOCATION:Studio EXIT\, Gundulićeva 37/1\, Zagreb\, 10000
CATEGORIES:LECTURE,THEATER
ATTACH;FMTTYPE=image/jpeg:https://planforculture.com/wp-content/uploads/2024/10/6-min.jpg
ORGANIZER;CN="Teatar%20EXIT":MAILTO:exit@teatarexit.hr
END:VEVENT
BEGIN:VEVENT
DTSTART;TZID=Europe/Zagreb:20241108T200000
DTEND;TZID=Europe/Zagreb:20241108T211000
DTSTAMP:20260422T175010
CREATED:20241001T123849Z
LAST-MODIFIED:20241001T123849Z
UID:10002554-1731096000-1731100200@planforculture.com
SUMMARY:GSK Kerempuh: PLJUSKA
DESCRIPTION:Autor teksta: Nenad Stazić\nRedatelj i autor adaptacije: Željko Königsknecht \nOvaj je tekst prije svega urnebesna komedija koja pruža glumački poligon za ostvarenje sočnih i kreativno neodoljivih uloga. Ove će se sezone izvesti u svojem osuvremenjenom ruhu\, u adaptaciji Nenada Stazića i Željka Königsknechta\, koji su snažna mjesta ovog djela otvorili prema što boljoj komunikaciji s našim vremenom i prostorom u kojem će se izvesti. Kao loptica koja nabuja u smrtonosnu lavinu ili zamah leptirovih krila koji uzrokuje tsunami\, ova priča pokazuje i dokazuje u kakvim se dimenzijama i s kakvim posljedicama može razmahati jedan banalni pravopisni nesporazum. Kako su jezik i govor u samim temeljima svake države te su neposredni odraz njezine snage i moći\, nije nikakvo čudo da s pravopisa u kratkom roku\, stižemo do samog političkog vrha u kojem se ismijavaju apsurdi i žilavosti zastarjelog državničkog aparata. \nŽeljko Königsknecht\, nakon dugih 40 godina rada u matičnom kazalištu\, u koje je došao na poziv osnivača i jednog od naših najvećih komediografa Fadila Hadžića\, nakon svih odigranih uloga u tome istome “Jazavcu˝\, odnosno\, ˝Kerempuhu˝\, odlučuje se napraviti remake legendarne predstave “Pljuska” za koju kaže da mu je ostala u sjećanju kao jedna od najdražih u karijeri. \nScenografkinja: Marta Crnobrnja\nKostimografkinja: Vedrana Rapić\nAutor glazbe: Matija Antolić\nOblikovateljica svjetla: Dubravka Kurobasa\nAsistent redatelja: Darko Stazić\nAutor video materijala: Mak Vejzović\nInspicijentica: Mirela Tihava \nIgraju: \nPrvi referent – Željko Königsknecht\nDrugi referent – Luka Petrušić\nŠef – Damir Poljičak\nMinistar – Dražen Čuček\nPotpredsjednica – Elizabeta Kukić \n  \nPopusti na grupne posjete (10 i više osoba) \nProdaja na tel. 01/4833 645\, 01/4833 646
URL:https://planforculture.com/event/gsk-kerempuh-pljuska-16/
LOCATION:Satiričko kazalište Kerempuh\, Prolaz Fadila Hadžića 7\, Zagreb\, Croatia (Local Name: Hrvatska)
CATEGORIES:THEATER
ATTACH;FMTTYPE=image/jpeg:https://planforculture.com/wp-content/uploads/2024/10/Pljuska-1.jpg
ORGANIZER;CN="Satiri%C4%8Dko%20kazali%C5%A1te%20Kerempuh":MAILTO:blagajna@kerempuh.hr
END:VEVENT
BEGIN:VEVENT
DTSTART;TZID=Europe/Zagreb:20241108T200000
DTEND;TZID=Europe/Zagreb:20241108T213000
DTSTAMP:20260422T175010
CREATED:20241003T132827Z
LAST-MODIFIED:20241024T094324Z
UID:10002604-1731096000-1731101400@planforculture.com
SUMMARY:Z/K/M/ PREMIJERA: Samo kraj svijeta
DESCRIPTION:Autor: Jean-Luc Lagarce \nRedatelj: Matija Ferlin \n  \n 
URL:https://planforculture.com/event/z-k-m-premijera-samo-kraj-svijeta/
LOCATION:Zagrebačko kazalište mladih\, Teslina 7\, Zagreb\, grad Zagreb\, 10000\, Croatia (Local Name: Hrvatska)
CATEGORIES:THEATER
ATTACH;FMTTYPE=image/png:https://planforculture.com/wp-content/uploads/2024/10/dummy-predstave-2024-01.png
ORGANIZER;CN="Zagreba%C4%8Dko%20kazali%C5%A1te%20mladih":MAILTO:info@zekaem.hr
END:VEVENT
BEGIN:VEVENT
DTSTART;TZID=Europe/Zagreb:20241108T200000
DTEND;TZID=Europe/Zagreb:20241108T214500
DTSTAMP:20260422T175010
CREATED:20241022T162944Z
LAST-MODIFIED:20241022T162944Z
UID:10002653-1731096000-1731102300@planforculture.com
SUMMARY:Teatar EXIT: ARMAGEDONCI
DESCRIPTION:Autorski tim: \n\nTekst i režija: Sanja Milardović\nDramaturgija: Nikolina Rafaj\nIgraju: Judita Franković Brdar\, Sanja Milardović i Ivan Simon \nKostimografija: David Morhan\nScenografija: Sanja Milardović\nGlazba: Matej Merlić\nOblikovanje svjetla: Dina Marijanović\nOblikovanje zvuka: Miroslav Piškulić \nSPONZOR PROJEKTA: KAUFLAND HRVATSKA K.D. \nO predstavi: \n\nSvašta se skupi i svatko nešto trpi kad živi u rupi… to je tako\, biti čovjek nije lako. \nZato dok još možeš… leti\, trči\, sanjaj\, voli\, grli\, ljubi… i sa svojim vrijeme gubi. \nArmagedonci su tragikomična predstava s glazbenim elementima o tri neobična lika koji su propali kroz zemlju te ostali zatočeni u malom fundusu kazališta. Ne znajući što se dogodilo\, kakva ih je to katastrofa snašla i zašto nitko po njih ne dolazi danima\, oni posumnjaju da je svijet snašao Armagedon. Dane provode u čekanju\, nadanju da će ih netko spasiti i u svemu onome što se naizgled čini kao gubljenje vremena. Prisiljeni provoditi vrijeme zajedno ta tri\, na prvu nespojiva lika\, jedni drugima postaju sve\, izvori najvećih frustracija i nadomjestak svega onoga što im nedostaje\, a da toga možda nisu ni bili svjesni. Katastrofa ih je odvojila od svijeta\, ali spojila jedne s drugima u vremenu koje je sve\, samo ne izgubljeno. \nVrijeme je oduvijek najvrjednija i sveopća valuta. Kad čovjeku ponestaje vremena\, on dobiva priliku ubrzano spoznati što mu je u životu zaista važno. I možda\, bar nakratko\, to i živjeti.
URL:https://planforculture.com/event/teatar-exit-armagedonci/
LOCATION:Teatar EXIT (Ilica 208)
CATEGORIES:THEATER
ATTACH;FMTTYPE=image/jpeg:https://planforculture.com/wp-content/uploads/2024/10/Armagedonci_11.jpg
ORGANIZER;CN="Teatar%20EXIT":MAILTO:exit@teatarexit.hr
END:VEVENT
END:VCALENDAR