BEGIN:VCALENDAR
VERSION:2.0
PRODID:-//PLAN FOR CULTURE - ECPv6.0.6//NONSGML v1.0//EN
CALSCALE:GREGORIAN
METHOD:PUBLISH
X-WR-CALNAME:PLAN FOR CULTURE
X-ORIGINAL-URL:https://planforculture.com
X-WR-CALDESC:Events for PLAN FOR CULTURE
REFRESH-INTERVAL;VALUE=DURATION:PT1H
X-Robots-Tag:noindex
X-PUBLISHED-TTL:PT1H
BEGIN:VTIMEZONE
TZID:Europe/Zagreb
BEGIN:DAYLIGHT
TZOFFSETFROM:+0100
TZOFFSETTO:+0200
TZNAME:CEST
DTSTART:20240331T010000
END:DAYLIGHT
BEGIN:STANDARD
TZOFFSETFROM:+0200
TZOFFSETTO:+0100
TZNAME:CET
DTSTART:20241027T010000
END:STANDARD
BEGIN:DAYLIGHT
TZOFFSETFROM:+0100
TZOFFSETTO:+0200
TZNAME:CEST
DTSTART:20250330T010000
END:DAYLIGHT
BEGIN:STANDARD
TZOFFSETFROM:+0200
TZOFFSETTO:+0100
TZNAME:CET
DTSTART:20251026T010000
END:STANDARD
END:VTIMEZONE
BEGIN:VEVENT
DTSTART;TZID=Europe/Zagreb:20241105T080000
DTEND;TZID=Europe/Zagreb:20250610T170000
DTSTAMP:20260425T050117
CREATED:20241024T093913Z
LAST-MODIFIED:20241024T093913Z
UID:10002672-1730793600-1749574800@planforculture.com
SUMMARY:STRIP LAB škola stripa - ART ZA KVART
DESCRIPTION:Hrvatski školski muzej predstavlja projekt ART ZA KVART kojim uvodi nove radionice za velike i male! Radionice će se održavati utorkom\, četvrtkom i subotom tijekom školske godine 2024./2025.\, a polaznicima će nuditi mogućnosti kreativnog razvoja i izražavanja kroz zanimljive i raznolike teme radionica kao i tehnike koje će se na radionicama koristiti. \nRadionice namijenjene mladima  – STRIP LAB – škola stripa \nHrvatski školski muzej u suradnji sa Zdenkom Mikšom\, mag. educ .art.\, u projektu ART ZA KVART\, organizira školu stripa „Strip lab“ namijenjenu djeci od 10 do 14 godina. Škola stripa provodi se tijekom školske godine 2024./2025. kroz 28 radionica koje su osmišljene za djecu koja žele istražiti fascinantan svijet stripa. Program započinje uvodom u povijest stripa\, gdje se polaznici upoznaju sa stripovima i autorima koji su oblikovali ovaj medij. Kroz interaktivna predavanja i analizu poznatih stripova\, djeca će razviti dublje razumijevanje o evoluciji i raznolikosti stripovskih žanrova. Polaznici će imati priliku upoznati se s ikoničnim i suvremenim stripovima\, raznolikim žanrovima i stilovima te osnovama pripovijedanja i crtanja. Kroz praktične vježbe\, djeca će razvijati svoju kreativnost te crtačke vještine. Radionica će također omogućiti djeci da razviju vlastite likove i priče te stvore i ilustriraju svoje unikatne stripove. Završetkom programa organizirat će se izložba radova polaznika uz dodjelu diploma. \n  \n 
URL:https://planforculture.com/event/strip-lab-skola-stripa-art-za-kvart/
LOCATION:ZAGREB
CATEGORIES:WORKSHOP
ATTACH;FMTTYPE=image/jpeg:https://planforculture.com/wp-content/uploads/2024/10/STRIP-LAB-skola-stripa-_-ART-ZA-KVART.jpg
ORGANIZER;CN="Hrvatski%20%C5%A1kolski%20muzej%2C%20galerija%20%22%C5%A0kolica%20za%205%22":MAILTO:hsm@hsmuzej.hr
END:VEVENT
BEGIN:VEVENT
DTSTART;TZID=Europe/Zagreb:20241114T080000
DTEND;TZID=Europe/Zagreb:20250612T170000
DTSTAMP:20260425T050117
CREATED:20241024T094302Z
LAST-MODIFIED:20250408T093940Z
UID:10002674-1731571200-1749747600@planforculture.com
SUMMARY:INSPIRATIVNI STUDIO – ART ZA KVART
DESCRIPTION:Hrvatski školski muzej predstavlja projekt ART ZA KVART kojim uvodi nove radionice za velike i male! Radionice će se održavati utorkom\, četvrtkom i subotom tijekom školske godine 2024./2025.\, a polaznicima će nuditi mogućnosti kreativnog razvoja i izražavanja kroz zanimljive i raznolike teme radionica kao i tehnike koje će se na radionicama koristiti. \nRadionice namijenjene maladima i odraslima – INSPIRATIVNI STUDIO \nHrvatski školski muzej u suradnji s Petrom Kovačić\, mag. educ. art.\, u projektu ART ZA KVART\, organizira likovno-pedagoški program INSPIRATIVNI STUDIO  kojemu je cilj omogućiti sugrađanima učenje i kvalitetno provođenje slobodnog vremena. Program obuhvaća tri ciklusa likovnih radionica različitih sadržaja za poticanje kreativnosti koji polaze iz životnog iskustva\, a koristit će se terapijski učinak umjetnosti. Kroz upoznavanje i istraživanje bogatih muzejskih zbirki Hrvatskog školskog muzeja ovi programi potaknut će interakciju polaznika\, razmjenu iskustava i dojmova uz usvajanje novih znanja i vještina.
URL:https://planforculture.com/event/ponovo-u-klupama-sa-skolskim-art-za-kvart/
LOCATION:ZAGREB
CATEGORIES:WORKSHOP
ATTACH;FMTTYPE=image/jpeg:https://planforculture.com/wp-content/uploads/2024/10/1-1.jpg
ORGANIZER;CN="Hrvatski%20%C5%A1kolski%20muzej%2C%20galerija%20%22%C5%A0kolica%20za%205%22":MAILTO:hsm@hsmuzej.hr
END:VEVENT
BEGIN:VEVENT
DTSTART;TZID=Europe/Zagreb:20241126T190000
DTEND;TZID=Europe/Zagreb:20250301T190000
DTSTAMP:20260425T050117
CREATED:20241114T110826Z
LAST-MODIFIED:20241114T110826Z
UID:10002737-1732647600-1740855600@planforculture.com
SUMMARY:Izložba „Lekcije iz prošlosti – (re)forme školstva u Hrvatskoj od prosvjetiteljstva do digitalnog doba“
DESCRIPTION:Svečano otvorenje izložbe “LEKCIJE IZ PROŠLOSTI” u utorak\, 26. studenog\, 19. sati\, galerija Hrvatskog školskog muzeja „Školica za 5“\, Hebrangova 5. \nIzložba „Lekcije iz prošlosti – (re)forme školstva u Hrvatskoj od prosvjetiteljstva do digitalnog doba“\, autorice dr. sc. Štefke Batinić\, knjižničarske savjetnice i kustosice Muzeja dati će povijesni pregled reformi i promjena školskog sustava u Hrvatskoj od njegove uspostave u sklopu terezijanske školske reforme 70-ih godina 18. stoljeća do najnovijih reformskih pokušaja kao što su Škola za život i eksperimentalni program Osnovna škola kao cjelodnevna škola. Izložba će predstaviti dio hrvatske školske baštine koju Muzej čuva\, a uz izložbu će se održati raznovrsni popratni programi\, tribine\, predavanja i drugo. Izložba ostaje otovrena do 1. ožujka 2025. \n  \n 
URL:https://planforculture.com/event/izlozba-lekcije-iz-proslosti-reforme-skolstva-u-hrvatskoj-od-prosvjetiteljstva-do-digitalnog-doba/
LOCATION:ZAGREB
CATEGORIES:EXHIBITION
ATTACH;FMTTYPE=image/jpeg:https://planforculture.com/wp-content/uploads/2024/11/Lekcije-iz-proslosti.jpg
ORGANIZER;CN="Hrvatski%20%C5%A1kolski%20muzej%2C%20galerija%20%22%C5%A0kolica%20za%205%22":MAILTO:hsm@hsmuzej.hr
END:VEVENT
BEGIN:VEVENT
DTSTART;TZID=Europe/Zagreb:20250101T080000
DTEND;TZID=Europe/Zagreb:20250331T200000
DTSTAMP:20260425T050117
CREATED:20250127T140532Z
LAST-MODIFIED:20250127T140532Z
UID:10002881-1735718400-1743451200@planforculture.com
SUMMARY:Pozdrav sa Sljemena
DESCRIPTION:Knjižnica Marije Jurić Zagorke u suradnji s Muzejem grada Zagreba postavlja malu putujuću izložbu “Pozdrav sa Sljemena!” koja uključuje razglednice iz fundusa MGZ-a\, a cilj je pozvati i uključiti građane u projekt\, odnosno\, u pripremu izložbe o Medvednici pod nazivom Zagrebačka gora na vrhu gojzerice\, u središtu koje će biti planinarske\, izletničke\, sportske i druge aktivnosti\, obuhvaćajući planinarske staze i domove\, planinarska i sportska društva\, događanja\, odijevanje i uporabne predmete\, prepoznatljiva mjesta i prirodne znamenitosti te naposljetku kulturu ponašanja i ekologiju. \nAko si zaljubljenik u prirodu\, član planinarskog društva\, planinar\, alpinist\, biciklist\, izviđač\, izletnik ili se samo tako osjećaš\, javi se u Muzej grada Zagreba. Možda imaš zanimljive predmete – stari ruksak ili gojzerice\, skije\, saonice\, šatorsko krilo\, fotografije\, planinarsku člansku iskaznicu\, značku ili pak planinarski dnevnik s Medvednice; ili u dvorištu čuvaš gondolu stare Sljemenske žičare? Sve to može postati dio izložbe o Zagrebačkoj gori! Osim toga\, rado će u Muzeju grada Zagreba poslušati i zabilježiti tvoju sljemensku anegdotu ili priču. \nKontakti: mbusic@mgz.hr\, imarusic@mgz.hr;  Tel: 01/4851-361; Muzej grada Zagreba\, Opatička 20.
URL:https://planforculture.com/event/pozdrav-sa-sljemena/
LOCATION:Knjižnica Marije Jurić Zagorke\, Krvavi most 2\, Zagreb\, Croatia (Local Name: Hrvatska)
CATEGORIES:EXHIBITION
ATTACH;FMTTYPE=image/jpeg:https://planforculture.com/wp-content/uploads/2025/01/1.jpg
ORGANIZER;CN="Knji%C5%BEnica%20Marije%20Juri%C4%87%20Zagorke":MAILTO:knjiznica.m.j.zagorke@kgz.hr
END:VEVENT
BEGIN:VEVENT
DTSTART;TZID=Europe/Zagreb:20250101T080000
DTEND;TZID=Europe/Zagreb:20250331T200000
DTSTAMP:20260425T050117
CREATED:20250127T140711Z
LAST-MODIFIED:20250127T140711Z
UID:10002882-1735718400-1743451200@planforculture.com
SUMMARY:Pozdrav sa Sljemena
DESCRIPTION:Knjižnica Marije Jurić Zagorke u suradnji s Muzejem grada Zagreba postavlja malu putujuću izložbu “Pozdrav sa Sljemena!” koja uključuje razglednice iz fundusa MGZ-a\, a cilj je pozvati i uključiti građane u projekt\, odnosno\, u pripremu izložbe o Medvednici pod nazivom Zagrebačka gora na vrhu gojzerice\, u središtu koje će biti planinarske\, izletničke\, sportske i druge aktivnosti\, obuhvaćajući planinarske staze i domove\, planinarska i sportska društva\, događanja\, odijevanje i uporabne predmete\, prepoznatljiva mjesta i prirodne znamenitosti te naposljetku kulturu ponašanja i ekologiju. \nAko si zaljubljenik u prirodu\, član planinarskog društva\, planinar\, alpinist\, biciklist\, izviđač\, izletnik ili se samo tako osjećaš\, javi se u Muzej grada Zagreba. Možda imaš zanimljive predmete – stari ruksak ili gojzerice\, skije\, saonice\, šatorsko krilo\, fotografije\, planinarsku člansku iskaznicu\, značku ili pak planinarski dnevnik s Medvednice; ili u dvorištu čuvaš gondolu stare Sljemenske žičare? Sve to može postati dio izložbe o Zagrebačkoj gori! Osim toga\, rado će u Muzeju grada Zagreba poslušati i zabilježiti tvoju sljemensku anegdotu ili priču. \nKontakti: mbusic@mgz.hr\, imarusic@mgz.hr;  Tel: 01/4851-361; Muzej grada Zagreba\, Opatička 20.
URL:https://planforculture.com/event/pozdrav-sa-sljemena-2/
LOCATION:Knjižnica Marije Jurić Zagorke\, Krvavi most 2\, Zagreb\, Croatia (Local Name: Hrvatska)
CATEGORIES:OTHER
ATTACH;FMTTYPE=image/jpeg:https://planforculture.com/wp-content/uploads/2025/01/2.jpg
ORGANIZER;CN="Knji%C5%BEnica%20Marije%20Juri%C4%87%20Zagorke":MAILTO:knjiznica.m.j.zagorke@kgz.hr
END:VEVENT
BEGIN:VEVENT
DTSTART;TZID=Europe/Zagreb:20250204T080000
DTEND;TZID=Europe/Zagreb:20250224T170000
DTSTAMP:20260425T050117
CREATED:20250203T120222Z
LAST-MODIFIED:20250203T120222Z
UID:10002889-1738656000-1740416400@planforculture.com
SUMMARY:Izložba Kristine Šafran
DESCRIPTION:Izložba akrilika na platnu autorice Kristine Šafran.
URL:https://planforculture.com/event/izlozba-kristine-safran/
LOCATION:Knjižnica Marije Jurić Zagorke\, Krvavi most 2\, Zagreb\, Croatia (Local Name: Hrvatska)
CATEGORIES:EXHIBITION
ATTACH;FMTTYPE=image/jpeg:https://planforculture.com/wp-content/uploads/2025/02/Kristina-Safran.jpg
ORGANIZER;CN="Knji%C5%BEnica%20Marije%20Juri%C4%87%20Zagorke":MAILTO:knjiznica.m.j.zagorke@kgz.hr
END:VEVENT
BEGIN:VEVENT
DTSTART;TZID=Europe/Zagreb:20250210T190000
DTEND;TZID=Europe/Zagreb:20250228T200000
DTSTAMP:20260425T050117
CREATED:20250207T075415Z
LAST-MODIFIED:20250207T075415Z
UID:10002910-1739214000-1740772800@planforculture.com
SUMMARY:Paula Tončić u Galeriji Spot
DESCRIPTION:Galerija Spot i Ured za fotografiju pozivaju na otvorenje izložbe LEL umjetnice Paule Tončić\, koje će se održati u ponedjeljak\, 10. 2.\, u Galeriji Spot u 19:00 sati. Službeno otvorenje s vodstvom i razgovorom s autoricom izložbe kreće od 19:30 sati\, a kao dio popratnog programa izložbe održat će se Radionica izrade umjetničkih knjižica u srijedu\, 26. 2.\, u 18:00 sati u Galeriji Spot. Izložba ostaje otvorena do 28. 2. 2025. \nU fokusu rada Paule Tončić začudna je osoba po imenu Lou. Njezin je izgled neobičan\, a modni izričaj intrigantan\, povezan s queer estetikom\, čime pobuđuje poglede i izaziva društvene norme. O identitetu tajanstvene Lou ne znamo mnogo\, tek ono što nam otkrivaju fotografske bilješke iz umjetničine arhive susreta – svojevrsnog vizualnog dnevnika koji je rezultat istraživanja interakcija među ljudima na jednoj platformi za prodaju rabljenih predmeta. \nSliku o njoj stvaramo na temelju kožne jakne namjesto tjelesne prisutnosti\, fotografskog otiska njezinog lika na aluminijskoj ploči\, iščezavanja vizualnih dokaza o fizičkom postojanju po uzoru na estetiku niskobudžetnih horor filmova ili\, primjerice\, stilskih tragova iz fetišističkih časopisa za koje znamo da umjetnica i Lou strastveno skupljaju. Ocrtavajući lik protagonistkinje tek naznakama stilskih odrednica koje povezuje s identitetskim pitanjima\, autorica preispituje kako nas vizualna kultura oblikuje te kakvu ulogu u tim iščitavanjima slojeva percepcije može imati umjetnički izraz. \nLOUD EYES LOU rad je koji istražuje odnose između gledanja\, zajedništva\, izolacije\, fizičke i virtualne prisutnosti\, dokumentacije\, trajnosti i potrošnosti te stvaranja perceptivnih veza u kontekstu u kojemu one same postaju alati za promišljanje o slici društva. Temu ženskog pogleda\, u onom smislu u kojem ga feministički diskurs počinje problematizirati krajem 1970-ih godina\, kada “objekt” promatranja postaje subjekt\, ovdje zapažamo kroz preispitivanje vođenog kreiranja vlastitog prikaza za “druge oči”. U tom smislu dolazi do razilaženja s “očekivanim” modelima ponašanja\, djelovanja ili stvaranja\, a složeni sustavi unutarnjih i vanjskih podražaja (de)konstruiraju sliku društvene stvarnosti. Tome pridonosi i zvučni element ovoga rada skriven u višeznačnom nazivu LEL[1] – skraćenici izraza za iskazivanje okrutnog smijeha koji subjekt ovdje okreće u vlastitu korist. \nIvana Završki \n__________________________________________________________ \n[1] LEL – laughing even louder\, izvedenica oblika LOL \n  \nPaula Tončić (Zagreb\, 1997.) diplomirala je animaciju i nove medije na Akademiji likovnih umjetnosti u Zagrebu. Nakon studija seli se u Berlin\, a u svom umjetničkom radu istražuje arhiviranje\, klasifikaciju i dokumentaciju začudnih predmeta. Izdvajajući njihove groteskne elemente bavi se granicama stvarnosti i fikcije s fokusom na djevojačko iskustvo\, ženski pogled i intimnost. Inspirirana fikcijskom literaturom i trash horor kinematografijom\, istražuje liminalne prostore te fizičku i značenjsku transformaciju materijala među medijima. Dobitnica je nagrade Grand Prix na 37. Salonu mladih. \n  \nPopratni program: \n\nVodstvo izložbom i razgovor s autoricom\, 10. 2. 2025.\, 19:30\, Galerija Spot\nRadionica izrade umjetničkih knjižica\, 26. 2. 2025.\, 18:00 sati\, Galerija Spot\n\n  \nRealizacija izložbe i rad Ureda za fotografiju omogućeni su sredstvima Ministarstva kulture i medija RH\, Grada Zagreba i Zaklade Kultura nova.
URL:https://planforculture.com/event/paula-toncic-u-galeriji-spot/
CATEGORIES:EXHIBITION,WORKSHOP
ATTACH;FMTTYPE=image/jpeg:https://planforculture.com/wp-content/uploads/2025/02/DEPLIJAN2A-scaled.jpg
ORGANIZER;CN="Ured%20za%20fotografiju":MAILTO:info@officeforphotography.com
END:VEVENT
BEGIN:VEVENT
DTSTART;TZID=Europe/Zagreb:20250218T190000
DTEND;TZID=Europe/Zagreb:20250303T170000
DTSTAMP:20260425T050117
CREATED:20250213T085642Z
LAST-MODIFIED:20250213T085833Z
UID:10002920-1739905200-1741021200@planforculture.com
SUMMARY:Pokladni korzo – restaurirani pokladni kostimi iz fundusa Muzeja za umjetnost i obrt
DESCRIPTION:U fundusu zbirke tekstila i modnog pribora Muzeja za umjetnost i obrt nalazi se devet pokladnih kostima i popratnog modnog pribora s kraja 19. te početka 20. st. Ovi kostimi odijevaju se prilikom pokladnih zabava koje označavaju početak godišnjeg ciklusa slavlja i zabava\, a odvijaju se od Sveta tri Kralja do Pepelnice. Ovom izložbom nevidljivi muzejski poslovi postaju vidljivi.\nUz izložbu bit će organizirane kreativne radionice za djecu i odrasle te stručno vodstvo autorica izložbe.\nIzložba se organizira u suradnji ULUPUH-a i Muzeja za umjetnost i obrt.\nAutorice:\nIva Čukman\, konzervatorica-restauratorica savjetnica\, voditeljica restauratorskih radionica\nAndrea Klobučar\, muzejska savjetnica\, voditeljica zbirke tekstila i modnog pribora
URL:https://planforculture.com/event/pokladni-korzo-restaurirani-pokladni-kostimi-iz-fundusa-muzeja-za-umjetnost-i-obrt/
LOCATION:Galerija ULUPUH\, Ilica 13\, Zagreb\, 10 000\, Croatia (Local Name: Hrvatska)
CATEGORIES:EXHIBITION
ATTACH;FMTTYPE=image/jpeg:https://planforculture.com/wp-content/uploads/2025/02/POKLADNE-CIPELE.jpg
ORGANIZER;CN="ULUPUH":MAILTO:ulupuh@zg.t-com.hr
END:VEVENT
BEGIN:VEVENT
DTSTART;TZID=Europe/Zagreb:20250222T190000
DTEND;TZID=Europe/Zagreb:20250311T220000
DTSTAMP:20260425T050117
CREATED:20250219T164243Z
LAST-MODIFIED:20250219T164849Z
UID:10002936-1740250800-1741730400@planforculture.com
SUMMARY:Izložba Portreti Luke Čivljaka u Galeriji Flora
DESCRIPTION:LUKA ČIVLJAK \nPortreti \n22. 2. – 11. 3. 2025. \nradno vrijeme: 9-12h i 15-18h/ i kada su vrata Florina doma otvorena/ i najavom na galerijaflora.dbk@gmail.com \nPortretistika Luke Čivljaka započinje 2018. godine. Tehnika je ulje na platnu. Autora zanima bliskost gramatici Johnn Singer Sargenta. Korištenje impasta mu je bitno da bi se što vjernije uprizorila portretirana osoba. Lazura se minimalno upotrebljava te se postižu realistički tonovi kojima se vjernije progovara o modelu. Umjetnik promatra bliske osobe koje zapisuje ‘starinskim realističkim’ rječnikom. Duboko je to poniranje u psihu. Pozadine su dominanatno tamne. Zanimanje za tradiciju i zanatsku točnost u doba raznih strujanja koje se odmiču od davnih tradicija Arta pretvara se u samu ideju umjetnosti po sebi i njezino preispitivanje. Prema različitim definicijama\, jer koherentne definicije nema\, konceptualna umjetnost je bilo koja umjetnost koja postavlja pitanje o značenju umjetnosti same.1 Smireni likovi slikani su u dubini zamišljenosti i u pogled izravno upućenom gledatelju. Osjetni doživljaj je smislom i idejnim određenjem okarakterizirani doživljaj. Promatra se. Prisutnost se transcendira u djelu. Spoznaja je objektivna. Povezuje se ono izvanjsko s unutrašnjim na više razina\, jednostavnim govorom po principu nužnosti stvaralaštva. \nČovjek je kao prirodno biće ujedno i duh koji se iz svoje drugotnosti vraća sam u sebe. On je kao prirodno biće i najviša tvorevina prirode\, jer u sebi ujedinjuje dva pola zbilje: duh\, koji se kroz tijelo i njegove osobine tako očituje u stvarnosti\, i\, na drugoj strani\, dio stvarnosti\, koji se očituje kao svjesna umnost i može apstrahirajući od nužde prirodnoga zbivanja slobodno stvarati.2  \nSva ljudska bića\, bilo da je riječ o majci ili prijatelju tretirani su isto. Ono izvanjsko je usklađeno s unutrašnjim koje se očituje u izvanjskome. Majstorstvo slikanja uprizoruje unutranji duh koji se nizanjem portreta iščitava kao onaj apsolutni koji povezuje ljudska bića. Smirenim ritmom se događa gramatika Čivljaka koja je danas rijetkost na sceni Arta i koja vraća u sjećanje sve one zapise starih majstora portreta koji su apsolutni duh unosili u izričaj.  \nUmjetnik se bavi unutrašnjim prostorima čovjeka i njegovom mogućnošću da sagleda sebe u procesu samospoznaje bez koje nema istine. U sabranosti pažnje leži mudrost; zapisuje Suzuki. U tom smjeru podcrtava se diskurs o višerazinskom odnosu vanjskog i unutranjeg. Ideja je ugrađena u materiju i svojstva ideje se očituju unutar nje. /…/ ideja oplemenjuje materiju svojom biti.3 Simplifikacijom procesa se uspostavlja portretistika u koju je upisana srž.  \nPetra Golušić  \nLuka Čivljak rođen je u Dubrovniku 12.10.1991.godine. Završio je Umjetničku školu Luke Sorkočevića 2011. godine. Diplomirao je na Akademiji likovnih umjetnosti u Zagrebu 2017. godine u klasi prof. Zoltana Novaka. Tijekom studija sudjelovao je na nekoliko studentskih izložbi i izložbama Pasionske baštine. Nakon studija vraća se u Dubrovnik gdje pokreće samostalni obrt i od 2019 do danas radi kao turistički vodič. Od 2018. godine slika u ˝tajnosti˝\, seriju portreta \, razvija slikarsku tehniku po uzoru na tradicionalne portretiste od kojih ističe John Singer Sargenta.  \nLuka Čivljak član je Hrvatskog društva likovnih umjetnika Dubrovnik. \nKontakt:luka.civljak@gmail.com \n\n1 Kovač\, Leonida: Ali nemojmo opet pojednostavljivati _ Pojmovi greške\, jezika\, pisma i tijela u umjetnosti Gorkog Žuvele. Umjetnost kao ideja _ Konceptualne prakse u Hrvatskoj. uredila Mirela Ramljak Purgar\, Zagreb\, Centar za vizualne studije\, 2001.\, str. 495 \n\n\n2 Filipović\, Vladimir: Klasični njemački idealizam i odabrani tekstovi filozofa. Zagreb\, Matica Hrvatska\, 1962.\, str. 109 \n\n\n3 Eterović\, Ružica: Ideja i materija _ O statusu sakralnog i sekularnog u konceptualnoj umjetnosti. Umjetnost kao ideja _ Konceptualne prakse u Hrvatskoj. uredila Mirela Ramljak Purgar\, Zagreb\, Centar za vizualne studije\, 2001.\, str. 166
URL:https://planforculture.com/event/izlozba-portreti-luke-civljaka-u-galeriji-flora/
LOCATION:HDLUDU\, Šetalište kralja Zvonimira 32\, Dubrovnik
CATEGORIES:EXHIBITION
ATTACH;FMTTYPE=image/jpeg:https://planforculture.com/wp-content/uploads/2025/02/Flora-plakati_Nives-2024_WEB-scaled.jpg
ORGANIZER;CN="Hrvatsko%20dru%C5%A1tvo%20likovnih%20umjetnika%20Dubrovnik":MAILTO:hdludubrovnik@gmail.com
END:VEVENT
BEGIN:VEVENT
DTSTART;TZID=Europe/Zagreb:20250223T103000
DTEND;TZID=Europe/Zagreb:20250223T110500
DTSTAMP:20260425T050117
CREATED:20250205T133148Z
LAST-MODIFIED:20250205T133148Z
UID:10002901-1740306600-1740308700@planforculture.com
SUMMARY:Priča mi se priča: PALČICA
DESCRIPTION:TEATAR POCO LOCO \nPriča mi se priča: PALČICA \nRedateljica: Renata Carola Gatica \nDramatizacija teksta: Dunja Fajdić prema priči H.C. Andersena \nIlustracije: Ana Kolega \nGlazba i songovi: Ivana Đula\, Ana Franjić\, Ana Kolega i Zrinka Kušević \nInstrumenti: udaraljke (hapi\, cahon\, balafon) \nBroj izvođača: 5 \nUzrast: 3+ \nPrema priči H.C. Andersena Teatar Poco Loco ispričat će priču o majušnoj djevojčici\, nježnoj kao latici koja je tražila svoju sreću. Dobra i malena Palčica\, sama i drugačija\, pomagala je svima koji su pomoć trebali\, iako su neki prema njoj bili i zločesti. Žaba krastača i njen sin oteli su je\, hruštevi su je zadirkivali\, mišica joj je pomogla\, ugledni Krt odveo ju je pod zemlju… Srećom\, Lastavica je Palčicu odvela u tople krajeve gdje se djeca smiju i tamo… E\, što je tamo bilo ispričat će nam lastavica! \nPremijera: 22. 3. 2015.
URL:https://planforculture.com/event/prica-mi-se-prica-palcica/
LOCATION:Centar mladih Ribnjak\, Park Ribnjak 1\, Zagreb\, 10000\, Croatia (Local Name: Hrvatska)
CATEGORIES:THEATER
ATTACH;FMTTYPE=image/jpeg:https://planforculture.com/wp-content/uploads/2025/02/23.2.-PALCICA.jpg
ORGANIZER;CN="Scena%20Ribnjak":MAILTO:scenaribnjak.cmr@gmail.com
END:VEVENT
BEGIN:VEVENT
DTSTART;TZID=Europe/Zagreb:20250223T110000
DTEND;TZID=Europe/Zagreb:20250223T120000
DTSTAMP:20260425T050117
CREATED:20250107T130029Z
LAST-MODIFIED:20250107T130029Z
UID:10002814-1740308400-1740312000@planforculture.com
SUMMARY:Ja sam Akiko\, GK Žar ptica
DESCRIPTION:Autor: Stefan Tićmi \nRežija: Slađana Kilibarda \nIgraju: Marko Hergešić\, Matej Đurđević\, Vini Jurčić\, Dora Dimić Rakar\, Damian Humski
URL:https://planforculture.com/event/ja-sam-akiko-gk-zar-ptica/
LOCATION:Gradsko kazalište Žar ptica\, Bijenička 97\, Zagreb\, 10000\, Croatia (Local Name: Hrvatska)
CATEGORIES:THEATER
ATTACH;FMTTYPE=image/jpeg:https://planforculture.com/wp-content/uploads/2025/01/Akiko_FB-i-WEB-scaled.jpg
ORGANIZER;CN="Gradsko%20kazali%C5%A1te%20%C5%BDar%20ptica":MAILTO:marketing@zar-ptica.hr
END:VEVENT
BEGIN:VEVENT
DTSTART;TZID=Europe/Zagreb:20250223T113000
DTEND;TZID=Europe/Zagreb:20250223T120500
DTSTAMP:20260425T050117
CREATED:20250205T133221Z
LAST-MODIFIED:20250205T133221Z
UID:10002902-1740310200-1740312300@planforculture.com
SUMMARY:Priča mi se priča: PALČICA
DESCRIPTION:TEATAR POCO LOCO \nPriča mi se priča: PALČICA \nRedateljica: Renata Carola Gatica \nDramatizacija teksta: Dunja Fajdić prema priči H.C. Andersena \nIlustracije: Ana Kolega \nGlazba i songovi: Ivana Đula\, Ana Franjić\, Ana Kolega i Zrinka Kušević \nInstrumenti: udaraljke (hapi\, cahon\, balafon) \nBroj izvođača: 5 \nUzrast: 3+ \nPrema priči H.C. Andersena Teatar Poco Loco ispričat će priču o majušnoj djevojčici\, nježnoj kao latici koja je tražila svoju sreću. Dobra i malena Palčica\, sama i drugačija\, pomagala je svima koji su pomoć trebali\, iako su neki prema njoj bili i zločesti. Žaba krastača i njen sin oteli su je\, hruštevi su je zadirkivali\, mišica joj je pomogla\, ugledni Krt odveo ju je pod zemlju… Srećom\, Lastavica je Palčicu odvela u tople krajeve gdje se djeca smiju i tamo… E\, što je tamo bilo ispričat će nam lastavica! \nPremijera: 22. 3. 2015.
URL:https://planforculture.com/event/prica-mi-se-prica-palcica-2/
LOCATION:Centar mladih Ribnjak\, Park Ribnjak 1\, Zagreb\, 10000\, Croatia (Local Name: Hrvatska)
CATEGORIES:THEATER
ATTACH;FMTTYPE=image/jpeg:https://planforculture.com/wp-content/uploads/2025/02/23.2.-PALCICA-1.jpg
ORGANIZER;CN="Scena%20Ribnjak":MAILTO:scenaribnjak.cmr@gmail.com
END:VEVENT
BEGIN:VEVENT
DTSTART;TZID=Europe/Zagreb:20250223T190000
DTEND;TZID=Europe/Zagreb:20250223T220000
DTSTAMP:20260425T050117
CREATED:20250205T133930Z
LAST-MODIFIED:20250205T133930Z
UID:10002906-1740337200-1740348000@planforculture.com
SUMMARY:Čaga kao nekada na Ribnjaku
DESCRIPTION:Centar mladih Ribnak oživljaja povijesne Ribnjakove čage! Nakon prve održane čage u ožujku 2024. godine\, koju je posjetilo čak stotinjak čagera\, nastavlja se još jače i veselije s čagama. Pozivamo sve ljubitelje plesnjaka da ožive stara sjećanja i dođu na fenomenalan provod u Ribnjak!\nINFORMACIJE O ČAGI:\nDatumi: 9.2.\, 23.2.\, 9.3.\, 16.3.\, 23.3.\, 27.4.\, 11.5. i 25.5.2025.\nVrijeme početka: 19.00 sati\nTrajanje: 3 sata\nMjesto održavanja: Velika dvorana ili gornja vanjska terasa Centra mladih Ribnjak\nIzvođači: Renome bend \n𝗢 𝗥𝗘𝗡𝗢𝗠𝗘 𝗕𝗘𝗡𝗗𝗨:\nUspješni poslovni ljudi\, koji su kao djeca zavoljeli muziku i učili svirati od najranije dobi\, po završetku poslovne životne karijere nastavili su svirati i na veliko zadovoljstvo ljudi koji vole plesati\, osnovali su Renome band. Danas vraćaju zagrebačke čagere u najmlađu dob\, svirajući evergreene 60-ih\, 70-ih i 80-ih godina\, domaće i strane. \nČʟᴀɴᴏᴠɪ ʀᴇɴᴏᴍᴇ ʙᴇɴᴅᴀ:\n• Dinko Lovrinić (Pura)\, ritam gitara i vokal\,\n• Ivica Bakula (Baki)\, solo gitara i vokal\,\n• Damir Martinić Jerčić\, bas gitara i vokal\,\n• Dejan Rogić (Roki)\, klavijatura\n• Ivan Mikulčić (Ivek)\, bubnjevi i\n• Andrea Rakočević\, pjevačica
URL:https://planforculture.com/event/caga-kao-nekada-na-ribnjaku-2/
LOCATION:Centar mladih Ribnjak\, Park Ribnjak 1\, Zagreb\, 10000\, Croatia (Local Name: Hrvatska)
CATEGORIES:CONCERT
ATTACH;FMTTYPE=image/jpeg:https://planforculture.com/wp-content/uploads/2025/02/Caga-kao-nekada-na-Ribnjaku-1-1-scaled.jpg
ORGANIZER;CN="Centar%20mladih%20Ribnjak":MAILTO:cmr@cmr.hr
END:VEVENT
BEGIN:VEVENT
DTSTART;TZID=Europe/Zagreb:20250223T200000
DTEND;TZID=Europe/Zagreb:20250223T214000
DTSTAMP:20260425T050117
CREATED:20250108T131111Z
LAST-MODIFIED:20250108T131111Z
UID:10002832-1740340800-1740346800@planforculture.com
SUMMARY:GSK Kerempuh: SVE ZBOG JEDNOG IMENA
DESCRIPTION:Autori teksta: Matthieu Delaporte & Alexandre de La Patellière\nRedateljica: Saša Broz \nRadnja predstave odvija se jedne večeri\, na druženju obitelji i prijatelja. Sve započinje idilično\, s Vincentom koji dijeli fotografiju svoje i Annine tek nedavno začete bebe. No ubrzo se dobra atmosfera drastično mijenja kada im Vincent objavi da će se dijete zvati Adolphe\, što je francuski ekvivalent za Adolfa… \nOva vrhunska komedija hit je u više od 45 zemalja diljem svijeta\, zahvaljujući iskričavosti dijaloga te detaljno oslikanim\, vjerodostojnim i neodoljivim likovima s kojima se lako možemo poistovjetiti. Jedna od centralnih tema jest suparništvo između braće i sestara\, tinjajuća ogorčenost i netrpeljivost koja se vrlo lako može razumjeti u bilo kojem okruženju. \nU 90 minuta trajanja predstave nema ni sekunde pauze niti praznog hoda\, pa tako protagonisti\, ali ni publika\, do samog kraja ne dolaze do daha. Tekst u mnogočemu asocira na Rezin komad ˝Bog masakra˝\, kao i na kultni Genoveseov film ˝Perfetti sconosciuti˝ (“Potpuni stranci”). \nKomad su napisali Matthieu Delaporte i Alexandre de la Patellière\, a uspješno je adaptiran i za film\, čiji je original također pratilo nekoliko varijanti remakea. \nPariška produkcija osvojila je šest nominacija za nagradu Molière\, uključujući i onu za najbolju komediju\, dvije nominacije za najboljeg sporednog glumca za Jean-Michela Dupuisa i Guillaumea de Tonquédeca\, zatim za najbolju sporednu glumicu za Valérie Benguigui\, najboljeg dramatičara za Matthieua Delaportea i Alexandrea de la Patellièrea i najbolju režiju za Bernarda Murata. \nPrevoditeljica: Vanda Mikšić\nAutorica adaptacije i dramaturginja: Dora Delbianco\nScenografkinja: Sara Haas\nKostimografkinja: Mia Popovska\nSuradnica za scenski pokret: Nastasja Štefanić Kralj\nOblikovatelj svjetla: Aleksandar Čavlek\nInspicijentica: Lorena Matešić  \nIgraju: \nÉlisabeth Garaud-Larchet – Anita Matić Delić\nPierre Garaud\, Élisabethin muž – Damir Poljičak\nClaude Gratignol\, Élisabethin prijatelj iz djetinjstva – Domagoj Ivanković\nVincent Larchet\, Élisabethin brat – Borko Perić\nAnna Caravati\, Vincentova partnerica – Mirela Videk Hranjec \nPopusti na grupne posjete (10 i više osoba)\nProdaja na tel. 01/4833 645\, 01/4833 646
URL:https://planforculture.com/event/gsk-kerempuh-sve-zbog-jednog-imena-10/
LOCATION:Satiričko kazalište Kerempuh\, Prolaz Fadila Hadžića 7\, Zagreb\, Croatia (Local Name: Hrvatska)
CATEGORIES:THEATER
ATTACH;FMTTYPE=image/jpeg:https://planforculture.com/wp-content/uploads/2025/01/Sve-zbog-jednog-imena.jpg
ORGANIZER;CN="Satiri%C4%8Dko%20kazali%C5%A1te%20Kerempuh":MAILTO:blagajna@kerempuh.hr
END:VEVENT
END:VCALENDAR