BEGIN:VCALENDAR
VERSION:2.0
PRODID:-//PLAN FOR CULTURE - ECPv6.0.6//NONSGML v1.0//EN
CALSCALE:GREGORIAN
METHOD:PUBLISH
X-WR-CALNAME:PLAN FOR CULTURE
X-ORIGINAL-URL:https://planforculture.com
X-WR-CALDESC:Events for PLAN FOR CULTURE
REFRESH-INTERVAL;VALUE=DURATION:PT1H
X-Robots-Tag:noindex
X-PUBLISHED-TTL:PT1H
BEGIN:VTIMEZONE
TZID:Europe/Zagreb
BEGIN:DAYLIGHT
TZOFFSETFROM:+0100
TZOFFSETTO:+0200
TZNAME:CEST
DTSTART:20240331T010000
END:DAYLIGHT
BEGIN:STANDARD
TZOFFSETFROM:+0200
TZOFFSETTO:+0100
TZNAME:CET
DTSTART:20241027T010000
END:STANDARD
BEGIN:DAYLIGHT
TZOFFSETFROM:+0100
TZOFFSETTO:+0200
TZNAME:CEST
DTSTART:20250330T010000
END:DAYLIGHT
BEGIN:STANDARD
TZOFFSETFROM:+0200
TZOFFSETTO:+0100
TZNAME:CET
DTSTART:20251026T010000
END:STANDARD
END:VTIMEZONE
BEGIN:VEVENT
DTSTART;TZID=Europe/Zagreb:20241105T080000
DTEND;TZID=Europe/Zagreb:20250610T170000
DTSTAMP:20260421T195312
CREATED:20241024T093913Z
LAST-MODIFIED:20241024T093913Z
UID:10002672-1730793600-1749574800@planforculture.com
SUMMARY:STRIP LAB škola stripa - ART ZA KVART
DESCRIPTION:Hrvatski školski muzej predstavlja projekt ART ZA KVART kojim uvodi nove radionice za velike i male! Radionice će se održavati utorkom\, četvrtkom i subotom tijekom školske godine 2024./2025.\, a polaznicima će nuditi mogućnosti kreativnog razvoja i izražavanja kroz zanimljive i raznolike teme radionica kao i tehnike koje će se na radionicama koristiti. \nRadionice namijenjene mladima  – STRIP LAB – škola stripa \nHrvatski školski muzej u suradnji sa Zdenkom Mikšom\, mag. educ .art.\, u projektu ART ZA KVART\, organizira školu stripa „Strip lab“ namijenjenu djeci od 10 do 14 godina. Škola stripa provodi se tijekom školske godine 2024./2025. kroz 28 radionica koje su osmišljene za djecu koja žele istražiti fascinantan svijet stripa. Program započinje uvodom u povijest stripa\, gdje se polaznici upoznaju sa stripovima i autorima koji su oblikovali ovaj medij. Kroz interaktivna predavanja i analizu poznatih stripova\, djeca će razviti dublje razumijevanje o evoluciji i raznolikosti stripovskih žanrova. Polaznici će imati priliku upoznati se s ikoničnim i suvremenim stripovima\, raznolikim žanrovima i stilovima te osnovama pripovijedanja i crtanja. Kroz praktične vježbe\, djeca će razvijati svoju kreativnost te crtačke vještine. Radionica će također omogućiti djeci da razviju vlastite likove i priče te stvore i ilustriraju svoje unikatne stripove. Završetkom programa organizirat će se izložba radova polaznika uz dodjelu diploma. \n  \n 
URL:https://planforculture.com/event/strip-lab-skola-stripa-art-za-kvart/
LOCATION:ZAGREB
CATEGORIES:WORKSHOP
ATTACH;FMTTYPE=image/jpeg:https://planforculture.com/wp-content/uploads/2024/10/STRIP-LAB-skola-stripa-_-ART-ZA-KVART.jpg
ORGANIZER;CN="Hrvatski%20%C5%A1kolski%20muzej%2C%20galerija%20%22%C5%A0kolica%20za%205%22":MAILTO:hsm@hsmuzej.hr
END:VEVENT
BEGIN:VEVENT
DTSTART;TZID=Europe/Zagreb:20241114T080000
DTEND;TZID=Europe/Zagreb:20250612T170000
DTSTAMP:20260421T195312
CREATED:20241024T094302Z
LAST-MODIFIED:20250408T093940Z
UID:10002674-1731571200-1749747600@planforculture.com
SUMMARY:INSPIRATIVNI STUDIO – ART ZA KVART
DESCRIPTION:Hrvatski školski muzej predstavlja projekt ART ZA KVART kojim uvodi nove radionice za velike i male! Radionice će se održavati utorkom\, četvrtkom i subotom tijekom školske godine 2024./2025.\, a polaznicima će nuditi mogućnosti kreativnog razvoja i izražavanja kroz zanimljive i raznolike teme radionica kao i tehnike koje će se na radionicama koristiti. \nRadionice namijenjene maladima i odraslima – INSPIRATIVNI STUDIO \nHrvatski školski muzej u suradnji s Petrom Kovačić\, mag. educ. art.\, u projektu ART ZA KVART\, organizira likovno-pedagoški program INSPIRATIVNI STUDIO  kojemu je cilj omogućiti sugrađanima učenje i kvalitetno provođenje slobodnog vremena. Program obuhvaća tri ciklusa likovnih radionica različitih sadržaja za poticanje kreativnosti koji polaze iz životnog iskustva\, a koristit će se terapijski učinak umjetnosti. Kroz upoznavanje i istraživanje bogatih muzejskih zbirki Hrvatskog školskog muzeja ovi programi potaknut će interakciju polaznika\, razmjenu iskustava i dojmova uz usvajanje novih znanja i vještina.
URL:https://planforculture.com/event/ponovo-u-klupama-sa-skolskim-art-za-kvart/
LOCATION:ZAGREB
CATEGORIES:WORKSHOP
ATTACH;FMTTYPE=image/jpeg:https://planforculture.com/wp-content/uploads/2024/10/1-1.jpg
ORGANIZER;CN="Hrvatski%20%C5%A1kolski%20muzej%2C%20galerija%20%22%C5%A0kolica%20za%205%22":MAILTO:hsm@hsmuzej.hr
END:VEVENT
BEGIN:VEVENT
DTSTART;TZID=Europe/Zagreb:20250515T190000
DTEND;TZID=Europe/Zagreb:20250622T190000
DTSTAMP:20260421T195312
CREATED:20250513T095629Z
LAST-MODIFIED:20250513T095629Z
UID:10003077-1747335600-1750618800@planforculture.com
SUMMARY:Skrovište za čokoladu
DESCRIPTION:Kroz prošla stoljeća izrada predmeta za spremanje i posluživanje hrane nije bila samo stvar funkcionalnosti – bila je izraz umjetničke vještine\, luksuza i društvenog statusa. Posude na ovoj izložbi nikako nisu puko oživljavanje tradicije\, već osobne interpretacije pojma “skrovišta” – od poetičnih do ironičnih\, od klasičnih do konceptualnih. Autori ULUPUH-ove Sekcije za keramiku\, porculan i staklo imali su odriješene ruke u stvaranju novih oblika.“– Marko Španjol\, prilagođeno iz predgovora. \nPosjetitelji će moći razgledati izložbu od 15. svibnja do 22. lipnja 2025. u Muzeju čokolade (Gundulićeva 26\, Zagreb)\, od utorka do subote od 10 do 20 sati\, nedjeljom od 10 do 19 sati te ponedjeljkom od 14 do 20 sati. Ulaz je slobodan za članove ULUPUH-a uz predočenje iskaznice\, a za ostale posjetitelje ulaznica iznosi 2\,50 €.
URL:https://planforculture.com/event/skroviste-za-cokoladu/
LOCATION:Muzej čokolade\, Gundulićeva 26\, Zagreb\, 10000\, Croatia (Local Name: Hrvatska)
CATEGORIES:EXHIBITION
ATTACH;FMTTYPE=image/jpeg:https://planforculture.com/wp-content/uploads/2025/05/skroviste-za-cokoladu.jpg
ORGANIZER;CN="ULUPUH":MAILTO:ulupuh@zg.t-com.hr
END:VEVENT
BEGIN:VEVENT
DTSTART;TZID=Europe/Zagreb:20250524T110000
DTEND;TZID=Europe/Zagreb:20250824T160000
DTSTAMP:20260421T195312
CREATED:20250616T112050Z
LAST-MODIFIED:20250616T112653Z
UID:10003110-1748084400-1756051200@planforculture.com
SUMMARY:SintArt 18: Hana Miletić i Graham Kelly uz CIMO – U dijalogu s Nadom Kareš Richter i Vjenceslavom Richterom
DESCRIPTION:Ciklus povremenih izložbi SintArt održava se 15. godinu u okviru izložbene djelatnosti Zbirke Vjenceslava Richtera i Nade Kareš Richter. Nekadašnji radni prostor arhitekta i umjetnika Vjenceslava Richtera u prizemlju obiteljske kuće preuređen je početkom 2000. godine u izložbeni\, s namjerom predstavljanja umjetničkih radova iz donacije\, ali i novih umjetničkih istraživanja suvremenih umjetnika i umjetnica mlađe i srednje generacije. U svojim radovima oblikovanim u različitim medijima\, gostujući umjetnici i umjetnice referirali su se na različita područja Richterovog stvaralaštva\, od arhitektonskih projekata\, umjetničkih istraživanja do teorijskih tekstova ili pak same donacije donoseći nova tumačenja\, kako autorova stvaralaštva\, tako i same Zbirke. Projekt SintArt proizašao je iz Richterove ideje i prijedloga da Zbirka postoji kao aktivno mjesto otvoreno istraživanjima i eksperimentu te kao prostor za kulturne sadržaje koji dijalog ostvaruju i s umjetnicama i umjetnicima\, ali i s lokalnom zajednicom. Hana Miletić\, u suradnji s Grahamom Kellyjem i Centrom za istraživanje mode i odijevanja (CIMO)\, u projektu SintArt 18 predstavlja site-specific tekstilne\, prostorne\, video i tekstualne intervencije u prostorima Zbirke Richter koje privremeno ili zamjenjuju određene elemente interijera\, ili pak izmještaju njihove pozicije i funkcije\, ali i stvoriti nove odnose i značenja između izložbenog\, radnog i privatnog prostora Zbirke povezujući ih u novu interpretativnu cjelinu. \nKustosice: Morana Matković\, Ana Škegro \nProgram je ostvaren uz podršku Grada Zagreba i Ministarstva kulture i medija RH.\nProjekt je omogućen uz podršku programa Europske unije Culture Moves Europe. \nRadno vrijeme Zbirke Richter: srijedom i subotom od 11 do 16 sati.\nOstalim danima u tjednu posjet je moguć uz prethodnu najavu na: richter@msu.hr 
URL:https://planforculture.com/event/sintart-18-hana-miletic-i-graham-kelly-uz-cimo-u-dijalogu-s-nadom-kares-richter-i-vjenceslavom-richterom/2025-05-24/
LOCATION:Zbirka Richter\, Vrhovec 38\, Zagreb\, Croatia (Local Name: Hrvatska)
CATEGORIES:EXHIBITION
ATTACH;FMTTYPE=image/png:https://planforculture.com/wp-content/uploads/2025/06/facebook-event-cover-1.png
ORGANIZER;CN="Zbirka%20Richter":MAILTO:richter@msu.hr
END:VEVENT
BEGIN:VEVENT
DTSTART;TZID=Europe/Zagreb:20250606T200000
DTEND;TZID=Europe/Zagreb:20250606T214000
DTSTAMP:20260421T195312
CREATED:20250507T104356Z
LAST-MODIFIED:20250507T110700Z
UID:10003061-1749240000-1749246000@planforculture.com
SUMMARY:DANI SATIRE / GSK Kerempuh: SVE ZBOG JEDNOG IMENA
DESCRIPTION:Autori: Matthieu Delaporte i Alexandre de La Patellière\nPrevoditeljica: Vanda Mikšić\nRedateljica: Saša Broz\nAutorica adaptacije i dramaturginja: Dora Delbianco\nScenografkinja: Sara Haas\nKostimografkinja: Mia Popovska\nSuradnica za scenski pokret: Nastasja Štefanić Kralj\nIzbor glazbe: Saša Broz\nGlazbeni suradnik: Marin Rabadan\nOblikovatelj svjetla: Aleksandar Čavlek \nInspicijentica: Lorena Matešić \n  \nIgraju:\nÉlisabeth Garaud-Larchet – Anita Matić Delić\nPierre Garaud\, Élisabethin muž – Damir Poljičak\nClaude Gratignol\, Élisabethin prijatelj iz djetinjstva – Domagoj Ivanković\nVictor Larchet\, Élisabethin brat – Borko Perić\nAnna Caravati\, Victorova partnerica – Mirela Videk Hranjec \n  \nOva britka francuska komedija odvija se jedne večeri\, u realnom vremenu\, na druženju obitelji i prijatelja. Sve započinje idilično\, a onda se fasade ruše nevjerojatnom brzinom i izlaze na površinu svi oni skriveni slojevi\, međusobna zamjeranja i istine koje su predugo prešućivane. \nOriginalnog naslova ˝Prenom¨\, komedija je to o frustriranom današnjem građanskom sloju te je s velikim uspjehom odigrana u više od 45 zemalja diljem svijeta\, zahvaljujući iskričavom dijalogu te detaljno oslikanim\, vjerodostojnim i neodoljivim likovima s kojima se lako možemo poistovjetiti. Centralne teme su suparništvo između braće i sestara\, zatim bračna ogorčenost\, položaj žene unutar obitelji\, nejednaka podjela odgovornosti i brige o zajedničkoj djeci\, kao i snažnoj netrpeljivost koja se razvija kao prirodna posljednica svih navedenih nejednakosti. \nRitam predstave je dinamičan\, nema ni sekunde pauze niti praznog hoda\, a protagonisti su živopisni i neodoljivi. Tekst u mnogočemu asocira na Rezin komad ˝Bog masakra˝\, kao i na kultni Genoveseov film ˝Potpuni stranci˝. \nNapisali su ga Matthieu Delaporte i Alexandre de la Patellière 2010.\, a od tada je izveden gotovo 250 puta\, čime je postao klasika francuskog kazališta. 2012. je uspješno adaptiran u film koji je pogledalo tri milijuna gledatelja. Original filma također je pratilo nekoliko varijanti remakea. \nPrilikom praizvedbe ˝Prenoma˝\, pariška je produkcija osvojila šest nominacija za nagradu Molière\, uključujući i onu za najbolju komediju\, dvije nominacije za najboljeg sporednog glumca za Jean-Michela Dupuisa i Guillaumea de Tonquédeca\, zatim za najbolju sporednu glumicu za Valérie Benguigui\, najboljeg dramatičara za Matthieua Delaportea i Alexandrea de la Patellièrea i najbolju režiju za Bernarda Murata. \n 
URL:https://planforculture.com/event/dani-satire-gsk-kerempuh-sve-zbog-jednog-imena/
LOCATION:Satiričko kazalište Kerempuh\, Prolaz Fadila Hadžića 7\, Zagreb\, Croatia (Local Name: Hrvatska)
CATEGORIES:THEATER
ATTACH;FMTTYPE=image/jpeg:https://planforculture.com/wp-content/uploads/2025/05/Sve-zbog-jednog-imena.jpg
ORGANIZER;CN="Satiri%C4%8Dko%20kazali%C5%A1te%20Kerempuh":MAILTO:blagajna@kerempuh.hr
END:VEVENT
BEGIN:VEVENT
DTSTART;TZID=Europe/Zagreb:20250606T210000
DTEND;TZID=Europe/Zagreb:20250606T221000
DTSTAMP:20260421T195312
CREATED:20250528T070011Z
LAST-MODIFIED:20250528T070323Z
UID:10003090-1749243600-1749247800@planforculture.com
SUMMARY:Studio EXIT: MASKE
DESCRIPTION:Autorski tim: \n\nAutor\, redatelj i izvođač: Dražen Šivak\nDramaturgija: Patrik Gregurec\, Karla Leko\nProdukcija: Kazalište Grupa u koprodukciji s Dubrovačkim ljetnim igrama i u suradnji sa Scenom Ribnjak i Teatrom EXIT \n\n\n\n\nO predstavi: \nPredstava MASKE oživljavanje je tradicije commedije dell’arte i njezino približavanje široj publici. U formi predavanja\, glumac na sceni objašnjava značenje maski i arhetipove koji su predstavljeni u tehnici commedije dell’arte. Putujući kroz klasičnu dramsku književnost Hrvatske i svijeta (Držić\, Shakespeare\, Moliere\, itd.)\, gledatelji povezuju arhetipske priče o ljudskim odnosima te stvaraju paralele s karakterima naših suvremenika. \nPredstavi je 2024. godine na 34. Festivalu hrvatske drame Marulićevi dani dodijeljena Nagrada publike za najbolju predstavu (prosječna ocjena: 4\,89)\, a Karla Leko i Patrik Gregurec dobili su Marula za dramaturgiju predstave.
URL:https://planforculture.com/event/studio-exit-maske-5/
LOCATION:Studio EXIT\, Gundulićeva 37/1\, Zagreb\, 10000
CATEGORIES:LECTURE,PERFORMANCE,THEATER
ATTACH;FMTTYPE=image/jpeg:https://planforculture.com/wp-content/uploads/2025/05/Maske-scaled.jpg
ORGANIZER;CN="Teatar%20EXIT":MAILTO:exit@teatarexit.hr
END:VEVENT
END:VCALENDAR