BEGIN:VCALENDAR
VERSION:2.0
PRODID:-//PLAN FOR CULTURE - ECPv6.0.6//NONSGML v1.0//EN
CALSCALE:GREGORIAN
METHOD:PUBLISH
X-WR-CALNAME:PLAN FOR CULTURE
X-ORIGINAL-URL:https://planforculture.com
X-WR-CALDESC:Events for PLAN FOR CULTURE
REFRESH-INTERVAL;VALUE=DURATION:PT1H
X-Robots-Tag:noindex
X-PUBLISHED-TTL:PT1H
BEGIN:VTIMEZONE
TZID:Europe/Zagreb
BEGIN:DAYLIGHT
TZOFFSETFROM:+0100
TZOFFSETTO:+0200
TZNAME:CEST
DTSTART:20250330T010000
END:DAYLIGHT
BEGIN:STANDARD
TZOFFSETFROM:+0200
TZOFFSETTO:+0100
TZNAME:CET
DTSTART:20251026T010000
END:STANDARD
END:VTIMEZONE
BEGIN:VEVENT
DTSTART;TZID=Europe/Zagreb:20250524T110000
DTEND;TZID=Europe/Zagreb:20250824T160000
DTSTAMP:20260421T212109
CREATED:20250616T112050Z
LAST-MODIFIED:20250616T112653Z
UID:10003110-1748084400-1756051200@planforculture.com
SUMMARY:SintArt 18: Hana Miletić i Graham Kelly uz CIMO – U dijalogu s Nadom Kareš Richter i Vjenceslavom Richterom
DESCRIPTION:Ciklus povremenih izložbi SintArt održava se 15. godinu u okviru izložbene djelatnosti Zbirke Vjenceslava Richtera i Nade Kareš Richter. Nekadašnji radni prostor arhitekta i umjetnika Vjenceslava Richtera u prizemlju obiteljske kuće preuređen je početkom 2000. godine u izložbeni\, s namjerom predstavljanja umjetničkih radova iz donacije\, ali i novih umjetničkih istraživanja suvremenih umjetnika i umjetnica mlađe i srednje generacije. U svojim radovima oblikovanim u različitim medijima\, gostujući umjetnici i umjetnice referirali su se na različita područja Richterovog stvaralaštva\, od arhitektonskih projekata\, umjetničkih istraživanja do teorijskih tekstova ili pak same donacije donoseći nova tumačenja\, kako autorova stvaralaštva\, tako i same Zbirke. Projekt SintArt proizašao je iz Richterove ideje i prijedloga da Zbirka postoji kao aktivno mjesto otvoreno istraživanjima i eksperimentu te kao prostor za kulturne sadržaje koji dijalog ostvaruju i s umjetnicama i umjetnicima\, ali i s lokalnom zajednicom. Hana Miletić\, u suradnji s Grahamom Kellyjem i Centrom za istraživanje mode i odijevanja (CIMO)\, u projektu SintArt 18 predstavlja site-specific tekstilne\, prostorne\, video i tekstualne intervencije u prostorima Zbirke Richter koje privremeno ili zamjenjuju određene elemente interijera\, ili pak izmještaju njihove pozicije i funkcije\, ali i stvoriti nove odnose i značenja između izložbenog\, radnog i privatnog prostora Zbirke povezujući ih u novu interpretativnu cjelinu. \nKustosice: Morana Matković\, Ana Škegro \nProgram je ostvaren uz podršku Grada Zagreba i Ministarstva kulture i medija RH.\nProjekt je omogućen uz podršku programa Europske unije Culture Moves Europe. \nRadno vrijeme Zbirke Richter: srijedom i subotom od 11 do 16 sati.\nOstalim danima u tjednu posjet je moguć uz prethodnu najavu na: richter@msu.hr 
URL:https://planforculture.com/event/sintart-18-hana-miletic-i-graham-kelly-uz-cimo-u-dijalogu-s-nadom-kares-richter-i-vjenceslavom-richterom/2025-05-24/
LOCATION:Zbirka Richter\, Vrhovec 38\, Zagreb\, Croatia (Local Name: Hrvatska)
CATEGORIES:EXHIBITION
ATTACH;FMTTYPE=image/png:https://planforculture.com/wp-content/uploads/2025/06/facebook-event-cover-1.png
ORGANIZER;CN="Zbirka%20Richter":MAILTO:richter@msu.hr
END:VEVENT
BEGIN:VEVENT
DTSTART;TZID=Europe/Zagreb:20250609T090000
DTEND;TZID=Europe/Zagreb:20250630T200000
DTSTAMP:20260421T212109
CREATED:20250606T091551Z
LAST-MODIFIED:20250606T091741Z
UID:10003101-1749459600-1751313600@planforculture.com
SUMMARY:ULUPUH – Fragmenti prirode
DESCRIPTION:Autorica koncepta i kustosica izložbe: Antonija Balić\nKroz vođene ture s kustosicom izložbe Antonijom Balić i sudjelujućim umjetnicima\, publika će imati priliku produbiti svoje razumijevanje izloženih radova. Interaktivni performans Dodir te posebno osmišljeni segment Primijenjenih 10 omogućuju aktivno uključivanje posjetitelja u proces stvaranja\, čime se dodatno naglašava tematika osjetilnog kontakta i prirodne međupovezanosti. Performans istodobno simbolično povezuje tri značajne obljetnice – 10 godina Festivala varaždinskih dvorišta\, 75 godina ULUPUH-a te 35 godina Galerije Kovačić Mačolić – ostavljajući trajan trag kroz keramičke otiske koji mogu postati dio kulturne memorije grada.” – Antonija Balić\nPosjetitelji će moći razgledati izložbu do 30. lipnja u Galeriji Kovačić Macolić\, Ulica Ljudevita Gaja 13\, Varaždin. Radno vrijeme: ponedjeljak – petak od 9 do 12 i od 17 do 20 sati\, subotom od 9 do 12 sati. Nedjeljom i praznikom zatvoreno
URL:https://planforculture.com/event/ulupuh-fragmenti-prirode/
LOCATION:Galerija Kovačić Macolić\, Ljudevita Gaja 13\, Varaždin\, Croatia (Local Name: Hrvatska)
CATEGORIES:EXHIBITION
ATTACH;FMTTYPE=image/png:https://planforculture.com/wp-content/uploads/2025/06/Picture1.png
ORGANIZER;CN="ULUPUH":MAILTO:ulupuh@zg.t-com.hr
END:VEVENT
BEGIN:VEVENT
DTSTART;TZID=Europe/Zagreb:20250609T190000
DTEND;TZID=Europe/Zagreb:20250627T200000
DTSTAMP:20260421T212109
CREATED:20250523T174819Z
LAST-MODIFIED:20250523T175021Z
UID:10003086-1749495600-1751054400@planforculture.com
SUMMARY:“KREPAJ FOTOGRAFIJO”: Izložba radova Željka Jermana povodom obilježavanja 10 godina Galerije Spot
DESCRIPTION:Ured za fotografiju poziva na otvorenje izložbe istaknutog konceptualnog umjetnika Željka Jermana\, koje će se održati u ponedjeljak\, 9. lipnja 2025.\, u 19:00 sati u Galeriji Spot (Čanićeva 6\, Zagreb). Izložba okuplja radove iz privatnih zbirki Bojane Švertasek i Darka Šimičića\, s posebnim naglaskom na Jermanovu eksperimentalnu i inovativnu upotrebu fotografskog medija. Kustosi izložbe su Sandra Križić Roban i Darko Šimičić. Nakon otvorenja zakazan je koncert jazz sastava IRK Three (Domagoj Leljak\, Krunoslav Levačić i Ivar Roban Križić) u dvorištu Ureda za fotografiju. \nZa vrijeme trajanja izložbe\, održat će se radionica izrade fotograma Ima li svrhe leći na papir i ponoviti neponovljivo?\, predstavljanje novog broja časopisa Fototxt br. 9/10\, posvećenog desetoj obljetnici Galerije Spot i umjetniku Željku Jermanu\, panel-diskusija Sjećanja na Jermana te projekcija kratkog Jermanovog Filma koji će možda biti nastavljen(1975./1976.\, 6′) i drugih eksperimentalnih filmova u selekciji Sare Simić. Navedena događanja bit će popraćena rasprodajom tiskanih izdanja Ureda za fotografiju. \n“Jermanove su fotografije\, koje pripisujemo ovom mediju jer nemamo bolju opciju\, geste koje pokazuju od čega su zapravo sazdane\, pri čemu njihova svojstva nisu prikazivačka. Ponekad smo u prilici uprijeti prstom u neki od radova i reći da prepoznajemo osobu (koja je\, kao i većina ostalog što vidimo ili smo u mogućnosti imenovati\, prepuštena postupnoj dezintegraciji)\, no ovaj nas postupak nigdje neće odvesti. Upravo je stoga odluka da desetu obljetnicu izlagačkog prostora za fotografiju\, Galerije Spot\, prepustimo Jermanu\, simbolična. Jer se\, kao i u nekim ranijim prilikama\, ne bavimo onime što fotografije prikazuju. Samo ih puštamo da budu neumorni iskazi\, Barthesovim riječima\,[1] onoga što su umjetnici stvarali\, gorljivo se zalažući za fotografiju. Kao i uvijek\, izvrsno priređena dokumentacija koju je – posvećen liku i djelu umjetnika – godinama skupljao Darko Šimičić\, neizostavna je “nulta točka” od koje krećem. Uz ostalo\, tu je tekst njegove važne izložbe\, održane 1975. godine u CEFFT-u. \nJermanov put kroz fotografiju započinje s fotografskim tečajem koji polazi 1968. godine\, gotovo istodobno svirajući u nekom rock sastavu. Vrijeme je to sivog svijeta koji bilježi na sivim fotografijama\, kombinirajući tehnike i nerijetko pišući po fotografskom papiru. Kratke izjave gotovo su manifesti; tu su zatim datumi\, smrt je česta (i neizbježna)\, a formati već tada zahtjevni. Ne svi\, no širina foto papira koji se prodavao u roli je zadana i iznosi 100 cm\, a duljina 10 metara. U vlastitoj kući otvara fotografski atelje Blow Up 1970.\, nekoliko godina nakon što je izašao istoimeni film Michelangela Antonionija. Martek spominje\, da se Jermanove prijatelje dojmila ova vrsta inicijative\, rijetka za to doba. Radoslav Putar navodi da se Jermanovo prekoračenje fotografskih granica javlja “u trenutku zastoja ili bar stabilizacije razvitka prometanja fotografije u našoj sredini”.[2] Iz današnje perspektive\, bilo je to ipak vrijeme osobitog razvoja u fotografiji\, prometanja koje je omogućeno pojavom časopisa Spot 1972. godine\, institucionalnom podrškom Galerije suvremene umjetnosti u Zagrebu\, Muzeja savremene umetnosti u Beogradu i Razstavnog salona Rotovž u Mariboru; paralelno\, serija izložbi Nova fotografija[3] promovirala je bitne pomake na sceni\, nadasve ključne eksperimente konceptualnih 1970-ih. Pa iako ćemo ga gotovo bez zadrške promatrati upravo u tom ključu\, Jermanov senzibilitet ne podvrgava se bespogovorno konceptualizmu. Ukoliko se zadržimo na subjektu (koji počiva u korijenu subjektivnosti) te se odupremo lamentacijama o njegovom odvajanju od objekta (a što do neke mjere pristaje fotografiji kao mediju koji\, načelno\, omogućuje neutralno opažanje)\, stići ćemo vjerojatno i do samospoznaja koje se iz uma izmještaju u tijelo.[4]Upravo tijelo\, naime\, zbirni je prostor Jermanovih osjetila koje tih ranih 1970-ih počinje koristiti\, svjestan ograničenja medija u kojem djeluje. \nJerman ostaje poznat po činjenici da je opstruirao fotografske tehnike\, često izbjegavajući i samo korištenje fotografske kamere\, odnosno snižavajući njezinu izražajnu moć na najnižu moguću točku.[5] Umjetnikov život i tijelo bili su njegovo trajno oruđe i predmet interesa\, beskompromisno predočeni u svim fazama stvaralačke i životne moći\, i nemoći. To stanje nikad nije bilo ni mirno ni utišano\, a njegovi su radovi nastavili svoju borbu za opstanak – osobito oni izvedeni na foto papiru prolijevanjem kemikalija\, koje je u svijet poslao bez primjerene zaštite. Njegove poruke od ranih 1970-ih nadalje svjedoče o jedinstvenoj umjetničkoj praksi izrazito egzistencijalnih\, etičkih i autodestruktivnih karakteristika. Uz ostalo\, snimao je pojedina intermedijalna događanja\, izložbe-akcije\, natpise na zidu koje je najvjerojatnije sam pisao\, naknadno intervenirajući na fotografijama u skladu s vlastitim načelom o djelovanju “svim raspoloživim sredstvima bez predrasuda o autonomnosti medija”\, njegovim riječima.[6] Jerman ostaje nejasan\, komunicirajući nerijetko sam sa sobom\, puštajući nas da priđemo bliže mjestu gdje je ostavio znatan trag u svijetu\, iako taj svijet\, kako je kazao\, nije bio njegov.” \nSandra Križić Roban \n\nIzvadak iz teksta koji će biti objavljen u časopisu FOTOTXT 9/10 \n  \nŽeljko Jerman (Zagreb\, 1949. – Korčula\, 2006.) bio je istaknuti konceptualni umjetnik\, član neformalne Grupe šestorice autora aktivne tijekom 1970-ih\, te Radne zajednice umjetnika Podroom. Već u drugoj polovici 1960-ih pokazuje snažan interes za fotografiju\, a 1970. godine\, u sklopu svoje tadašnje kuće u Voćarskoj ulici\, otvara fotografski atelijer Blow Up. U svom radu dosljedno istražuje mogućnosti\, granice i potencijale fotografskog medija – eksperimentira s kemikalijama\, procesom razvijanja\, negativima i foto-papirom\, a fotografiji pristupa izrazito ekspresivno — kao objektu kojem je namijenio rezanje\, trganje i spaljivanje. Često je u svojim radovima koristio i tekst\, čija je funkcija bila dodatno naglasiti egzistencijalističke dimenzije pojedinog rada. Izlaganjem u javnom prostoru unosi osobne poruke i intimne refleksije u kontekst svakodnevice. \n  \nIzložba je organizirana u suradnji s Bojanom Švertasek i Darkom Šimičićem kojima zahvaljujemo na pomoći u istraživanju i posudbi radova. \n  \nUlaz na sve programe je slobodan. \n  \n_____________________________________________________________ \n[1] Roland Barthes. Svijetla komora. Bilješka o fotografiji (prijevod Željka Čorak)\, Zagreb: Antibarbarus\, 2003.\, 9. \n[2] Radoslav Putar. Bez naslova\, Željko Jerman. Subjektivna fotografija (katalog izložbe)\, Zagreb: Centar za fotografiju\, film i televiziju\, Galerija grada Zagreba\, 1975.\, bez paginacije. \n[3] Održane su četiri izložbe\, prva 1974.\, posljednja 1984. godine\, uvijek u suorganizaciji spomenute tri ustanove. \n[4] Teza Merleau-Pontyja iznesena u bilješci o intersubjektivnosti. Vladimir Biti. Pojmovnik suvremene književne i kulturne teorije\, Zagreb: Matica hrvatska\, 2000.\, 223. \n[5] Zdenko Rus. “Trag”\, Željko Jerman. Subjektivne i elementarne fotografije\, foto i fotogramske slike 1970 – 1995 (katalog izložbe) [“Trace”\, Subjective and Elementary Photographs\, Photo and Photogram Paintings 1970 – 1995 (exhibition catalogue)]\, Zagreb: Moderna galerija\, 1996.\, 3. \n[6] Nena Baljković. “Željko Jerman: Fotografija kao vlastiti trag”\, Pitanja\, 7-8 (1975.).
URL:https://planforculture.com/event/krepaj-fotografijo-izlozba-radova-zeljka-jermana-povodom-obiljezavanja-10-godina-galerije-spot/
LOCATION:Galerija Spot\, Ulica Gjure Čanića 6\, Zagreb\, 10000 Zagreb\, Croatia (Local Name: Hrvatska)
CATEGORIES:EXHIBITION,LECTURE,PERFORMANCE
ATTACH;FMTTYPE=image/jpeg:https://planforculture.com/wp-content/uploads/2025/05/Jerman_Krepaj-fotografijo-scaled.jpg
ORGANIZER;CN="Ured%20za%20fotografiju":MAILTO:info@officeforphotography.com
END:VEVENT
BEGIN:VEVENT
DTSTART;TZID=Europe/Zagreb:20250610T200000
DTEND;TZID=Europe/Zagreb:20250624T200000
DTSTAMP:20260421T212109
CREATED:20250606T092403Z
LAST-MODIFIED:20250606T092920Z
UID:10003103-1749585600-1750795200@planforculture.com
SUMMARY:ZGRAF 13
DESCRIPTION:Glavna izložba selektiranih radova\nSelektirani radovi prijavljeni su u dvije cjeline: \na) REVIJA – redovita je međunarodna selektirana izložba realiziranih radova s područja grafičkog dizajna i vizualnih komunikacija\nb) TEMA – međunarodna je selektirana problemska izložba „ZADOVOLJSTVO SVIMA“
URL:https://planforculture.com/event/zgraf-13/2025-06-10/
LOCATION:Francuski paviljon SCZG\, Savska 25\, Zagreb\, 10000\, Croatia (Local Name: Hrvatska)
CATEGORIES:EXHIBITION
ATTACH;FMTTYPE=image/png:https://planforculture.com/wp-content/uploads/2025/06/Zgraf-vizual.png
ORGANIZER;CN="ULUPUH":MAILTO:ulupuh@zg.t-com.hr
END:VEVENT
BEGIN:VEVENT
DTSTART;TZID=Europe/Zagreb:20250620T200000
DTEND;TZID=Europe/Zagreb:20250630T220000
DTSTAMP:20260421T212109
CREATED:20250620T154813Z
LAST-MODIFIED:20250620T154813Z
UID:10003113-1750449600-1751320800@planforculture.com
SUMMARY:Izložba Beatus Danice Franić u Galeriji Flora
DESCRIPTION:Oko godine 1000. na europskom području vlada strah od predviđenog kraja svijeta i intenzivno se počinju prepisivati i oslikavati kodeksi s tekstom Apokalipse / Otkrivenja odnosno proročke vizije svršetka svijeta s kraja Novog zavjeta\, koju\, prema predaji\, piše sv. Ivan evanđelista na Patmosu. Jedan od najvažnijih komentara kojima se interpretira tekst Apokalipse stvara redovnik Beatus iz Lièbane na području današnje Španjolske u 8. st.\, a njegovi se komentari posebno populariziraju u 10. i 11. stoljeću. Tekst Apokalipse prepun je sugestivnih\, mističnih slika (knjiga sa sedam pečata\, babilonska bludnica\, tetramorf) gdje se spaja nespojivo i sve pršti od dramatičnosti i začudnosti\, a oslikane Apokalipse s Beatusovim komentarima i pripadajućom specifičnom ikonografijom nazvane jednostavno „Beatus” među najljepšim su iluminiranim rukopisima uopće. \nDanica Franić\, suvremena umjetnica u stoljeću obilježenom pandemijom korona virusa\, prirodnim katastrofama\, ratovima\, sve većom prisutnošću umjetne inteligencije\, te sveopćim osjećajem nesigurnosti i ugroze počinje raditi na ciklusu koji se izravno veže za iluminirani rukopis iz 11. stoljeća s Beatusovim komentarima na Apokalipsu. Rukopis je poznat pod nazivom Beatus Saint-Severa ili Apokalipsa Saint -Severa jer nastaje u benediktinskoj opatiji Saint-Sever\, a danas se čuva u Nacionalnoj biblioteci u Parizu (MS lat. 8878). Kodeksi nastali u samostanskim skriptorijima plod su suradnje pisara\, knjigoveža\, iluminatora i nastaju u dugotrajnom procesu od pripreme pergamene do završnog pozlaćivanja i oslikavanja. Ono što spaja srednjovjekovne pisare i iluminatore i jednu suvremenu hrvatsku umjetnicu je prvenstveno manualni aspekt\, dugotrajno vrijeme izvedbe i predani rad što kod srednjovjekovnih pisara proizvodi uzrečicu da „tri prsta pišu\, ali cijelo tijelo radi” (tria digita scribunt sed totus corpus laborat). Jednako važno je i vrednovanje samih materijala – pergamene\, tinte i pigmenta u pisarsko-slikarskoj djelatnosti\, te konca i tkanine u slučaju umjetnice koje u konačnici i dovodi do izlaganja u zamračenom prostoru gdje je moguće na pravi način usvojiti teksturu i boje tkanine i veza. \nU srednjem vijeku ne postoji afirmativan odnos prema ideji originalnosti kakav je prisutan u svijesti modernog čovjeka već je kopiranje prema predlošku – egzemplaru osnova kako pisarske\, a u velikom broju slučajeva i iluminatorske djelatnosti. U radu prema predlošcima odabranih iz obilja iluminacija „Beatusa”\, umjetnica izostavlja jedino tekstove objašnjenja\, svojevrsne legende koje se na nekim mjestima nalaze u iluminacijama rukopisa\, te tu i tamo sebi dopusti varijacije u bojama\, umnažanje horizontalnih traka plošnog prostora ili čak veću raznolikost boja. Devet prikaza predstavljenih na ovoj izložbi izrađuje u tehnici veza na lanu čija boja fingira samu pergamenu\, te poštuje čak i dimenzije samog kodeksa (29 x 42 cm). Napučenost prikaza – srednjovjekovni horror vacui\, kromatski intenzitet\, stilizacija i plošnost oblika konvencije su koje umjetnica preuzima u prebacivanju prizora iz jednog medija u drugi\, igrajući se pojmovima autorstva i vremenskim kategorijama. Intenzivne\, kromatski zasićene boje podjednako odašilju asocijacije na univerzalnu pučku umjetnost\, kao i na djela modernog\, osobito fovističkog slikarstva. U cilju neobičnih preklapanja srednjovjekovlja i modernog vrijedi podsjetiti i na tempere Antuna Masle iz 1960. s temom Apokalipse koje su plošnošću i koloritom srodne srednjovjekovnim iluminacijama. \nDrugi dio procesa umjetnice je iskorak iz svojevoljno nametnute igre kopiranja u vlastitu interpretaciju odabrane teme. Promjenu procesa umjetnica podvlači velikim formatom i materijalom – ručno bojanom svilom\, ali prvenstveno odmakom od zgusnutosti ranijih figuralnih prikaza. Na tri široke horizontalne\, različito obojane površine\, u jednom mirnijem\, laganijem ritmu izvezuje neobične\, elegantne strukture koje su oblikovno srodne srednjovjekovnoj ornamentici\, ali proizlaze iz osobnog imaginarija umjetnice. Prvi rad većeg formata interpretacija je teme već zastupljene u vezovima – minijaturama (Kiša vatre i krvi)\, dok je drugi rad većeg formata pod enigmatskim nazivom „Ključevi” potpuno samosvojan. Predočeni „ključevi” kombinacija su čvrste omeđene forme i koncentričnih krugova koji omekšavaju prikaz i najviše podsjećaju na fluidna\, promjenjiva gibanja vode. „Ključevi” kojima je umjetnica kao zadnji potez prije njihovog premijernog predstavljanja podarila i laganu izvijenu liniju mogu funkcionirati i kao završetak jedne uzbudljive istraživačko-vizualne priče\, ali i kao sam početak – šifrirani ulazak u udaljena stoljeća i svjetove srednjovjekovnih minijatura naspram galopirajućeg kaosa suvremenog svijeta. \nRozana Vojvoda \n\n\n\nDanica Franić rođena je u Makarskoj 1967. godine. Diplomirala je Tekstilni dizajn na Tekstilno-tehnološkom fakultetu u Zagrebu 1988. godine\, a na Akademiji likovnih umjetnosti u Zagrebu slikarstvo u klasi prof. Zlatana Vrkljana 1992. godine. Od 1994. godine radila je u Školi za modu i dizajn\, a od 2007. profesorica je likovne umjetnosti i antičke kostimografije u Klasičnoj gimnaziji u Zagrebu. Izlagala je na dvadesetak skupnih i samostalnih izložbi.
URL:https://planforculture.com/event/izlozba-beatus-danice-franic-u-galeriji-flora/
LOCATION:HDLUDU\, Šetalište kralja Zvonimira 32\, Dubrovnik
CATEGORIES:EXHIBITION
ATTACH;FMTTYPE=image/jpeg:https://planforculture.com/wp-content/uploads/2025/06/Flora-plakati_06-Franic_WEB-scaled.jpg
ORGANIZER;CN="Hrvatsko%20dru%C5%A1tvo%20likovnih%20umjetnika%20Dubrovnik":MAILTO:hdludubrovnik@gmail.com
END:VEVENT
BEGIN:VEVENT
DTSTART;TZID=Europe/Zagreb:20250623T100000
DTEND;TZID=Europe/Zagreb:20250626T140000
DTSTAMP:20260421T212109
CREATED:20250603T081128Z
LAST-MODIFIED:20250603T081128Z
UID:10003095-1750672800-1750946400@planforculture.com
SUMMARY:Praznici u Pogonu: Osnove glazbene produkcije
DESCRIPTION:Kroz besplatnu radionicu za srednjoškolce s producenticom i glazbenicom Ivonom Eterović\, polaznici će savladati osnovne alate za stvaranje svojih prvih pjesama i zvučnih projekata. \nKako od svakodnevnih zvukova stvoriti vlastitu glazbu? Želiš naučiti kako koristiti Ableton i producirati svoje prve beatove? \nPozivamo srednjoškolce i srednjoškolke na radionicu osnova glazbene produkcije! U četiri dana radionice polaznici će se upoznati s osnovama produkcije u programu Ableton LIVE. Naučit će osnovne pojmove vezane uz glazbenu produkciju poput audija i MIDI-ja\, te će se naučiti snalaziti u njegovom sučelju. Bavit će se razradom glazbenih ideja i počecima skladanja jedne pjesme korištenjem zvukova koje su sami snimili kao i stvaranjem vlastitih zvukova u digitalnom softveru. \nRadionica se održava u centru grada\, Pogon Mislavova 18\, od ponedjeljka\, 23. lipnja do četvrtka\, 26. lipnja\, od 10 do 14 sati. \nRok za prijavu je 19. lipnja do kraja dana ili do popunjenja. Prijave na linku.
URL:https://planforculture.com/event/praznici-u-pogonu-osnove-glazbene-produkcije/
LOCATION:Pogon Mislavova 18\, Ulica kneza Mislava 18\, Zagreb\, 10000\, Croatia (Local Name: Hrvatska)
CATEGORIES:WORKSHOP
ATTACH;FMTTYPE=image/jpeg:https://planforculture.com/wp-content/uploads/2025/06/Ivona-Eterovic-tonota_foto-Marina-Uzelac-2.jpg
ORGANIZER;CN="Pogon%20-%20Zagreba%C4%8Dki%20centar%20za%20nezavisnu%20kulturu%20i%20mlade":MAILTO:pr@pogon.hr
END:VEVENT
BEGIN:VEVENT
DTSTART;TZID=Europe/Zagreb:20250623T100000
DTEND;TZID=Europe/Zagreb:20250627T140000
DTSTAMP:20260421T212109
CREATED:20250605T103658Z
LAST-MODIFIED:20250605T103738Z
UID:10003100-1750672800-1751032800@planforculture.com
SUMMARY:Ljetne radionice u Školskom muzeju! NEKA ŠKOLA ZAVRŠI KREATIVNO
DESCRIPTION:Hrvatski školski muzej i ove godine poziva djecu da na poseban način proslave kraj školske godine! Program radionica „Neka škola završi kreativno!“ održava se u galeriji „Školica za 5“\, u Hebrangovoj 5\, Zagreb\, od 23. do 27. lipnja 2025.\, svaki dan od 11 do 13 sati. \nTjedni raspored radionica\nPonedjeljak\, 23. 6. – NERED U MUZEJU Likovna radionica – kreativni nered stvara novi likovni red!\nUtorak\, 24. 6. – ISTRAŽUJEMO SVIJET PRIRODE Prirodoslovna radionica – upoznaj biljni i životinjski svijet kroz igru i eksperiment!\nSrijeda\, 25. 6. – VODENA SRIJEDA Ekološka radionica – voda kroz igru\, znanost i stvaranje!\nČetvrtak\, 26. 6. – ČUPAVI ČETVRTAK Radionica ručnog rada – igramo se vunom i koncem te stvaramo mala čupava čuda!\nPetak\, 27. 6. – INTERAKTIVNI PETAK SuperKvisko! Kreativna radionica inspirirana izložbom „Sjećanje na Kviskoteku“ – petak je za pametne fore!\nU opuštenoj muzejskoj atmosferi djeca će kroz kreativne\, edukativne i interaktivne radionice istraživati svijet umjetnosti\, prirode\, znanosti i mašte.
URL:https://planforculture.com/event/ljetne-radionice-u-skolskom-muzeju-neka-skola-zavrsi-kreativno/
LOCATION:ZAGREB
CATEGORIES:WORKSHOP
ATTACH;FMTTYPE=image/jpeg:https://planforculture.com/wp-content/uploads/2025/06/plakat-jpg.jpg
ORGANIZER;CN="Hrvatski%20%C5%A1kolski%20muzej%2C%20galerija%20%22%C5%A0kolica%20za%205%22":MAILTO:hsm@hsmuzej.hr
END:VEVENT
END:VCALENDAR