BEGIN:VCALENDAR
VERSION:2.0
PRODID:-//PLAN FOR CULTURE - ECPv6.0.6//NONSGML v1.0//EN
CALSCALE:GREGORIAN
METHOD:PUBLISH
X-ORIGINAL-URL:https://planforculture.com
X-WR-CALDESC:Events for PLAN FOR CULTURE
REFRESH-INTERVAL;VALUE=DURATION:PT1H
X-Robots-Tag:noindex
X-PUBLISHED-TTL:PT1H
BEGIN:VTIMEZONE
TZID:Europe/Zagreb
BEGIN:DAYLIGHT
TZOFFSETFROM:+0100
TZOFFSETTO:+0200
TZNAME:CEST
DTSTART:20250330T010000
END:DAYLIGHT
BEGIN:STANDARD
TZOFFSETFROM:+0200
TZOFFSETTO:+0100
TZNAME:CET
DTSTART:20251026T010000
END:STANDARD
END:VTIMEZONE
BEGIN:VEVENT
DTSTART;TZID=Europe/Zagreb:20250524T110000
DTEND;TZID=Europe/Zagreb:20250824T160000
DTSTAMP:20260421T224924
CREATED:20250616T112050Z
LAST-MODIFIED:20250616T112653Z
UID:10003110-1748084400-1756051200@planforculture.com
SUMMARY:SintArt 18: Hana Miletić i Graham Kelly uz CIMO – U dijalogu s Nadom Kareš Richter i Vjenceslavom Richterom
DESCRIPTION:Ciklus povremenih izložbi SintArt održava se 15. godinu u okviru izložbene djelatnosti Zbirke Vjenceslava Richtera i Nade Kareš Richter. Nekadašnji radni prostor arhitekta i umjetnika Vjenceslava Richtera u prizemlju obiteljske kuće preuređen je početkom 2000. godine u izložbeni\, s namjerom predstavljanja umjetničkih radova iz donacije\, ali i novih umjetničkih istraživanja suvremenih umjetnika i umjetnica mlađe i srednje generacije. U svojim radovima oblikovanim u različitim medijima\, gostujući umjetnici i umjetnice referirali su se na različita područja Richterovog stvaralaštva\, od arhitektonskih projekata\, umjetničkih istraživanja do teorijskih tekstova ili pak same donacije donoseći nova tumačenja\, kako autorova stvaralaštva\, tako i same Zbirke. Projekt SintArt proizašao je iz Richterove ideje i prijedloga da Zbirka postoji kao aktivno mjesto otvoreno istraživanjima i eksperimentu te kao prostor za kulturne sadržaje koji dijalog ostvaruju i s umjetnicama i umjetnicima\, ali i s lokalnom zajednicom. Hana Miletić\, u suradnji s Grahamom Kellyjem i Centrom za istraživanje mode i odijevanja (CIMO)\, u projektu SintArt 18 predstavlja site-specific tekstilne\, prostorne\, video i tekstualne intervencije u prostorima Zbirke Richter koje privremeno ili zamjenjuju određene elemente interijera\, ili pak izmještaju njihove pozicije i funkcije\, ali i stvoriti nove odnose i značenja između izložbenog\, radnog i privatnog prostora Zbirke povezujući ih u novu interpretativnu cjelinu. \nKustosice: Morana Matković\, Ana Škegro \nProgram je ostvaren uz podršku Grada Zagreba i Ministarstva kulture i medija RH.\nProjekt je omogućen uz podršku programa Europske unije Culture Moves Europe. \nRadno vrijeme Zbirke Richter: srijedom i subotom od 11 do 16 sati.\nOstalim danima u tjednu posjet je moguć uz prethodnu najavu na: richter@msu.hr 
URL:https://planforculture.com/event/sintart-18-hana-miletic-i-graham-kelly-uz-cimo-u-dijalogu-s-nadom-kares-richter-i-vjenceslavom-richterom/2025-05-24/
LOCATION:Zbirka Richter\, Vrhovec 38\, Zagreb\, Croatia (Local Name: Hrvatska)
CATEGORIES:EXHIBITION
ATTACH;FMTTYPE=image/png:https://planforculture.com/wp-content/uploads/2025/06/facebook-event-cover-1.png
ORGANIZER;CN="Zbirka%20Richter":MAILTO:richter@msu.hr
END:VEVENT
BEGIN:VEVENT
DTSTART;TZID=Europe/Zagreb:20250609T090000
DTEND;TZID=Europe/Zagreb:20250630T200000
DTSTAMP:20260421T224924
CREATED:20250606T091551Z
LAST-MODIFIED:20250606T091741Z
UID:10003101-1749459600-1751313600@planforculture.com
SUMMARY:ULUPUH – Fragmenti prirode
DESCRIPTION:Autorica koncepta i kustosica izložbe: Antonija Balić\nKroz vođene ture s kustosicom izložbe Antonijom Balić i sudjelujućim umjetnicima\, publika će imati priliku produbiti svoje razumijevanje izloženih radova. Interaktivni performans Dodir te posebno osmišljeni segment Primijenjenih 10 omogućuju aktivno uključivanje posjetitelja u proces stvaranja\, čime se dodatno naglašava tematika osjetilnog kontakta i prirodne međupovezanosti. Performans istodobno simbolično povezuje tri značajne obljetnice – 10 godina Festivala varaždinskih dvorišta\, 75 godina ULUPUH-a te 35 godina Galerije Kovačić Mačolić – ostavljajući trajan trag kroz keramičke otiske koji mogu postati dio kulturne memorije grada.” – Antonija Balić\nPosjetitelji će moći razgledati izložbu do 30. lipnja u Galeriji Kovačić Macolić\, Ulica Ljudevita Gaja 13\, Varaždin. Radno vrijeme: ponedjeljak – petak od 9 do 12 i od 17 do 20 sati\, subotom od 9 do 12 sati. Nedjeljom i praznikom zatvoreno
URL:https://planforculture.com/event/ulupuh-fragmenti-prirode/
LOCATION:Galerija Kovačić Macolić\, Ljudevita Gaja 13\, Varaždin\, Croatia (Local Name: Hrvatska)
CATEGORIES:EXHIBITION
ATTACH;FMTTYPE=image/png:https://planforculture.com/wp-content/uploads/2025/06/Picture1.png
ORGANIZER;CN="ULUPUH":MAILTO:ulupuh@zg.t-com.hr
END:VEVENT
BEGIN:VEVENT
DTSTART;TZID=Europe/Zagreb:20250620T200000
DTEND;TZID=Europe/Zagreb:20250630T220000
DTSTAMP:20260421T224924
CREATED:20250620T154813Z
LAST-MODIFIED:20250620T154813Z
UID:10003113-1750449600-1751320800@planforculture.com
SUMMARY:Izložba Beatus Danice Franić u Galeriji Flora
DESCRIPTION:Oko godine 1000. na europskom području vlada strah od predviđenog kraja svijeta i intenzivno se počinju prepisivati i oslikavati kodeksi s tekstom Apokalipse / Otkrivenja odnosno proročke vizije svršetka svijeta s kraja Novog zavjeta\, koju\, prema predaji\, piše sv. Ivan evanđelista na Patmosu. Jedan od najvažnijih komentara kojima se interpretira tekst Apokalipse stvara redovnik Beatus iz Lièbane na području današnje Španjolske u 8. st.\, a njegovi se komentari posebno populariziraju u 10. i 11. stoljeću. Tekst Apokalipse prepun je sugestivnih\, mističnih slika (knjiga sa sedam pečata\, babilonska bludnica\, tetramorf) gdje se spaja nespojivo i sve pršti od dramatičnosti i začudnosti\, a oslikane Apokalipse s Beatusovim komentarima i pripadajućom specifičnom ikonografijom nazvane jednostavno „Beatus” među najljepšim su iluminiranim rukopisima uopće. \nDanica Franić\, suvremena umjetnica u stoljeću obilježenom pandemijom korona virusa\, prirodnim katastrofama\, ratovima\, sve većom prisutnošću umjetne inteligencije\, te sveopćim osjećajem nesigurnosti i ugroze počinje raditi na ciklusu koji se izravno veže za iluminirani rukopis iz 11. stoljeća s Beatusovim komentarima na Apokalipsu. Rukopis je poznat pod nazivom Beatus Saint-Severa ili Apokalipsa Saint -Severa jer nastaje u benediktinskoj opatiji Saint-Sever\, a danas se čuva u Nacionalnoj biblioteci u Parizu (MS lat. 8878). Kodeksi nastali u samostanskim skriptorijima plod su suradnje pisara\, knjigoveža\, iluminatora i nastaju u dugotrajnom procesu od pripreme pergamene do završnog pozlaćivanja i oslikavanja. Ono što spaja srednjovjekovne pisare i iluminatore i jednu suvremenu hrvatsku umjetnicu je prvenstveno manualni aspekt\, dugotrajno vrijeme izvedbe i predani rad što kod srednjovjekovnih pisara proizvodi uzrečicu da „tri prsta pišu\, ali cijelo tijelo radi” (tria digita scribunt sed totus corpus laborat). Jednako važno je i vrednovanje samih materijala – pergamene\, tinte i pigmenta u pisarsko-slikarskoj djelatnosti\, te konca i tkanine u slučaju umjetnice koje u konačnici i dovodi do izlaganja u zamračenom prostoru gdje je moguće na pravi način usvojiti teksturu i boje tkanine i veza. \nU srednjem vijeku ne postoji afirmativan odnos prema ideji originalnosti kakav je prisutan u svijesti modernog čovjeka već je kopiranje prema predlošku – egzemplaru osnova kako pisarske\, a u velikom broju slučajeva i iluminatorske djelatnosti. U radu prema predlošcima odabranih iz obilja iluminacija „Beatusa”\, umjetnica izostavlja jedino tekstove objašnjenja\, svojevrsne legende koje se na nekim mjestima nalaze u iluminacijama rukopisa\, te tu i tamo sebi dopusti varijacije u bojama\, umnažanje horizontalnih traka plošnog prostora ili čak veću raznolikost boja. Devet prikaza predstavljenih na ovoj izložbi izrađuje u tehnici veza na lanu čija boja fingira samu pergamenu\, te poštuje čak i dimenzije samog kodeksa (29 x 42 cm). Napučenost prikaza – srednjovjekovni horror vacui\, kromatski intenzitet\, stilizacija i plošnost oblika konvencije su koje umjetnica preuzima u prebacivanju prizora iz jednog medija u drugi\, igrajući se pojmovima autorstva i vremenskim kategorijama. Intenzivne\, kromatski zasićene boje podjednako odašilju asocijacije na univerzalnu pučku umjetnost\, kao i na djela modernog\, osobito fovističkog slikarstva. U cilju neobičnih preklapanja srednjovjekovlja i modernog vrijedi podsjetiti i na tempere Antuna Masle iz 1960. s temom Apokalipse koje su plošnošću i koloritom srodne srednjovjekovnim iluminacijama. \nDrugi dio procesa umjetnice je iskorak iz svojevoljno nametnute igre kopiranja u vlastitu interpretaciju odabrane teme. Promjenu procesa umjetnica podvlači velikim formatom i materijalom – ručno bojanom svilom\, ali prvenstveno odmakom od zgusnutosti ranijih figuralnih prikaza. Na tri široke horizontalne\, različito obojane površine\, u jednom mirnijem\, laganijem ritmu izvezuje neobične\, elegantne strukture koje su oblikovno srodne srednjovjekovnoj ornamentici\, ali proizlaze iz osobnog imaginarija umjetnice. Prvi rad većeg formata interpretacija je teme već zastupljene u vezovima – minijaturama (Kiša vatre i krvi)\, dok je drugi rad većeg formata pod enigmatskim nazivom „Ključevi” potpuno samosvojan. Predočeni „ključevi” kombinacija su čvrste omeđene forme i koncentričnih krugova koji omekšavaju prikaz i najviše podsjećaju na fluidna\, promjenjiva gibanja vode. „Ključevi” kojima je umjetnica kao zadnji potez prije njihovog premijernog predstavljanja podarila i laganu izvijenu liniju mogu funkcionirati i kao završetak jedne uzbudljive istraživačko-vizualne priče\, ali i kao sam početak – šifrirani ulazak u udaljena stoljeća i svjetove srednjovjekovnih minijatura naspram galopirajućeg kaosa suvremenog svijeta. \nRozana Vojvoda \n\n\n\nDanica Franić rođena je u Makarskoj 1967. godine. Diplomirala je Tekstilni dizajn na Tekstilno-tehnološkom fakultetu u Zagrebu 1988. godine\, a na Akademiji likovnih umjetnosti u Zagrebu slikarstvo u klasi prof. Zlatana Vrkljana 1992. godine. Od 1994. godine radila je u Školi za modu i dizajn\, a od 2007. profesorica je likovne umjetnosti i antičke kostimografije u Klasičnoj gimnaziji u Zagrebu. Izlagala je na dvadesetak skupnih i samostalnih izložbi.
URL:https://planforculture.com/event/izlozba-beatus-danice-franic-u-galeriji-flora/
LOCATION:HDLUDU\, Šetalište kralja Zvonimira 32\, Dubrovnik
CATEGORIES:EXHIBITION
ATTACH;FMTTYPE=image/jpeg:https://planforculture.com/wp-content/uploads/2025/06/Flora-plakati_06-Franic_WEB-scaled.jpg
ORGANIZER;CN="Hrvatsko%20dru%C5%A1tvo%20likovnih%20umjetnika%20Dubrovnik":MAILTO:hdludubrovnik@gmail.com
END:VEVENT
BEGIN:VEVENT
DTSTART;TZID=Europe/Zagreb:20250627T100000
DTEND;TZID=Europe/Zagreb:20250707T190000
DTSTAMP:20260421T224924
CREATED:20250623T075042Z
LAST-MODIFIED:20250623T075042Z
UID:10003114-1751018400-1751914800@planforculture.com
SUMMARY:Suvremena kazališna i filmska scena 2023. – 2025.
DESCRIPTION:Izlažu: Ivana Bakal\, Barbara Bourek\, Marta Dogan\, Marta Dolenčić\, Jelena Đanko\, Ana Fucijaš\, Tomislav Kobia\, Irena Kraljić\, Dražen Matijašević\, Tihomir Milovac\, Martina Petranović\, Katarina Radošević Galić\, Deni Šesnić\, Jadranka Tomić\, Ines Zrnc Gregorina\nAutorica i voditeljica projekta: Ivana Bakal \nŽiri: Doris Kristić\, Irena Kraljić i Saša Fistrić
URL:https://planforculture.com/event/suvremena-kazalisna-i-filmska-scena-2023-2025/
LOCATION:Galerija ULUPUH\, Ilica 13\, Zagreb\, 10 000\, Croatia (Local Name: Hrvatska)
CATEGORIES:EXHIBITION
ATTACH;FMTTYPE=image/jpeg:https://planforculture.com/wp-content/uploads/2025/06/Suvremena-kazalisna-i-filmska-scena.jpg
ORGANIZER;CN="ULUPUH":MAILTO:ulupuh@zg.t-com.hr
END:VEVENT
BEGIN:VEVENT
DTSTART;TZID=Europe/Zagreb:20250630T200000
DTEND;TZID=Europe/Zagreb:20250630T220000
DTSTAMP:20260421T224924
CREATED:20250619T112840Z
LAST-MODIFIED:20250619T112840Z
UID:10003112-1751313600-1751320800@planforculture.com
SUMMARY:The Power of Youth: Young Architects in the Space of Stage Scenography
DESCRIPTION:You are kindly invited to the opening of the exhibition The Power of Youth: Young Architects in the Space of Stage Scenography\, which will take place on Monday\, 30 June 2025\, at 8 p.m. at the DESSA Gallery. \n  \nThe exhibition explores the creative process of designing a stage space and the invisible side of technical solutions for it\, as seen and approached by architects of the younger generation working in this field. \nThrough the work of eleven young architects\, the exhibition reveals the different definitions of space and materiality\, as well as the processes by which the creators shape the worlds of the stage\, both in Slovenia and abroad. Young scenographers and technical producers in the fields of classical theatre\, opera\, contemporary dance\, ballet and puppetry are always looking for new ways to shape space. \n  \nExhibitors: Nika Curk Nagode\, Gašper Grebenšek\, Matic Gselman\, Lin Martin Japelj\, Matic Kašnik\, Larisa Kazić\, Ženja Maher\, Maruša Mali\, Eva Petruna\, Ana Marija Snoj\, Sara Slivnik \n  \nCurators: Ana Lovrec Medved\, Vesna Perovnik\, prof. mag. Jasna Vastl\, Damjana Zaviršek Hudnik \n  \nThe exhibition will be on display from 30 June to 11 September 2025.
URL:https://planforculture.com/event/the-power-of-youth-young-architects-in-the-space-of-stage-scenography/
LOCATION:galerija DESSA\, Židovska steza 4\, Ljubljana\, 1000\, Slovenia
CATEGORIES:EXHIBITION
ATTACH;FMTTYPE=image/jpeg:https://planforculture.com/wp-content/uploads/2025/06/52025-DESSA_NA-MLADIH-SVET-STOJI-VABILO_page-0001.jpg
ORGANIZER;CN="DESSA%20gallery":MAILTO:galerija@dessa.si
END:VEVENT
END:VCALENDAR