BEGIN:VCALENDAR
VERSION:2.0
PRODID:-//PLAN FOR CULTURE - ECPv6.0.6//NONSGML v1.0//EN
CALSCALE:GREGORIAN
METHOD:PUBLISH
X-WR-CALNAME:PLAN FOR CULTURE
X-ORIGINAL-URL:https://planforculture.com
X-WR-CALDESC:Events for PLAN FOR CULTURE
REFRESH-INTERVAL;VALUE=DURATION:PT1H
X-Robots-Tag:noindex
X-PUBLISHED-TTL:PT1H
BEGIN:VTIMEZONE
TZID:Europe/Zagreb
BEGIN:DAYLIGHT
TZOFFSETFROM:+0100
TZOFFSETTO:+0200
TZNAME:CEST
DTSTART:20250330T010000
END:DAYLIGHT
BEGIN:STANDARD
TZOFFSETFROM:+0200
TZOFFSETTO:+0100
TZNAME:CET
DTSTART:20251026T010000
END:STANDARD
END:VTIMEZONE
BEGIN:VEVENT
DTSTART;TZID=Europe/Zagreb:20250524T110000
DTEND;TZID=Europe/Zagreb:20250824T160000
DTSTAMP:20260423T080200
CREATED:20250616T112050Z
LAST-MODIFIED:20250616T112653Z
UID:10003110-1748084400-1756051200@planforculture.com
SUMMARY:SintArt 18: Hana Miletić i Graham Kelly uz CIMO – U dijalogu s Nadom Kareš Richter i Vjenceslavom Richterom
DESCRIPTION:Ciklus povremenih izložbi SintArt održava se 15. godinu u okviru izložbene djelatnosti Zbirke Vjenceslava Richtera i Nade Kareš Richter. Nekadašnji radni prostor arhitekta i umjetnika Vjenceslava Richtera u prizemlju obiteljske kuće preuređen je početkom 2000. godine u izložbeni\, s namjerom predstavljanja umjetničkih radova iz donacije\, ali i novih umjetničkih istraživanja suvremenih umjetnika i umjetnica mlađe i srednje generacije. U svojim radovima oblikovanim u različitim medijima\, gostujući umjetnici i umjetnice referirali su se na različita područja Richterovog stvaralaštva\, od arhitektonskih projekata\, umjetničkih istraživanja do teorijskih tekstova ili pak same donacije donoseći nova tumačenja\, kako autorova stvaralaštva\, tako i same Zbirke. Projekt SintArt proizašao je iz Richterove ideje i prijedloga da Zbirka postoji kao aktivno mjesto otvoreno istraživanjima i eksperimentu te kao prostor za kulturne sadržaje koji dijalog ostvaruju i s umjetnicama i umjetnicima\, ali i s lokalnom zajednicom. Hana Miletić\, u suradnji s Grahamom Kellyjem i Centrom za istraživanje mode i odijevanja (CIMO)\, u projektu SintArt 18 predstavlja site-specific tekstilne\, prostorne\, video i tekstualne intervencije u prostorima Zbirke Richter koje privremeno ili zamjenjuju određene elemente interijera\, ili pak izmještaju njihove pozicije i funkcije\, ali i stvoriti nove odnose i značenja između izložbenog\, radnog i privatnog prostora Zbirke povezujući ih u novu interpretativnu cjelinu. \nKustosice: Morana Matković\, Ana Škegro \nProgram je ostvaren uz podršku Grada Zagreba i Ministarstva kulture i medija RH.\nProjekt je omogućen uz podršku programa Europske unije Culture Moves Europe. \nRadno vrijeme Zbirke Richter: srijedom i subotom od 11 do 16 sati.\nOstalim danima u tjednu posjet je moguć uz prethodnu najavu na: richter@msu.hr 
URL:https://planforculture.com/event/sintart-18-hana-miletic-i-graham-kelly-uz-cimo-u-dijalogu-s-nadom-kares-richter-i-vjenceslavom-richterom/2025-05-24/
LOCATION:Zbirka Richter\, Vrhovec 38\, Zagreb\, Croatia (Local Name: Hrvatska)
CATEGORIES:EXHIBITION
ATTACH;FMTTYPE=image/png:https://planforculture.com/wp-content/uploads/2025/06/facebook-event-cover-1.png
ORGANIZER;CN="Zbirka%20Richter":MAILTO:richter@msu.hr
END:VEVENT
BEGIN:VEVENT
DTSTART;VALUE=DATE:20250704
DTEND;VALUE=DATE:20250717
DTSTAMP:20260423T080200
CREATED:20250702T195006Z
LAST-MODIFIED:20250702T195006Z
UID:10003151-1751587200-1752710399@planforculture.com
SUMMARY:Izložba Stratum 2 Dina Topolnjaka u Galeriji Flora
DESCRIPTION:Slika \n  \nNema sumnje da je danas (*Danas su dobra stara vremena sutrašnjice) mnogima jasno da slika nije naziv za vizualno iskustvo kao što nije ni prostor za 3 d ili fizičko iskustvo. Niti je perspektiva naziv za nešto vidljivo niti nešto slično tome. Bit će da se čovjek umorio od svega što je zapadnu civilizaciju učinilo takvom kakva je ona do nedavno bila i kakva još uvijek djelomično jest. Relativizacija je izvedena javno sa više osnova ali čini se da sveopća „nelagodnost u kulturi“ uz sveopću negaciju obrazovanja proizvodi „kulturu zaborava“. Slika je do nedavno bila naziv za vizualno iskustvo (Das Bild\, Pitura\, Quadro\, Pictures\,Obraz) i ta su sva iskustva simbolizirana jezikom proizvedena u IMAGE. To bi također trebala biti slika  ali taj naziv više ne apelira na samo jedno iskustvo. I vrijeme je postalo dio tog neiskustvenog prostora zato što informacija da bi daleko i brzo stigla mora biti vremenski nelocirana\, jednostavna i neopterećujuća u svakom pogledu\, kako bi mogla zamijeniti donedavni fizički svijet. Istina\, od samog početka\, od kada su prethistorici crtali po stijenama i po svojoj koži\, slika je bila pojam a ne vizualna činjenica. Tako je bilo i ostalo kad su radili slike na vazama i zidovima grobnica. Potom su slike-pojmovi rađeni na staklima i daskama. Platna su u opticaju od nedavno. Zatim\, opet više nisu. Svi mogući materijali koje proizvodi suvremeni čovjek\, sve to nosi SLIKU\, statičnu i pokretnu. Povijesna se SLIKA otela kontroli\, točnije raskinuta je njezina veza s realnim svijetom\, koji nije SLIKA. Zato za nazivom SLIKA poseže svatko\, kako mu se hoće. U tom kontekstu\, u nizu pokušaja otpora sveopćem kabareu (**Veselim se kad pada kiša\, jer ona pada i onda kad joj se ne veselim) neki slikari još uvijek slikaju na platnu. Taj uzaludni rad upravo govori o prirodi donedavne kulture koja nestaje\, a mogla bi se održati\, kao suodnos između čovjekovih bioloških mogućnosti i želje za svojevrsnom alkemijom. I kao što slovo ili istočnjački kriptogram simboliziraju i prizivaju i pojam i gestu i misao i zvuk i miris\, tako za kulturnog čovjeka\, materija može biti nešto drugo. Jao onima koji u to ne vjeruju. Privući nekoga da gleda i zagleda se u neki komad platna upravo je kulturni čin nagovora na transcendenciju. (***To je tako kao i u slučaju svake znanosti. Na kraju se utvrdi da je sve bilo drugačije.) \n  \nCitati: */ **/ ***/ Karl Valentin  \n Tekst: Vladimir Gudac \n  \n  \n Dino Topolnjak rođen 1985. u Čakovcu. Diplomirao je na Akademiji primijenjenih umjetnosti u Rijeci pod mentorstvom Vladimira Gudca i studirao filmsku režiju na film.factoryu u Sarajevo pod mentorstvom Béle Tarra. Djeluje kao slikar i u filmskom mediju kao redatelj\, scenski slikar i scenograf. Izlagao na samostalnim i skupnim izložbama u Rijeci\, Zagrebu\, Puli\, Dubrovniku\, Labinu\, Berlinu\, Düsseldorfu\, New Yorku.
URL:https://planforculture.com/event/izlozba-stratum-2-dina-topolnjaka-u-galeriji-flora/
LOCATION:HDLUDU\, Šetalište kralja Zvonimira 32\, Dubrovnik
CATEGORIES:EXHIBITION
ATTACH;FMTTYPE=image/jpeg:https://planforculture.com/wp-content/uploads/2025/07/Flora-plakati_07_Topolnjak_WEB-scaled.jpg
ORGANIZER;CN="Hrvatsko%20dru%C5%A1tvo%20likovnih%20umjetnika%20Dubrovnik":MAILTO:hdludubrovnik@gmail.com
END:VEVENT
BEGIN:VEVENT
DTSTART;VALUE=DATE:20250708
DTEND;VALUE=DATE:20250714
DTSTAMP:20260423T080200
CREATED:20250708T083435Z
LAST-MODIFIED:20250708T085632Z
UID:10003156-1751932800-1752451199@planforculture.com
SUMMARY:FRACTIONS OF HUMANITY: LITTER PERSONIFICATION_interdisciplinarna izložba Ive Pozniak u Flori
DESCRIPTION:Što ako otpad nije samo otpad\, nego ogledalo čovječanstva? \nFractions of Humanity: Litter Personification multimedijalna je umjetničko-znanstvena izložba koja otpad prikazuje kao neodvojiv dio čovjeka i potrošačkog društva\, kroz spoj fotografije\, skulpture\, teksta i zvuka poziva na dublje promišljanje o njegovim egzistencijalnim dimenzijama. \nPutovanje započinje u Uvali Sumratin\, nekad živom prostoru zajedništva\, a danas emocionalno i fizički zapuštenom mjestu koje reflektira širi društveni problem i odnos prema okolišu. Skulpturalne strelice vode posjetitelje prema Galeriji Flora\, gdje započinje unutarnje suočavanje. U prostoru galerije\, uz originalnu glazbu\, sjenovitu rasvjetu i plave artefakte\, stvara se atmosfera tihe refleksije\, tuge i mogućnosti promjene. \nAutorica\, morska biologinja i umjetnica Iva Pozniak\, smješta odbačene lutke u stvarne pejzaže duž dubrovačke obale\, personificirajući otpad kao odraz potisnutih slojeva društva i kolektivne psihe\, nadahnuta Jungovim konceptom sjene. Lutke – nekoć dio bezbrižne dječje igre\, danas zaboravljeni artefakti – u kontekstu konzumerizma i nametnutih estetskih normi progovaraju i o oblikovanju ženskog identiteta unutar potrošačkog društva. Fotografije prikazuju oštar kontrast između sklada prirode i kaosa ljudskog otpada. U središtu izložbe ostaje ekološki problem – otpad koji se neprestano vraća\, kao materijalni trag kolektivnog potiskivanja i neodgovornosti. \nUlaz na izložbu je besplatan\, no “ulaznica” je vaše sudjelovanje u anonimnoj anketi kojom pridonosite znanstvenom istraživanju o emocionalnim reakcijama na otpad u okolišu. Izložba je dio doktorskog istraživanja koje se provodi na Sveučilištu u Dubrovniku. \nOva izložba ne traži da gledamo\, već da nešto promijenimo. \n………………………………………………… \nIva Pozniak je istraživačica na Sveučilištu u Dubrovniku\, gdje djeluje u Laboratoriju za inteligentne autonomne sustave – LARIAT\, na Fakultetu elektrotehnike i računarstva. Kao doktorandica na studiju Primijenjenih znanosti o moru\, njezino interdisciplinarno istraživanje spaja biologiju mora\, socijalnu ekologiju i ekološku psihologiju – povezujući zaštitu oceana\, umjetnost i ljudsko ponašanje. \nZnanstveno se fokusira na problem otpada u moru\, s posebnim naglaskom na psihološke i društvene uzroke njegova nastanka. Kao umjetnica\, duboko je nadahnuta morem\, vođena željom da kompleksne i često zanemarene teme iz znanstvenog svijeta približi javnosti kroz umjetnost. \nKombinirajući terensko istraživanje\, umjetničku fotografiju i skulpturu\, Iva istražuje na koje načine otpad odražava skrivene aspekte ljudske psihe i potrošačkog društva. Svojim radom nastoji potaknuti dublje razumijevanje i emocionalnu povezanost s okolišem\, otvarajući prostor za introspektivno promišljanje o zajedničkoj odgovornosti. \n 
URL:https://planforculture.com/event/fractions-of-humanity-litter-personification_interdisciplinarna-izlozba-ive-pozniak-u-flori/
LOCATION:HDLUDU\, Šetalište kralja Zvonimira 32\, Dubrovnik
CATEGORIES:EXHIBITION
ATTACH;FMTTYPE=image/png:https://planforculture.com/wp-content/uploads/2025/07/Fractions-of-Humanity_for-Facebook-Event.png
ORGANIZER;CN="Hrvatsko%20dru%C5%A1tvo%20likovnih%20umjetnika%20Dubrovnik":MAILTO:hdludubrovnik@gmail.com
END:VEVENT
END:VCALENDAR