BEGIN:VCALENDAR
VERSION:2.0
PRODID:-//PLAN FOR CULTURE - ECPv6.0.6//NONSGML v1.0//EN
CALSCALE:GREGORIAN
METHOD:PUBLISH
X-ORIGINAL-URL:https://planforculture.com
X-WR-CALDESC:Events for PLAN FOR CULTURE
REFRESH-INTERVAL;VALUE=DURATION:PT1H
X-Robots-Tag:noindex
X-PUBLISHED-TTL:PT1H
BEGIN:VTIMEZONE
TZID:Europe/Zagreb
BEGIN:DAYLIGHT
TZOFFSETFROM:+0100
TZOFFSETTO:+0200
TZNAME:CEST
DTSTART:20250330T010000
END:DAYLIGHT
BEGIN:STANDARD
TZOFFSETFROM:+0200
TZOFFSETTO:+0100
TZNAME:CET
DTSTART:20251026T010000
END:STANDARD
END:VTIMEZONE
BEGIN:VEVENT
DTSTART;TZID=Europe/Zagreb:20250524T110000
DTEND;TZID=Europe/Zagreb:20250824T160000
DTSTAMP:20260423T092501
CREATED:20250616T112050Z
LAST-MODIFIED:20250616T112653Z
UID:10003110-1748084400-1756051200@planforculture.com
SUMMARY:SintArt 18: Hana Miletić i Graham Kelly uz CIMO – U dijalogu s Nadom Kareš Richter i Vjenceslavom Richterom
DESCRIPTION:Ciklus povremenih izložbi SintArt održava se 15. godinu u okviru izložbene djelatnosti Zbirke Vjenceslava Richtera i Nade Kareš Richter. Nekadašnji radni prostor arhitekta i umjetnika Vjenceslava Richtera u prizemlju obiteljske kuće preuređen je početkom 2000. godine u izložbeni\, s namjerom predstavljanja umjetničkih radova iz donacije\, ali i novih umjetničkih istraživanja suvremenih umjetnika i umjetnica mlađe i srednje generacije. U svojim radovima oblikovanim u različitim medijima\, gostujući umjetnici i umjetnice referirali su se na različita područja Richterovog stvaralaštva\, od arhitektonskih projekata\, umjetničkih istraživanja do teorijskih tekstova ili pak same donacije donoseći nova tumačenja\, kako autorova stvaralaštva\, tako i same Zbirke. Projekt SintArt proizašao je iz Richterove ideje i prijedloga da Zbirka postoji kao aktivno mjesto otvoreno istraživanjima i eksperimentu te kao prostor za kulturne sadržaje koji dijalog ostvaruju i s umjetnicama i umjetnicima\, ali i s lokalnom zajednicom. Hana Miletić\, u suradnji s Grahamom Kellyjem i Centrom za istraživanje mode i odijevanja (CIMO)\, u projektu SintArt 18 predstavlja site-specific tekstilne\, prostorne\, video i tekstualne intervencije u prostorima Zbirke Richter koje privremeno ili zamjenjuju određene elemente interijera\, ili pak izmještaju njihove pozicije i funkcije\, ali i stvoriti nove odnose i značenja između izložbenog\, radnog i privatnog prostora Zbirke povezujući ih u novu interpretativnu cjelinu. \nKustosice: Morana Matković\, Ana Škegro \nProgram je ostvaren uz podršku Grada Zagreba i Ministarstva kulture i medija RH.\nProjekt je omogućen uz podršku programa Europske unije Culture Moves Europe. \nRadno vrijeme Zbirke Richter: srijedom i subotom od 11 do 16 sati.\nOstalim danima u tjednu posjet je moguć uz prethodnu najavu na: richter@msu.hr 
URL:https://planforculture.com/event/sintart-18-hana-miletic-i-graham-kelly-uz-cimo-u-dijalogu-s-nadom-kares-richter-i-vjenceslavom-richterom/2025-05-24/
LOCATION:Zbirka Richter\, Vrhovec 38\, Zagreb\, Croatia (Local Name: Hrvatska)
CATEGORIES:EXHIBITION
ATTACH;FMTTYPE=image/png:https://planforculture.com/wp-content/uploads/2025/06/facebook-event-cover-1.png
ORGANIZER;CN="Zbirka%20Richter":MAILTO:richter@msu.hr
END:VEVENT
BEGIN:VEVENT
DTSTART;TZID=Europe/Zagreb:20250722T100000
DTEND;TZID=Europe/Zagreb:20251004T180000
DTSTAMP:20260423T092501
CREATED:20250722T071820Z
LAST-MODIFIED:20250722T071841Z
UID:10003159-1753178400-1759600800@planforculture.com
SUMMARY:Posjetite izložbu „Sjećanje na Kviskoteku“!
DESCRIPTION:Ne propustite pogledati izložbu „Sjećanje na Kviskoteku“ u samom centru grada. Galerija Hrvatskog školskog muzeja „Školica za 5“ nalazi se u neposrednoj blizini Zrinjevca u Hebrangovoj 5\, a ulaz je besplatan!\nIzložba “Sjećanje na Kviskoteku“ posvećena je jednom od najomiljenijih televizijskih fenomena i otkriva kako je Kviskoteka bila više od zabave – bila je inspiracija\, alat za učenje\, prostor međugeneracijskog dijaloga i simbol vremena kad si morao znati\, a ne guglati. Kao čuvar školske povijesti\, ali i povijesti svakodnevice i odrastanja Školski muzej ovom izložbom otvara vrata ne samo nostalgiji\, već i raspravi o znanju\, medijima i kulturi danas.
URL:https://planforculture.com/event/posjetite-izlozbu-sjecanje-na-kviskoteku/
LOCATION:ZAGREB
CATEGORIES:EXHIBITION
ATTACH;FMTTYPE=image/jpeg:https://planforculture.com/wp-content/uploads/2025/07/3A7A3624-Large.jpg
ORGANIZER;CN="Hrvatski%20%C5%A1kolski%20muzej%2C%20galerija%20%22%C5%A0kolica%20za%205%22":MAILTO:hsm@hsmuzej.hr
END:VEVENT
BEGIN:VEVENT
DTSTART;TZID=Europe/Zagreb:20250816T200000
DTEND;TZID=Europe/Zagreb:20250902T230000
DTSTAMP:20260423T092501
CREATED:20250812T095957Z
LAST-MODIFIED:20250812T095957Z
UID:10003169-1755374400-1756854000@planforculture.com
SUMMARY:Izložba Tri gracije Lukše Peka u Galeriji Flora
DESCRIPTION:  \nPovezujući tradiciju dubrovačke kolorističke škole s aktualnim likovnim tendencijama\, Lukša Peko zauzima posebno mjesto na dubrovačkoj umjetničkoj sceni\, ponajprije zahvaljujući dosljednom\, ali uvijek istraživačkom pristupu figuraciji. \nIzložbom naslovljenom Tri gracije okuplja dvanaest grafika u tehnici suhe igle te trinaest ulja na platnu\, uglavnom iz ciklusa Modra soba s pogledom na Fuji\, ali i radove jednostavno naslovljene Ružičasti sjedeći akt\, Ležeći akt\, Crveni akt\, Sjedeći akt... \nIako su obje cjeline izvedene u različitim medijima\, povezuje ih autorova postojana fascinacija ljudskim likom\, ovom prilikom ženskim aktom\, i promišljanje prostora u kojem se to tijelo pojavljuje\, transformira i simbolički iščitava. \nŽensko tijelo u ovim radovima prolazi kroz niz formalnih i konceptualnih pomaka\, od monumentalne\, gotovo skulpturalne prisutnosti i konstrukcijske analitičnosti u grafikama\, do kolorističke zasićenosti\, taktilne mekoće i intimne atmosfere u uljima na platnu.  \nNaslov Tri gracije na doslovnoj razini priziva antički motiv triju božica ljepote\, blagosti i plodnosti\, čest u povijesti umjetnosti\, od renesansnih majstora do modernih reinterpretacija. No\, kod Peka te gracije nisu idealizirani mitološki likovi\, nego figure koje nose tragove vlastite tjelesnosti i individualnog izraza te se ne bi moglo reći da emaniraju univerzalnu blagost i dobrotu. \nGrafički ciklus Tri gracije pokazuje autorovo izvrsno vladanje tehnikom i suverenu kontrolu crte\, kojom precizno modelira volumen\, te oblikuje strukturu plohe slažući čvrst ritam i stabilnost kompozicije. Tehnika suhe igle omogućuje gusto\, mrežasto tkanje linija koje modelira volumen tijela\, ali istodobno unosi i osjećaj taktilne hrapavosti. Figure su izdužene\, ponešto mehaničkih proporcija\, postavljene u konstruktivne prostore gdje se geometrija i organsko sudaraju: kugle\, piramide i mrežaste\, heklane teksture stvaraju ambijente između sna i matematičke sheme. Svaka od gracija nosi svoje prostorno okruženje i ritam\, a prisutnost životinja dodatno uvodi element začudnog i simboličnog. Tijelo u tim grafikama nije samo objekt gledanja već je svojevrsni stroj\, nositelj arhitektonskih i kozmičkih kodova.  \nU seriji ulja na platnu Modra soba s pogledom na Fuji\, Pekova se figuracija pomiče prema intimnijem\, naoko senzualnijem registru. Boja preuzima primat: tamno crvene površine prostirke i ružičasti tonovi kože kontrastiraju tamnoj\, točkasto strukturiranoj pozadini\, dok mali prozor\, slika unutar slike\, otvara pogled na ikonografski prepoznatljiv motiv planine Fuji.  \nUpravo taj medijativni element\, otvoreni prozor\, introspektivnoj modrini sobe otvara beskraj i slobodu pejzaža\, unoseći pritom ironično poigravanje s dalekim i egzotičnim svjetovima te diskretno odajući autorovu sklonost japanskoj umjetnosti.  \nNekoliko slika uključuje i kolažirane elemente\, pri čemu su prozori\, inače nositelji pogleda prema daljini\, zatvoreni nečim nalik na zgužvane zavjese ili papirnate pregrade. Time se prostorna dinamika radikalno mijenja. Umjesto otvorenog horizonta\, interijer ostaje zatvoren u vlastitoj materijalnosti\, a pogled se zadržava na teksturi i plohi. \nLukša Peko u oba medija gradi slike koje traže spor pogled – pogled koji se zadržava i postupno otkriva pod-slojeve i njihova značenja\, pritom preispitujući tradicionalne motive i njihova ustaljena ikonografska čitanja. \nHelena Puhara \nLukša Peko rođen je 24. travnja 1941. godine u Dubrovniku. Osnovnu školu i gimnaziju završio je u rodnom gradu. Kao đak zanimao se za slikarstvo i grafiku da bi prve poduke dobio od slikara Antuna Masle\, te od slikara i povjesničara umjetnosti Koste Strajnića. Godine 1961. upisao se na Slikarski odjel Akademije likovnih umjetnosti u Zagrebu\, a za vrijeme studija se uz slikarstvo intenzivno bavio grafikom. Diplomirao je 1965. godine kod slikara Otona Postružnika i Đure Tiljka te dobio nagradu ALU Zagreb za grafiku. Prvi put izlagao je s dvojicom dubrovačkih kolega\, Josipom Škerljom i Josipom Trostmanom\, u Umjetničkoj galeriji Dubrovnik. Iste godine otišao je na odsluženje vojnog roka te je kao vojnik 1966. godine imao u Splitu prvu samostalnu izložbu. Na grafičkoj specijalki ALU Zagreb 1968. završio je Poslijediplomski studij kod Marijana Detonija. Do sada je priredio više od sedamdeset samostalnih izložbi u Hrvatskoj i inozemstvu te je sudjelovao na više od dvjesto pedeset skupnih izložbi. Objavio je tri pjesničko-grafičke mape: Vrt bez dobi 1986. godine s književnikom Milanom Milišićem\, Kad su golubovi umirali 1992. godine s književnikom Feđom Šehovićem i ovu\, Marin Držić – Lukša Peko u kojoj su objavljenje njegove grafike i Držićeve pjesme. Za svoj je rad dobio sljedeće nagrade: u Zagrebu Nagrada „Sedam sekretara SKOJ-a“ (1969.)\, u Dubrovniku II. nagrada Oktobarske izložbe (1970.)\, I. nagrada Oktobarske izložbe (1971.)\, II. nagrada Majske izložbe (1979.)\, I. nagrada Majske izložbe (1980.)\, II. nagrada Proljetne izložbe (1981.)\, I. nagrada Oktobarske izložbe (1982.)\, I. nagrada Prvog bijenala HDLU (1984.) i Nagrada Grada Dubrovnika (1996.)\, u Splitu Godišnja nagrada Slobodne Dalmacije (1992.) te je nositelj državnog odličja Reda Danice hrvatske s likom Marka Marulića (1996.). Od 1968. živi i radi u Dubrovniku.
URL:https://planforculture.com/event/izlozba-tri-gracije-lukse-peka-u-galeriji-flora/
LOCATION:HDLUDU\, Šetalište kralja Zvonimira 32\, Dubrovnik
CATEGORIES:EXHIBITION
ATTACH;FMTTYPE=image/jpeg:https://planforculture.com/wp-content/uploads/2025/08/Flora-plakati_Luksa-Peko_WEB-scaled.jpg
ORGANIZER;CN="Hrvatsko%20dru%C5%A1tvo%20likovnih%20umjetnika%20Dubrovnik":MAILTO:hdludubrovnik@gmail.com
END:VEVENT
BEGIN:VEVENT
DTSTART;TZID=Europe/Zagreb:20250818T083000
DTEND;TZID=Europe/Zagreb:20250828T213000
DTSTAMP:20260423T092501
CREATED:20250817T122911Z
LAST-MODIFIED:20250817T122924Z
UID:10003170-1755505800-1756416600@planforculture.com
SUMMARY:Izložba Irene Frantal u Flori
DESCRIPTION:Izložba Irene Frantal Monokrom (sjene na mokrom asfaltu) u Galeriji Flora predstavlja novi ciklus radova u kojem umjetnica nastavlja istraživati geometriju\, simetriju i suptilne odnose između plohe\, linije i materijala. Temelj ovih kompozicija je\, kako sama ističe\, potraga za skladom između dvaju principa – ženskog\, utjelovljenog u zakrivljenim linijama\, i muškog\, utjelovljenog u ravnim linijama. Ova napetost i ravnoteža istodobno su formalni i simbolički okvir izložbe. \nRadovi nastaju složenim postupkom višestrukog\, simetričnog presavijanja papira\, koji se potom izlaže kontaktu s ugljenim prahom. Umjetnica dlanovima i vrhovima prstiju nanosi pigment na slojeve presavijenih i rezanih listova\, bilježeći pritom svaku neravninu\, svaki rub. \nProces je na prvi pogled discipliniran\, ukorijenjen u geometrijskoj logici\, ali upravo u toj prividnoj strogoći otvara se prostor nepredvidivom – nasumičnim hvatanjima praha\, tragovima pritiska\, mikroskopskim reljefima nastalim u materijalu. \nOvi radovi nose u sebi i dalji trag umjetničina dugogodišnjeg interesa za strukturu knjige\, simetrične\, slojevite forme\, raspoređene u nizu\, koje u svojoj konstrukciji povezuju unutarnju logiku i ritmiziranu prisutnost papirnatih površina. \nIako ovdje knjiga nije izravno prisutna kao predmet\, njezina strukturalna načela ugrađena su u svaki rad\, tvoreći prigušenu arhitektoniku kompozicije. \nU navedenom postupku prepoznajemo i tradiciju origamija\, gdje presavijanje papira nikada nije samo tehnički čin\, nego meditativni proces koji povezuje materijal\, prostor i duh. Kao i u origami tehnici\, koja nije puko oblikovanje plohe u volumen\, već vježba svijesti u kojoj se pokret ruke prenosi u unutarnji ritam misli\, presavijanja u radovima Irene Frantal nose istu dimenziju. Nije riječ samo o konstruktivnim gestama koje omogućuju simetriju i oblik\, nego i o znakovima procesa\, u kojima se materijal preobražava u nositelja unutarnjih stanja\, odražavajući dinamiku između osobnog doživljaja i šireg\, univerzalnog smisla. \nVideo-projekcija morskih valova prelama se preko serije crteža i otvara novu dimenziju njihova doživljaja. Tako preklapanjem dvaju medija statična geometrijska forma prerasta u živo tijelo\, a apstraktni oblici poprimaju obilježja neobičnih organizama. U toj interakciji svjetla\, pokreta i plohe nastaje menažerija imaginarnih bića\, koja evocira fluidnost mora i ritam prirodnih procesa\, pretvarajući crteže u prizore nepredvidive i promjenjive vitalnosti. \nHelena Puhara \n\nIrena Frantal je samostalna likovna umjetnica čiji rad proizlazi iz minimalističke i monokromne estetike\, s fokusom na papir kao osjetljiv i promjenjiv materijal. Preklapanjem\, presavijanjem i suptilnim intervencijama stvara radove koji balansiraju između reda i poremećaja\, simetrije i namjerne “pogreške”\, stvarajući tihe\, ali vizualno i emotivno napete prostore. Diplomirala je Primijenjenu grafiku na Akademiji likovnih umjetnosti u Zagrebu (2004)\, magistrirala Book Arts na University of the Arts London (2010)\, te dodatno usavršavala crtež na Summer University of the Arts u Berlinu (2022). Redovito izlaže te surađuje s drugim umjetnicima na projektima knjiga umjetnika. Djeluje i u području edukacije o umjetničkoj knjizi\, a sudjelovala je u međunarodnim projektima u Švedskoj te na rezidencijama u SAD-u\, Litvi\, Austriji\, Švedskoj\, Njemačkoj i Španjolskoj. Njezine umjetničke knjige nalaze se u brojnim privatnim i institucionalnim zbirkama u Europi\, među kojima i u Kolekciji radova na papiru Muzeja primijenjene umjetnosti u Beču (MAK). Živi i radi u Zagrebu.
URL:https://planforculture.com/event/izlozba-irene-frantal-u-flori/
LOCATION:HDLUDU\, Šetalište kralja Zvonimira 32\, Dubrovnik
CATEGORIES:EXHIBITION
ATTACH;FMTTYPE=image/jpeg:https://planforculture.com/wp-content/uploads/2025/08/plakat_irena-frantal-najava_WEB-1.jpg
ORGANIZER;CN="Hrvatsko%20dru%C5%A1tvo%20likovnih%20umjetnika%20Dubrovnik":MAILTO:hdludubrovnik@gmail.com
END:VEVENT
END:VCALENDAR