BEGIN:VCALENDAR
VERSION:2.0
PRODID:-//PLAN FOR CULTURE - ECPv6.0.6//NONSGML v1.0//EN
CALSCALE:GREGORIAN
METHOD:PUBLISH
X-ORIGINAL-URL:https://planforculture.com
X-WR-CALDESC:Events for PLAN FOR CULTURE
REFRESH-INTERVAL;VALUE=DURATION:PT1H
X-Robots-Tag:noindex
X-PUBLISHED-TTL:PT1H
BEGIN:VTIMEZONE
TZID:Europe/Zagreb
BEGIN:DAYLIGHT
TZOFFSETFROM:+0100
TZOFFSETTO:+0200
TZNAME:CEST
DTSTART:20250330T010000
END:DAYLIGHT
BEGIN:STANDARD
TZOFFSETFROM:+0200
TZOFFSETTO:+0100
TZNAME:CET
DTSTART:20251026T010000
END:STANDARD
BEGIN:DAYLIGHT
TZOFFSETFROM:+0100
TZOFFSETTO:+0200
TZNAME:CEST
DTSTART:20260329T010000
END:DAYLIGHT
BEGIN:STANDARD
TZOFFSETFROM:+0200
TZOFFSETTO:+0100
TZNAME:CET
DTSTART:20261025T010000
END:STANDARD
END:VTIMEZONE
BEGIN:VEVENT
DTSTART;TZID=Europe/Zagreb:20251007T170000
DTEND;TZID=Europe/Zagreb:20260526T183000
DTSTAMP:20260420T103738
CREATED:20251003T123648Z
LAST-MODIFIED:20251003T123648Z
UID:10003212-1759856400-1779820200@planforculture.com
SUMMARY:Strip-Lab: Mala akademija crteža i priče
DESCRIPTION:Strip-Lab: Mala akademija crteža i priča je program kreativnih radionica za djecu od 8 do 12 godina pod vodstvom Zdenka Mikše\, mag. educ. art. Cilj ovog programa je osnažiti dječju maštu\, kreativnost i samopouzdanje te razviti sposobnost izražavanja kroz crtež i priču. \nJesen – Škola crtanja Djeca otkrivaju prve korake crtanja i uče kako linijom i oblikom izraziti osjećaje. Kroz vježbe crtanja likova i izraza lica razvijaju pažnju\, sigurnost i osjećaj za crtež.\nZima – Tajne stripa Na zabavan način ulaze u svijet stripa. Upoznaju elemente kao što su tabla\, kadar\, balončići i onomatopeje te uče kako osmisliti i ispričati kratku priču kroz slike i tekst.\nProljeće – Ilustracija Djeca uče o bojama i kompozicijama te otkrivaju kako slikom stvoriti atmosferu priče. Korak po korak prolaze proces stvaranja ilustracije spajajući crtež i priču. \nNa poticajnim i procesno orijentiranim radionicama djeca slobodno crtaju\, maštaju i stvaraju vlastite priče igrajući se bojama\, oblicima i raznovrsnim tehnikama čime se potiče prirodna znatiželja\, kreativnost i izgradnja samopouzdanja. Uz stručno vodstvo u opuštenoj i podržavajućoj atmosferi djeca uče kako izražavati svoje ideje\, surađivati s drugima i uživati u procesu zajedničkog stvaranja.
URL:https://planforculture.com/event/strip-lab-mala-akademija-crteza-i-price/
CATEGORIES:WORKSHOP
ATTACH;FMTTYPE=image/jpeg:https://planforculture.com/wp-content/uploads/2025/10/STRIP-LAB.jpg
ORGANIZER;CN="Hrvatski%20%C5%A1kolski%20muzej%2C%20galerija%20%22%C5%A0kolica%20za%205%22":MAILTO:hsm@hsmuzej.hr
END:VEVENT
BEGIN:VEVENT
DTSTART;TZID=Europe/Zagreb:20251011T100000
DTEND;TZID=Europe/Zagreb:20251220T120000
DTSTAMP:20260420T103738
CREATED:20251003T122349Z
LAST-MODIFIED:20251003T122349Z
UID:10003211-1760176800-1766232000@planforculture.com
SUMMARY:„Apsolutni početnici“ s Ivicom Prtenjačom Besplatne besplatne radionice kreativnog pisanja!
DESCRIPTION:Hrvatski školski muzej poziva vas na jedinstveni ciklus radionica kreativnog pisanja „Apsolutni početnici“ pod vodstvom Ivice Prtenjače\, iskusnog pisca\, urednika i mentora s dugogodišnjim iskustvom u radu s mladima.\nProgram kreativnog pisanja namijenjen je početnicima od 15 do 30 godina i otvoren za sve žanrove\, pružajući polaznicima prostor za individualno stvaranje\, ali i kolegijalnu interakciju unutar grupe. Radionice uključuju individualizirana vodstva u procesu promišljanja\, stvaranja i komentiranja teksta\, a završavaju javnim čitanjem radova polaznika.\nCiklus obuhvaća 10 subotnjih sesija\, svaka u trajanju od 2 sata\, održavat će se subotama od 10 do 12 sati u Galeriji Školskog muzeja „Školica za 5“\, Hebrangova 5\, Zagreb.\nHrvatski školski muzej u suradnji s Ivicom Prtenjačom omogućava novu priliku za besplatno obrazovanje i kreativni razvoj mladih sugrađana\, potičući njihovu kreativnost\, izražavanje i cjeloživotno učenje kroz kvalitetan i strukturiran program radionica.
URL:https://planforculture.com/event/apsolutni-pocetnici-s-ivicom-prtenjacom-besplatne-besplatne-radionice-kreativnog-pisanja/
CATEGORIES:WORKSHOP
ATTACH;FMTTYPE=image/png:https://planforculture.com/wp-content/uploads/2025/10/APSOLUTNI-POCETNICI.png
ORGANIZER;CN="Hrvatski%20%C5%A1kolski%20muzej%2C%20galerija%20%22%C5%A0kolica%20za%205%22":MAILTO:hsm@hsmuzej.hr
END:VEVENT
BEGIN:VEVENT
DTSTART;TZID=Europe/Zagreb:20251206T080000
DTEND;TZID=Europe/Zagreb:20251221T170000
DTSTAMP:20260420T103738
CREATED:20251203T111823Z
LAST-MODIFIED:20251203T111823Z
UID:10003322-1765008000-1766336400@planforculture.com
SUMMARY:Riječ je slika je riječ: Tišina zelenog
DESCRIPTION:U sklopu književno-likovnog programa „Riječ je slika je riječ“ biti će postavljena Izložba ilustracija Ive Valentić iz knjige „Tišina zelenog“.
URL:https://planforculture.com/event/rijec-je-slika-je-rijec-tisina-zelenog/
LOCATION:Knjižnica Marije Jurić Zagorke\, Krvavi most 2\, Zagreb\, Croatia (Local Name: Hrvatska)
CATEGORIES:EXHIBITION
ORGANIZER;CN="Knji%C5%BEnica%20Marije%20Juri%C4%87%20Zagorke":MAILTO:knjiznica.m.j.zagorke@kgz.hr
END:VEVENT
BEGIN:VEVENT
DTSTART;VALUE=DATE:20251210
DTEND;VALUE=DATE:20260911
DTSTAMP:20260420T103738
CREATED:20251124T111208Z
LAST-MODIFIED:20260212T095440Z
UID:10003319-1765324800-1789084799@planforculture.com
SUMMARY:Izložba „Bilo jednom… hrvatske tvornice igračaka u 20. stoljeću“
DESCRIPTION:Izložba „Bilo jednom… hrvatske tvornice igračaka u 20. stoljeću“\, kojom Hrvatski školski muzej istražuje povijest\, razvoj i kulturni značaj industrijski proizvedenih igračaka u Hrvatskoj\, otvara se 10. prosinca 2025. u 19 sati u galeriji muzeja „Školica za 5“ (Hebrangova 5\, Zagreb). Posjetitelji će kroz izložene predmete moći pratiti kako su igračke oblikovale djetinjstvo\, reflektirale društvene promjene i postale vrijedan dio hrvatske kulturne i pedagoške baštine.
URL:https://planforculture.com/event/izlozba-bilo-jednom-hrvatske-tvornice-igracaka-u-20-stoljecu/
LOCATION:ZAGREB
CATEGORIES:EXHIBITION
ATTACH;FMTTYPE=image/jpeg:https://planforculture.com/wp-content/uploads/2025/11/Plakat-final-.jpg
ORGANIZER;CN="Hrvatski%20%C5%A1kolski%20muzej%2C%20galerija%20%22%C5%A0kolica%20za%205%22":MAILTO:hsm@hsmuzej.hr
END:VEVENT
BEGIN:VEVENT
DTSTART;TZID=Europe/Zagreb:20251218T173000
DTEND;TZID=Europe/Zagreb:20251218T173000
DTSTAMP:20260420T103738
CREATED:20251215T162211Z
LAST-MODIFIED:20251215T162211Z
UID:10003332-1766079000-1766079000@planforculture.com
SUMMARY:Kreativna Ura: Arhitektura i umjetnost
DESCRIPTION:U Uraniji – prostoru kreacije u četvrtak\, 18. prosinca u 17:30 sati održat će se posljednje ovogodišnje izdanje programa Kreativna Ura\, iz ciklusa Arhitektura i umjetnost\, posvećeno ispitivanju načina na koji se umjetnički rad može ugraditi u arhitektonski projekt kao ravnopravni\, a katkad i konstitutivni element. Sudjeluju: umjetnica Katarina Ivanišin\, arhitektica Iva Ivas te arhitekt Ivan Mostahinić iz ureda IVANIŠIN. KABASHI. ARHITEKTI. \nPoticaj za razgovor su opusi i recentne realizacije Katarine Ivanišin\, čiji su radovi u dva recentna projekta – Hotel u Praškoj ulici i interijer Kosovske ambasade – razvijeni u neposrednom dijalogu s arhitektonskim konceptom. U oba slučaja\, umjetnost ne nastupa kao naknadno aplicirani sloj\, već kao element koji surađuje s prostornim sekvencama\, mjerilom i konstrukcijskom logikom interijera. Tapiserija duljine sedamnaest metara i aluminijska grafika razmjera devet puta šest metara\, izvedene za Hotel u Praškoj\, oblikovane su kao intervencije koje redefiniraju vizualni i ritmički karakter prostora. U interijeru ambasade\, autoričini otisci prirodnih uzoraka postaju temelj za formiranje niša u uredima veleposlanika i njegovog pomoćnika\, što otvara pitanje opsega u kojem umjetničko djelo sudjeluje u formiranju prostornih odnosa i radnih ambijenata. \nProgram će se baviti i metodološkim aspektima takve suradnje. Arhitektonski ured IVANIŠIN. KABASHI. ARHITEKTI poznat je po dugotrajnom istraživanju interdisciplinarnih pristupa te po projektantskim strategijama u kojima se likovne i arhitektonske logike nerijetko preklapaju. \nRazgovor s Ivom Ivas\, dugogodišnjom suradnicom ureda\, danas voditeljicom arhitektonskog odjela u Di planu\, i Ivanom Mostahinićem\, koji je profesionalno formiran unutar ureda\, otvorit će teme poput: kriterija odabira umjetničkog rada za određenu prostornu situaciju\, uvjeta pod kojima umjetnost utječe na organizaciju interijera\, kao i pitanja autorstva kada umjetnički rad i arhitektura nastaju u uzajamnom odnosu. \nPoseban naglasak stavit će se na razmatranje mjerila – kako fizičkog\, tako i konceptualnog – te na analizu načina na koji se umjetnički rad može prostorno uklopiti bez gubitka autonomije. U profesionalnoj praksi\, takvi se zahvati često nalaze na granici između prostorne artikulacije i vizualnog narativa\, stoga razgovor ima za cilj razmotriti njihove specifične projektantske izazove: od tehničkih i izvedbenih pitanja do epistemoloških pomaka koje takva integracija donosi u arhitektonski jezik. \nKreativna Ura u ovom će izdanju ponuditi uvid u modele suradnje između arhitekata i umjetnika na kapitalnim primjerima domaćih realizacija. Za stručnu javnost\, susret predstavlja vrijedan doprinos raspravi o vremenu u kojem se granice disciplina sve češće pomiču\, a kvaliteta prostora sve jače ovisi o sposobnosti autora da razumiju i artikuliraju kompleksne vizualno-prostorne odnose. \nDogađanje je besplatno\, ali je broj mjesta ograničen\, stoga pozivamo sve zainteresirane da se prijave na urania.hr.
URL:https://planforculture.com/event/kreativna-ura-arhitektura-i-umjetnost-3/
LOCATION:Urania\, Trg E. Kvaternika 3/3\, 10000 Zagreb\, Trg E. Kvaternika 3/3\, Zagreb\, 10000\, Croatia (Local Name: Hrvatska)
CATEGORIES:LECTURE
ATTACH;FMTTYPE=image/jpeg:https://planforculture.com/wp-content/uploads/2025/12/Urania_Post_AU-02.jpeg
ORGANIZER;CN="Urania":MAILTO:urania@urania.hr
END:VEVENT
BEGIN:VEVENT
DTSTART;TZID=Europe/Zagreb:20251218T200000
DTEND;TZID=Europe/Zagreb:20251218T220000
DTSTAMP:20260420T103738
CREATED:20251007T113013Z
LAST-MODIFIED:20251201T141427Z
UID:10003252-1766088000-1766095200@planforculture.com
SUMMARY:GSK Kerempuh: CLUEDO – društvena igra na sceni
DESCRIPTION:PRETPREMIJERA \nAutor: Sandy Rustin\nPrijevod\, režija i adaptacija: Nina Kleflin \nOva je krimi komedija nastala kao adaptacija filma “Clue” iz 1985.\, a sve zajedno inspirirano  je  poznatom  detektivskom  društvenom  igrom Clue\,  kod  nas  nazvana Cluedo\, oživljenom na sceni. Tekst i nosi naslov “Clue:  Na  sceni!” \nŠestero gostiju pozvano je na večernju zabavu koju organizira anonimni domaćin. Svatko od njih dobije fiktivno svoje ime specijalno za tu priliku — Colonel Mustard\, Mrs. White\, Mr. Green\, Mrs. Peacock\, Professor Plum\, and Miss Scarlet. Kroz protok vremena\, otkriva se kako svi imaju nešto zajedničko\, svi su žrtve istog ucjenjivača\, onog istog koji je druženje i organizirao. Svakome je dodijeljeno oružje i mogućnost izbora: dvostruko platiti ucjenjivaču ili ubiti nedužnog batlera. Slijedi totalna ludnica\, komedija dijaloga i slapstika u noći punoj zagonetki i smijeha\, a sve do otkrivanja ubojice. \nKomedija\, baš kao i društvena igra\, ima nekoliko krajeva. Bila je riječ o čak 200 kombinacija koje se međusobno razlikuju te ih bira publika putem karata. Sve se odvija na šahovskom polju i sama je priča namijenjena mlađoj publici\, kao i onoj koja je voljela naš “Raspad sistema”. \n\nDramaturginja: Dora Delbianco\nScenograf: Stefano Katunar\nKostimografkinja: Sara Lovrić Caparin\nKoreograf: Damir Klemenić\nAutor glazbe: Tomislav Babić\nOblikovateljica svjetla: Vesna Kolarec\nInspicijentica: Lorena Matešić  \n  \nIgraju: \nWadsworth – Domagoj Ivanković\nYvette – Ornela Vištica\nGospođica Scarlet (Rujnić) – Tanja Smoje\nGospođa Peacock (Paunica)\, – Ana Maras Harmander\nGospođa White (Bjelinski)\, – Mia Begović\nPukovnik Mustard (Senf) – Filip Detelić\nProfesor Plum (Šljivac) – Marko Makovičić\nGospodin Green (Zelenski) – Matija Šakoronja\nGospodin Body (Trupina) – Dražen Čuček\nKuharica / Poštarica – Anica Kontić\nPolicajac – Jakov Zovko \n  \nPopusti na grupne posjete (10 i više osoba)\nProdaja na tel. 01/4833 645\, 01/4833 646
URL:https://planforculture.com/event/gsk-kerempuh-cluedo-drustvena-igra-na-sceni/
LOCATION:Satiričko kazalište Kerempuh\, Prolaz Fadila Hadžića 7\, Zagreb\, Croatia (Local Name: Hrvatska)
CATEGORIES:THEATER
ATTACH;FMTTYPE=image/jpeg:https://planforculture.com/wp-content/uploads/2025/10/Kerempuh_Cluedo_715x320.jpg
ORGANIZER;CN="Satiri%C4%8Dko%20kazali%C5%A1te%20Kerempuh":MAILTO:blagajna@kerempuh.hr
END:VEVENT
END:VCALENDAR