BEGIN:VCALENDAR
VERSION:2.0
PRODID:-//PLAN FOR CULTURE - ECPv6.0.6//NONSGML v1.0//EN
CALSCALE:GREGORIAN
METHOD:PUBLISH
X-ORIGINAL-URL:https://planforculture.com
X-WR-CALDESC:Events for PLAN FOR CULTURE
REFRESH-INTERVAL;VALUE=DURATION:PT1H
X-Robots-Tag:noindex
X-PUBLISHED-TTL:PT1H
BEGIN:VTIMEZONE
TZID:Europe/Zagreb
BEGIN:DAYLIGHT
TZOFFSETFROM:+0100
TZOFFSETTO:+0200
TZNAME:CEST
DTSTART:20250330T010000
END:DAYLIGHT
BEGIN:STANDARD
TZOFFSETFROM:+0200
TZOFFSETTO:+0100
TZNAME:CET
DTSTART:20251026T010000
END:STANDARD
BEGIN:DAYLIGHT
TZOFFSETFROM:+0100
TZOFFSETTO:+0200
TZNAME:CEST
DTSTART:20260329T010000
END:DAYLIGHT
BEGIN:STANDARD
TZOFFSETFROM:+0200
TZOFFSETTO:+0100
TZNAME:CET
DTSTART:20261025T010000
END:STANDARD
END:VTIMEZONE
BEGIN:VEVENT
DTSTART;TZID=Europe/Zagreb:20251007T170000
DTEND;TZID=Europe/Zagreb:20260526T183000
DTSTAMP:20260420T032132
CREATED:20251003T123648Z
LAST-MODIFIED:20251003T123648Z
UID:10003212-1759856400-1779820200@planforculture.com
SUMMARY:Strip-Lab: Mala akademija crteža i priče
DESCRIPTION:Strip-Lab: Mala akademija crteža i priča je program kreativnih radionica za djecu od 8 do 12 godina pod vodstvom Zdenka Mikše\, mag. educ. art. Cilj ovog programa je osnažiti dječju maštu\, kreativnost i samopouzdanje te razviti sposobnost izražavanja kroz crtež i priču. \nJesen – Škola crtanja Djeca otkrivaju prve korake crtanja i uče kako linijom i oblikom izraziti osjećaje. Kroz vježbe crtanja likova i izraza lica razvijaju pažnju\, sigurnost i osjećaj za crtež.\nZima – Tajne stripa Na zabavan način ulaze u svijet stripa. Upoznaju elemente kao što su tabla\, kadar\, balončići i onomatopeje te uče kako osmisliti i ispričati kratku priču kroz slike i tekst.\nProljeće – Ilustracija Djeca uče o bojama i kompozicijama te otkrivaju kako slikom stvoriti atmosferu priče. Korak po korak prolaze proces stvaranja ilustracije spajajući crtež i priču. \nNa poticajnim i procesno orijentiranim radionicama djeca slobodno crtaju\, maštaju i stvaraju vlastite priče igrajući se bojama\, oblicima i raznovrsnim tehnikama čime se potiče prirodna znatiželja\, kreativnost i izgradnja samopouzdanja. Uz stručno vodstvo u opuštenoj i podržavajućoj atmosferi djeca uče kako izražavati svoje ideje\, surađivati s drugima i uživati u procesu zajedničkog stvaranja.
URL:https://planforculture.com/event/strip-lab-mala-akademija-crteza-i-price/
LOCATION:Grad Zagreb
CATEGORIES:WORKSHOP
ATTACH;FMTTYPE=image/jpeg:https://planforculture.com/wp-content/uploads/2025/10/STRIP-LAB.jpg
ORGANIZER;CN="Hrvatski%20%C5%A1kolski%20muzej%2C%20galerija%20%22%C5%A0kolica%20za%205%22":MAILTO:hsm@hsmuzej.hr
END:VEVENT
BEGIN:VEVENT
DTSTART;VALUE=DATE:20251210
DTEND;VALUE=DATE:20260911
DTSTAMP:20260420T032132
CREATED:20251124T111208Z
LAST-MODIFIED:20260212T095440Z
UID:10003319-1765324800-1789084799@planforculture.com
SUMMARY:Izložba „Bilo jednom… hrvatske tvornice igračaka u 20. stoljeću“
DESCRIPTION:Izložba „Bilo jednom… hrvatske tvornice igračaka u 20. stoljeću“\, kojom Hrvatski školski muzej istražuje povijest\, razvoj i kulturni značaj industrijski proizvedenih igračaka u Hrvatskoj\, otvara se 10. prosinca 2025. u 19 sati u galeriji muzeja „Školica za 5“ (Hebrangova 5\, Zagreb). Posjetitelji će kroz izložene predmete moći pratiti kako su igračke oblikovale djetinjstvo\, reflektirale društvene promjene i postale vrijedan dio hrvatske kulturne i pedagoške baštine.
URL:https://planforculture.com/event/izlozba-bilo-jednom-hrvatske-tvornice-igracaka-u-20-stoljecu/
LOCATION:ZAGREB
CATEGORIES:EXHIBITION
ATTACH;FMTTYPE=image/jpeg:https://planforculture.com/wp-content/uploads/2025/11/Plakat-final-.jpg
ORGANIZER;CN="Hrvatski%20%C5%A1kolski%20muzej%2C%20galerija%20%22%C5%A0kolica%20za%205%22":MAILTO:hsm@hsmuzej.hr
END:VEVENT
BEGIN:VEVENT
DTSTART;TZID=Europe/Zagreb:20260109T200000
DTEND;TZID=Europe/Zagreb:20260125T140000
DTSTAMP:20260420T032132
CREATED:20260116T085548Z
LAST-MODIFIED:20260116T085548Z
UID:10003355-1767988800-1769349600@planforculture.com
SUMMARY:RIJEČI\, SLIKE I SNOVI – Plakati iz zbirke Petra Smiljanića
DESCRIPTION:Izložba predstavlja preko 400 plakata iz kolekcije Smiljanić koja broji njih desetak tisuća\, nastalih u vremenskom rasponu od prvih desetljeća 20. stoljeća do početka 2000-ih\, a fokusira se na četiri velike cjeline s pogledom na najzanimljivije filmske i kazališne plakate\, plakate različitih manifestacija u rasponu od politike\, preko sporta i sajmova\, do glazbe i likovne umjetnosti\, te plakate u svojstvu umjetničkih djela. Izložbu suorganiziraju Lauba – Kuća za ljude i umjetnost i HDD – Hrvatsko dizajnersko društvo\, a ostat će otvorena do 25. siječnja 2026. \nAmbicija ove izložbe nije samo pokazati raspon ove kolekcije\, nego i pokušati kroz njene dijelove ispričati priče o tome što plakat kao medij može\, koje su njegove posebnosti\, gdje su mu granice i kako se one krše\, koji su sve izražajni dosezi koje su generacije dizajnera i umjetnika ocrtale u mediju plakata\, ali i koje su propulzivne institucije i drugi konteksti pomogli da se na području Hrvatske i nekadašnje Jugoslavije formira tako snažan kontinuitet izuzetnog grafičkog dizajna i vizualnih komunikacija. Osim što će istaknuti fragmente opusa dizajnera i umjetnika kao što su Boris Bućan\, Mihajlo Arsovski\, Mirko Ilić\, Ivan Picelj\, Boris Ljubičić\, Slobodan i Saveta Mašić\, Matjaž Vipotnik\, Ferenc Baráth\, Dalibor Martinis\, Drago Ivanišević\, Andrija Maurović\, Edo Murtić\, i grupa kao što su Novi Kolektivizem\, Studio Imitacija života i drugi\, izložba donosi i niz različitih tematskih rakursa na same karakteristične pristupe oblikovanju plakata. \nU kontekstu filma tako se\, između ostalog\, osvrće na naglašeno tipografski pristup oblikovanju\, ili na plakate čiji je dominantan motiv ljudsko tijelo\, na obilježja dizajna kod specifičnih žanrova kao što je npr. znanstvena fantastika. K tome\, izložba nas upoznaje i s kuriozitetima kao što je cijela kolekcija plakata slavnih poljskih autora dizajniranih za jugoslavenske filmove. Filmski plakati imaju prije svega komercijalnu\, propagandnu najmjenu — da informiraju i privuku publiku podacima o režiseru i glumcima\, sugeriraju žanr filma. Sažimajući neke od najvažnijih likova i scena u nekoj vrsti vizualnog kolaža ili fotomontaže dizajneri/ilustratori nastoje sadržaj i temu filma što efektnije najaviti i predočiti publici. Zbog tehnoloških ograničenja tiska 50ih\, 60ih\, pa i 70ih godina filmskim plakatima uglavnom dominiraju ilustracije dok se korištenje fotografije često svodi na reprodukciju portreta filmskih zvijezda ili ikoničkih scena. \nU domaćem kontekstu iz više razloga upravo je kazališni plakat od 60ih do 80ih godina bio područje izrazito kvalitetnog grafičkog dizajna. Namijenjen prvenstveno obrazovanoj publici kazališni plakat nije bio pod pritiskom komercijalno-marketinških zahtjeva pa je omogućavao formalno radikalne pristupe\, dok je s druge strane oslobođen neposrednog pritiska političko-ideološke agitacije ipak tematski omogućavao i raznovrsne društveno-političke komentare. Početkom 60ih javlja se i niz studentskih kazališta (Studentsko eksperimentalno kazalište\, Studentsko satiričko glumište)\, festivala poput Ifska\, novih kazališta kao što su Zagrebačko dramsko kazalište\, Komorna pozornica i Teatar &td\, a u jugoslavenskom kontekstu tu su i Bitef\, Glej\, Pekarna i KPGT. Novi naručitelji zainteresirani za dobar dizajn omogućili su da upravo kazališni plakat postane važan predmet interesa niza vrhunskih dizajnera (Arsovski\, Bućan\, Borčić\, Ilić\, Vipotnik\, Novi kolektivizam\, Studio imitacija života). U cjelini posvećenoj kazalištu\, izložba se fokusira na prodore začudne\, magične atmosfere koja se često javlja upravo u kontekstu dizajna za teatar\, a s druge strane i na dizajnerske radove u kojima se na provokativne načine sudaraju ideje svakodnevne i scenske stvarnosti. \nU cjelini posvećenoj manifestacijama akcenti su upravo na sinergiji dizajna i iznimnih događanja koja su transformirala našu sredinu\, od Novih tendencija\, preko Muzičkog biennala\, Geffa i Eurokaza\, preko Mediteranskih igara\, Univerzijade u Zagrebu 1987 i Zimskih Olimpijskih igara u Sarajevu\, do vibrantnih desetljeća Zagrebačkog zbora i Zagrebačkog Velesajma. \nPosljednja velika cjelina izložbe upoznaje nas s plakatom kao medijem vizualne umjetnosti\, kao umjetničkim iskazom ili artefaktom. U ovoj cjelini većinom je riječ o radovima nastalima 1960-ih i 1970-ih godina\, gdje je upravo grafički dizajn poslužio brojnim umjetnicima da preispitaju samu prirodu umjetnosti\, umjetničkog djela i vizualnih komunikacija\, a ona uključuje radove grupe OHO\, Gorana Trbuljaka\, Tomislava Gotovca\, Sanje Iveković\, Dimitrija Bašičevića Mangelosa\, Vlade Marteka i brojnih drugih. Izložba plakata daje uvid u samo jedan dio Zbirke Smiljanić\, koja obuhvaća mnoga ključna djela vizualne umjetnosti iz druge polovice 20. stoljeća\, fotografije\, grafika\, knjiga te avangardnih i neoavangardnih časopisa.\n(iz teksta Marka Goluba i Dejana Kršića) \nRIJEČI\, SLIKE I SNOVI – Plakati iz zbirke Petra Smiljanića\nLauba – Kuća za ljude i umjetnost\n9 – 25.1.2026.\nOrganizatori izložbe: Lauba – Kuća za ljude i umjetnost\, HDD – Hrvatsko dizajnersko društvo\nKustos izložbe: Marko Golub\nKustosica asistentica: Tena Lovrenčić\nKoncept izložbe i selekcija radova: Marko Golub\, Tena Lovrenčić\, Petar Smiljanić\nDizajner\, konzultant i stručni suradnik (suautor tekstova): Dejan Kršić\nAutori postava: Marko Golub i Tena Lovrenčić \n  \nRadno vrijeme izložbe: \nPonedjeljak – Subota: 11-19h\nNedjelja: 10-14h \nCijena ulaznice: 10EUR\nStudenti i umirovljenici 50% popusta na blagajni
URL:https://planforculture.com/event/rijeci-slike-i-snovi-plakati-iz-zbirke-petra-smiljanica/
LOCATION:Lauba – Kuća za ljude i umjetnost\, Prilaz baruna Filipovića 23a\, Zagreb\, 10000\, Croatia (Local Name: Hrvatska)
CATEGORIES:EXHIBITION
ATTACH;FMTTYPE=image/jpeg:https://planforculture.com/wp-content/uploads/2026/01/Smiljanic-hdd-web-900x600-1_72-dpi.jpg
ORGANIZER;CN="Lauba%20-%20Ku%C4%87a%20za%20ljude%20i%20umjetnost":MAILTO:info@lauba.hr
END:VEVENT
BEGIN:VEVENT
DTSTART;VALUE=DATE:20260110
DTEND;VALUE=DATE:20260111
DTSTAMP:20260420T032132
CREATED:20251206T150919Z
LAST-MODIFIED:20251206T150919Z
UID:10003323-1768003200-1768089599@planforculture.com
SUMMARY:Heimo Wallner u Flori
DESCRIPTION:Hrvatsko društvo likovnih umjetnika Dubrovnik i Galerija Flora \nsa zadovoljstvom Vas pozivaju na otvorenje izložbe\n \n\nHEIMO WALLNER \n\nOK \n\n\nkoje će se održati u petak 5. prosinca u 19 sati u Galeriji Flora.\n \n\nIzložba i rezidencijalni boravak umjetnika odvija se u sklopu Godišnjeg programa Medijateke. Heimo Wallner će u Galeriji Flora izložiti recentne crteže tintom i animacije te zidni crtež u prostoru buduće Grafičke radionice. \n\nIzložba se može pogledati do 10. siječnja 2026. svaki dan od 9-13 sati i od 16-18 sati. Izložba se može pogledati i u drugim terminima ako su vrata Florina doma otvorena\, te najavom na galerijaflora.dbk@gmail.com\n \n \nRadujemo se Vašem dolasku i druženju u Flori.\n \n\nProgram Galerije Flora i Medijateke suvremenih umjetničkih praksi ostvaruje se uz financijsku potporu Grada Dubrovnika i Ministarstva kulture i medija RH\, kojima ovom prilikom zahvaljujemo na podršci. \nMedijski partner: Plan for Culture \n\n—————— \nArtist Statement \nCrtam\, a taj se kontinuirani proces manifestira u hrpama crteža\, animacija i\, kada je\nto moguće: crtežima na zidovima – napravljenim brzo\, s jasnim rokom. Ovi zidni\ncrteži me prisiljavaju da generiram slike na licu mjesta; male niti narativa kristaliziraju\nse\, isprepliću\, povezuju i remete. Postaju ritam\, tekstura\, ornament: tapete.\nLjudsko stanje je moj plijen. Glupost (moja i opća) beskrajan izvor. Banalno i bitno\,\ndnevne vijesti nasuprot vječnim istinama\, privatne bolne tajne pretvaraju se u\npraktične šale – katarzu i prokletstvo odjednom.\n* \nHeimo Wallner rođen je u Salzburgu u Austriji 1961. godine i studirao je kiparstvo na\nBečkoj akademiji umjetnosti. Izlagao je svoje radove u Europi\, Japanu i Sjedinjenim\nDržavama. Heimo Wallner se prvenstveno izražava crtežom. Uspoređuju se s\n„automatskim“ radovima ranih nadrealista. Wallner se bavi vrstom suspenzije svijesti\nkao sredstvom izražavanja ideja i slika podsvijesti. Glavni protagonist u Wallnerovom\nradu je gola figura s licem nalik maski i praznim očima – elementarni\, odvojeni\n„svatko“ koji prolazi kroz mlin ljudskih strahova i nada\, opsesija i želja. Njegov rad\noscilira između zidnih crteža\, crtanja/animacije i skulpture. Živi u Vermontu i Austriji\ngdje je i kustos programa umjetnika u rezidenciji hotelpupik. \n—————————————————————————————————————– \nArtist Statement\nI draw\, and this ongoing process manifests itself in piles of drawings\, animations and\nwhen possible: room drawings – made quickly\, with a clear deadline\, these wall\ndrawings force me to generate imagery on the spot and little strands of narratives\ncrystallise\, interweave\, connect\, and disrupt. They become rhythm\, texture\,\nornament: wall paper.\nThe human condition is my quarry. Stupidity (my own and the general) an endless\nsource. The banal and the essential\, daily news vs eternal truths\, private painful\nsecrets turn into practical jokes – catharsis and damnation all at once.\n*\nHeimo Wallner was born in Salzburg\, Austria in 1961 and studied sculpture at the\nVienna Academy of Fine Arts. He has exhibited his work internationally. Heimo\nWallner’s primary work exists as drawing installations. They have been compared to\nthe “automatic” works of the early Surrealists. Wallner engages in a type of\nsuspension of the conscious mind as a means of expressing ideas and images of the\nsubconscious. The primary protagonist in Wallner’s work is a naked figure with a\nmask-like face and empty eyes – an elemental\, detached “everybody\, – goes through\nthe mill of human fears and hopes\, obsessions and desires.\nHis work oscillates between wall drawings\, drawing/animation and sculpture.He lives\nin Vermont and Austria where he also curates the artists in residence program\nhotelpupik.
URL:https://planforculture.com/event/heimo-wallner-u-flori/
LOCATION:HDLUDU\, Šetalište kralja Zvonimira 32\, Dubrovnik
CATEGORIES:EXHIBITION
ATTACH;FMTTYPE=image/jpeg:https://planforculture.com/wp-content/uploads/2025/12/poster--scaled.jpg
ORGANIZER;CN="Hrvatsko%20dru%C5%A1tvo%20likovnih%20umjetnika%20Dubrovnik":MAILTO:hdludubrovnik@gmail.com
END:VEVENT
BEGIN:VEVENT
DTSTART;TZID=Europe/Zagreb:20260110T200000
DTEND;TZID=Europe/Zagreb:20260110T213500
DTSTAMP:20260420T032132
CREATED:20251112T123530Z
LAST-MODIFIED:20251112T123530Z
UID:10003290-1768075200-1768080900@planforculture.com
SUMMARY:GSK Kerempuh: UBOJSTVO U ORIENT EXPRESSU
DESCRIPTION:Agatha Christie\nAdaptirao za pozornicu Ken Ludwig\nRedateljica: Sara Stanić Blažević \n  \n“Ubojstvo u Orient Expressu” kultni je roman najpoznatije autorice detektivskih romana Agathe Christie\, koji je prvi put dolazi u Hrvatsku na kazališne daske u adaptaciji Kena Ludwiga i režiji Sare Stanić. Roman je to koji je od svog prvog izdanja 1934. godine doživio mnogobrojne filmske adaptacije i izgradio prepoznatljiv lik najpoznatijeg zabadala na svijetu koji sa svojim ikoničnim brkovima i malim sivim stanicama\, ostaje jedan od najslavnijih detektiva u književnosti\, a njegov način rješavanja zločina – koristeći logiku i psihologiju – fascinira čitatelje i gledatelje već desetljećima. \nSlavni belgijski detektiv Hercule Poirot putujući luksuznim vlakom Orient Express\, kojim samo pokušava doći do Londona i možda jednom u životu ništa ne raditi\, mora riješiti ubojstvo koje se dogodi na vlaku negdje između Vinkovaca i Slavonskog Broda. Zatočen u snijegu\, okružen neobičnom paletom likova koji su svi odlučili putovati baš danas\, Poirot ipak mora otkriti igru i riješiti slučaj\, gdje su svi dokazni materijali rasprostranjeni\, a svi putnici imaju alibi i koje se samo naizgled čini jednostavan i već riješen. \nSuigra koju Hercule Poirot s putnicima vlaka inteligentno vodi i gradi od naizgled banalnih pitanja Zašto danas? i zapažanja\, svojom nevjerojatnom sposobnošću čitanja ljudi i situacija ono je što gradi  kazališnu napetost ove predstave. Tako Poirotova igra\, odgonetavanje njegovih malih sivih stanica svaki put fascinira\, iako su nam krivac i priča možda već i poznati. \n  \nUBOJSTVO U ORIENT EXPRESSU\n© 2016 Agatha Christie Limited & Ken Ludwig\nSva prava pridržana.\nadaptirano prema\nUbojstvo u Orient Expressu\n© 1934 Agatha Christie Limited\nSva prava pridržana. \n  \nPrevoditeljica: Kristina Kegljen\nRedateljica: Sara Stanić Blažević\nDramaturginja: Mirna Rustemović\nScenski pokret: Natalija Manojlović\nScenografkinja: Petra Poslek\nKostimografkinja: Matea Japec\nGlazba: Rade Sklopić\nAutor video projekcija: Miro Manojlović\nOblikovatelj svjetla: Luka Matić \n  \nIgraju:\nHercule Poirot – Damir Poljičak\nGospodin Bouc – Marko Makovičić\nMary Debenham – Josipa Anković\nPrinceza Dragimirov – Elizabeta Kukić\nGospođa Hubbard – Tanja Smoje\nGreta Ohlsson – Ana Maras Harmander\nPukovnik Arbuthnot – Josip Brakus\nGrofica Andrenyi – Ornela Vištica\nGrof Andrenyi – Matija Šakoronja\nPodvornik kola – Luka Petrušić\nGospođa Ratchett – Mia Begović \nPopusti na grupne posjete (10 i više osoba)\nProdaja na tel. 01/4833 645\, 01/4833 646
URL:https://planforculture.com/event/gsk-kerempuh-ubojstvo-u-orient-expressu-36/
LOCATION:Satiričko kazalište Kerempuh\, Prolaz Fadila Hadžića 7\, Zagreb\, Croatia (Local Name: Hrvatska)
CATEGORIES:THEATER
ATTACH;FMTTYPE=image/jpeg:https://planforculture.com/wp-content/uploads/2025/11/Ubojstvo-u-Orient-Expressu.jpg
ORGANIZER;CN="Satiri%C4%8Dko%20kazali%C5%A1te%20Kerempuh":MAILTO:blagajna@kerempuh.hr
END:VEVENT
END:VCALENDAR