BEGIN:VCALENDAR
VERSION:2.0
PRODID:-//PLAN FOR CULTURE - ECPv6.0.6//NONSGML v1.0//EN
CALSCALE:GREGORIAN
METHOD:PUBLISH
X-WR-CALNAME:PLAN FOR CULTURE
X-ORIGINAL-URL:https://planforculture.com
X-WR-CALDESC:Events for PLAN FOR CULTURE
REFRESH-INTERVAL;VALUE=DURATION:PT1H
X-Robots-Tag:noindex
X-PUBLISHED-TTL:PT1H
BEGIN:VTIMEZONE
TZID:Europe/Zagreb
BEGIN:DAYLIGHT
TZOFFSETFROM:+0100
TZOFFSETTO:+0200
TZNAME:CEST
DTSTART:20230326T010000
END:DAYLIGHT
BEGIN:STANDARD
TZOFFSETFROM:+0200
TZOFFSETTO:+0100
TZNAME:CET
DTSTART:20231029T010000
END:STANDARD
END:VTIMEZONE
BEGIN:VEVENT
DTSTART;TZID=Europe/Zagreb:20231124T183000
DTEND;TZID=Europe/Zagreb:20231124T200000
DTSTAMP:20260422T035647
CREATED:20231120T140052Z
LAST-MODIFIED:20231120T140754Z
UID:10000141-1700850600-1700856000@planforculture.com
SUMMARY:Tumači poezije: Žica\, odmotano klupko boli
DESCRIPTION:U povodu Međunarodnog dana pisaca u zatvoru\, na tribini organiziranoj u suradnji s Hrvatskim P.E.N. centrom\, o tome kako poezija progovara o žici\, slobodi i neslobodi\, represiji\, ratu i migrantima razgovarat će i čitati poeziju Lana Derkač\, Davor Šalat\, Andrijana Kos Lajtman\, Ksenija Banović\, Goran Čolakhodžić i Diana Burazer.
URL:https://planforculture.com/event/tumaci-poezije-zica-odmotano-klupko-boli/
LOCATION:Knjižnica Marije Jurić Zagorke\, Krvavi most 2\, Zagreb\, Croatia (Local Name: Hrvatska)
CATEGORIES:CONFERENCE
ATTACH;FMTTYPE=image/jpeg:https://planforculture.com/wp-content/uploads/2023/11/IMG-20231117-WA0017-2.jpg
ORGANIZER;CN="Knji%C5%BEnica%20Marije%20Juri%C4%87%20Zagorke":MAILTO:knjiznica.m.j.zagorke@kgz.hr
END:VEVENT
BEGIN:VEVENT
DTSTART;TZID=Europe/Zagreb:20231123T183000
DTEND;TZID=Europe/Zagreb:20231123T200000
DTSTAMP:20260422T035647
CREATED:20231120T135206Z
LAST-MODIFIED:20231120T135206Z
UID:10000140-1700764200-1700769600@planforculture.com
SUMMARY:Pisanjem do smisla
DESCRIPTION:Sada kad se oko nas ponovo razbuktavaju neki novi ratovi\, opet razmišljamo o smislu pisanja u turbulentnim vremenima – kako predočiti užas\, kako ga ljudima približiti dovoljno da stvarno nešto i osjete? I kako pronaći riječi za neizrecivo? Svijet je sazdan od jezika\, a stalno smo pretjerano zaokupljeni sadržajem. Kad bismo se više osvrtali na jezik\, bi li nam i budućnost bila drugačija? I je li besmisleno i utopijski misliti da književnost nešto može promijeniti\, nekoga pomaknuti – ili je to u vremenima koja su uvijek teška – zapravo jedino smisleno?O ovim i brojim drugim temama u organizaciji Hrvatskog PEN-a razgovarat će pisac\, pjesnik\, redatelj i dramaturg Darko Cvijetić i nezavisna kritičarka i teoretičarka Marija Ott Franolić.
URL:https://planforculture.com/event/pisanjem-do-smisla/
LOCATION:Knjižnica Marije Jurić Zagorke\, Krvavi most 2\, Zagreb\, Croatia (Local Name: Hrvatska)
CATEGORIES:CONFERENCE
ATTACH;FMTTYPE=image/jpeg:https://planforculture.com/wp-content/uploads/2023/11/IMG-20231117-WA0018.jpg
ORGANIZER;CN="Knji%C5%BEnica%20Marije%20Juri%C4%87%20Zagorke":MAILTO:knjiznica.m.j.zagorke@kgz.hr
END:VEVENT
BEGIN:VEVENT
DTSTART;VALUE=DATE:20231103
DTEND;VALUE=DATE:20231105
DTSTAMP:20260422T035647
CREATED:20230512T094817Z
LAST-MODIFIED:20231025T142230Z
UID:10000003-1698969600-1699142399@planforculture.com
SUMMARY:Days of Oris 23 Festival
DESCRIPTION:www.daysoforis.com\n03. i 04. 11. 2023.\n\n\n\nS veseljem najavljujemo 23. izdanje Festivala Dani Orisa koji će se održati 3. i 4. studenoga 2023. godine (petak i subota) u Koncertnoj dvorani Vatroslava Lisinskog u Zagrebu. \nHOTELSKI SMJEŠTAJ + PROGRAM\nHOTELSKI SMJEŠTAJ \nSmještaj možete rezervirati u hotelima Zonar i Sheraton. Povoljnije cijene možete ostvariti putem ove poveznice: \nZonar – Book your group rate for ORIS \nSheraton – Book your group rate for ORIS \nPROGRAM  \nČetvrtak\, 2. studenoga 2023.\, 18 sati u Oris Kući arhitekture\nOtvorenje izložbe prijavljenih radova na Natječaj za nagradu “Tripun Bokanić” Klesarske škole Pučišća 2023. \nPetak\, 3. studenoga 2023. \n12:30 Registracija \n13:30 Betonski spavači – premijera nove sezone \n:: :: Mia Roth Čerina & Tonči Čerina \n:: :: Vinu Daniel \n:: :: Mikelić Vreš Arhitekti \n:: :: Amir Vuk Zec \n  \nSubota\, 4. studenoga 2023. \n9:00 Registracija \n10:00 Pritzker Winners for Oris 25 – film o izložbi \n:: :: Fasch&Fuchs Architekten \n:: :: Carme Pinós – ORIS AWARD \n:: :: Arhitektura Krušec \n:: :: Autori \n:: :: Studio UP \nModeratori:\nMia Roth Čerina\nMaroje Mrduljaš\nDinko Peračić \nSva predavanja bit će bez simultanog prijevoda. \nU programu stručnog usavršavanja Hrvatske komore arhitekata Festival se boduje s ukupno 12 sati.\n\n\nKOTIZACIJE\n\n\n65\,00 EUR / 489\,00 HRK // REGULAR \n40\,00 EUR / 301\,00 HRK // STUDENTSKA \nUlaznice možete kupiti ovdje. \nUkoliko ste član neke od partnerskih institucija Festivala\, ostvarujete 10 posto popusta na redovnu cijenu kotizacija. Za ostvarenje popusta molimo vas da se uz predočenje dokaza o članstvu obratite na e-mail: ivica@oris.hr \nINFORMACIJE I PRODAJA ULAZNICA\nKontakt osoba /// Ivica Novak\nOris d.o.o.\nKralja Držislava 3\, HR-10 000 Hrvatska\, Zagreb\ntel: + 385 1 37 78 177\ne-mail: ivica@oris.hr \nwww.daysoforis.com \nOrganizator zadržava pravo izmjene programa i uvjeta održavanja bez prethodne najave. \n 
URL:https://planforculture.com/event/festival-days-of-oris-23/
LOCATION:Vatroslav Lisinski Concert Hall\, Trg Stjepana Radića 4\, Zagreb\, 10000\, Croatia (Local Name: Hrvatska)
CATEGORIES:ARCHITECTURE,CONFERENCE
ATTACH;FMTTYPE=image/jpeg:https://planforculture.com/wp-content/uploads/2023/02/DO_23.jpg
ORGANIZER;CN="Oris%20House%20of%20Architecture":MAILTO:oris@oris.hr
END:VEVENT
BEGIN:VEVENT
DTSTART;TZID=Europe/Zagreb:20231024T180000
DTEND;TZID=Europe/Zagreb:20231024T180000
DTSTAMP:20260422T035647
CREATED:20230921T073307Z
LAST-MODIFIED:20231018T124454Z
UID:10000051-1698170400-1698170400@planforculture.com
SUMMARY:Jasna Galjer\, Prolegomena za modernu: društveno angažirana arhitektura  Marijana Haberlea između vizije i realnosti
DESCRIPTION:Izložba i tribina \nAutorica izložbe je dr.sc. Jasna Galjer\, redoviti prof. na odsjeku za povijest umjetnosti Filozofskog fakulteta Sveučilišta u Zagrebu\, a organizatori izložbe su galerija Modulor i Oris Kuća arhitekture. \nTribina se organizira u suradnji s Oris Kućom arhitekture\, a uz stručnu podršku Društva arhitekata Zagreb i  Društva povjesničara umjetnosti Hrvatske.\nIzložba “Prolegomena za modernu: društveno angažirana arhitektura Marijana Haberlea između vizije i realnosti” galerije Modulor Centra za kulturu Trešnjevka gostuje u prostoru galerije Oris Kuća arhitekture (Kralja Držislava 3) uz okrugli stol/prateće predavanje. \nIzložba traje od 24. do 28. listopada 2023.\, dok će se tribina “Brodarski institut u Zagrebu” održati u utorak\, 24. listopada 2023. u 18 sati u Oris Kući arhitekture.\nPosjet izložbi i sudjelovanje na tribini je besplatno. \nO izložbi: \n“Izložba predstavlja djelovanje Marijana Haberlea (1908.-1979.)\, jednog od protagonista moderne arhitekture u Hrvatskoj. Haberle je brojnim arhitektonskim ostvarenjima ostavio neizbrisiv trag u arhitektonskoj kulturi i današnjem urbanom identitetu Zagreba\, ali i drugih gradova diljem Hrvatske\, od Slavonskog Broda do Siska. Zagrebački zbor (današnji Studentski centar) i Tehnički muzej\, Brodarski institut\, hotel na Plitvicama\, Koncertna dvorana „Vatroslav Lisinski“\, neki su od najistaknutijih primjera u Haberlevom impresivnom opusu. Namjera je ovom izložbom u dijalogu arhitektonskih fotografija izvornog i današnjeg izgleda\, nacrta\, vizualno dojmljivih crteža i filma\, podsjetiti na značenje i vrijednost poznatih\, ali i rasvijetliti još uvijek nedovoljno poznate doprinose Marijana Haberlea ostvarenju vizija moderne arhitekture i time pridonijeti prepoznavanju kvalitete prostora u kojem živimo.”  Jasna Galjer \nViše o tribini: \nTema tribine je stanje arhitektonske i urbanističke baštine na primjeru Brodarskog instituta u Aveniji Većeslava Holjevca 20 u Zagrebu. Povod za razgovor je neizvjesna sudbina ovog iznimno vrijednog multifunkcionalnog kompleksa\, koji je gašenjem primarne funkcije poput brojnih kvalitetnih ostvarenja socijalističkog modernizma prepušten likvidaciji koja donosi propadanje. Tribina će predstaviti slučaj Brodarskog instituta\, ilustrativan za situaciju gdje izostaje društvena svijest o kvaliteti i vrijednosti građevina i ambijentalnih cjelina javne namjene iz razdoblja socijalističkog modernizma. Namjera je ovim razgovorom ukazati na akutne probleme koji su rezultat nedostatnog pravnog okvira za provođenje zaštite arhitektonskih i urbanističkih ostvarenja u praksi\, kao i otvorenih proceduralnim pitanja. Cilj je potaknuti dijalog između predstavnika profesionalne i šire javnosti o ključnim pitanjima konteksta u kojem arhitektura i urbanizam imaju formativne\, kompleksne uloge u afirmiranju proizvodnje novih kulturnih vrijednosti. Stoga će se u razgovoru naglasiti aspekti planiranja i izgradnje Novog Zagreba i Zagrebačkog velesajma\, osobito kao mogućnost prepoznavanje i razumijevanja postojećih urbanih i arhitektonskih vrijednosti. \nO aktualnim pitanjima modernističke baštine druge polovice 20. stoljeća na primjeru Brodarskog instituta\, aspektima zaštite\, iskustvima i problemima koji se javljaju u praksi te o otvorenim pitanjima mogućih strategija zaštite raspravljat će: dr. sc. Jasna Galjer (Odsjek za povijest umjetnosti Filozofskog fakulteta u Zagrebu)\, dr. sc. Valentina Gulin-Zrnić (Institut za etnologiju i folkloristiku)\, dr. sc. Marko Špikić (Odsjek za povijest umjetnosti Filozofskog fakulteta u Zagrebu)\, dipl.ing.arh. Iva Hudan (savjetnica ministra Ministarstva prostornog uređenja\, graditeljstva  i državne imovine)\, dr.sc. Marijana Sironić\, dipl.ing.arh. (Gradski zavod za zaštitu spomenika kulture i prirode Grada Zagreba)\, dipl. ing. arh. Darko Kovač (Konzervatorski odjel u Zagrebu za područje Zagrebačke županije Ministarstva kulture i medija RH) i  pozvani predstavnik Gradske uprave grada Zagreba.\n\nO izložbi: \n“Izložba predstavlja djelovanje Marijana Haberlea (1908.-1979.)\, jednog od protagonista moderne arhitekture u Hrvatskoj. Haberle je brojnim arhitektonskim ostvarenjima ostavio neizbrisiv trag u arhitektonskoj kulturi i današnjem urbanom identitetu Zagreba\, ali i drugih gradova diljem Hrvatske\, od Slavonskog Broda do Siska. Zagrebački zbor (današnji Studentski centar) i Tehnički muzej\, Brodarski institut\, hotel na Plitvicama\, Koncertna dvorana „Vatroslav Lisinski“\, neki su od najistaknutijih primjera u Haberlevom impresivnom opusu. Namjera je ovom izložbom u dijalogu arhitektonskih fotografija izvornog i današnjeg izgleda\, nacrta\, vizualno dojmljivih crteža i filma\, podsjetiti na značenje i vrijednost poznatih\, ali i rasvijetliti još uvijek nedovoljno poznate doprinose Marijana Haberlea ostvarenju vizija moderne arhitekture i time pridonijeti prepoznavanju kvalitete prostora u kojem živimo.” \n\nJasna Galjer \n\n \nOrganizacija izložbe: Galerija Modulor i Oris Kuća arhitekture\nMeđuistitucionalna suradnja: Hrvatski muzej arhitekture Hrvatske akademije znanosti i umjetnosti\nIzložba je ostvarena uz podršku Ministarstva kulture i medija RH i Gradskog ureda za kulturu i civilno društvo.\nRealizaciju izložbe i kataloga podržali su ustupanjem prava na korištenje materijala sljedeće institucije i pojedinci: Hrvatski muzej arhitekture Hrvatske akademije znanosti i umjetnosti: Osobni arhivski fond Marijana Haberlea (HMA HAZU – OAF M. Haberle)\, Brodarski institut d.o.o. u likvidaciji\, Zagreb\, Arhiv JU NP Plitvička jezera\, Hrvatski državni arhiv\, Zagreb\, Obiteljska ostavština Haberle-Jurković\, Damir Fabijanić\, Saša Šimpraga i Bruno Radovčić.
URL:https://planforculture.com/event/jasna-galjer-prolegomena-za-modernu-drustveno-angazirana-arhitektura-marijana-haberlea-izmedu-vizije-i-realnosti/
LOCATION:Oris House of Architecture\, Kralja Držislava 3\, Zagreb\, 10 000\, Croatia (Local Name: Hrvatska)
CATEGORIES:CONFERENCE,EXHIBITION
ATTACH;FMTTYPE=image/jpeg:https://planforculture.com/wp-content/uploads/2023/09/Marijan-Haberle-foto-Sime-Radovcic-1-1.jpg
ORGANIZER;CN="galerija%20Modulor":MAILTO:modulor@cekate.hr
END:VEVENT
BEGIN:VEVENT
DTSTART;TZID=Europe/Zagreb:20231018T190000
DTEND;TZID=Europe/Zagreb:20231018T210000
DTSTAMP:20260422T035647
CREATED:20231018T072109Z
LAST-MODIFIED:20231018T072109Z
UID:10000095-1697655600-1697662800@planforculture.com
SUMMARY:"Poštuj sezonca"\, razgovor o umjetnosti i radu
DESCRIPTION:Izvan okvira izložbe Paska Burđeleza “Poštuj sezonca”  o umjetnosti i radu razgovarat će Vesna Vuković i Pasko Burđelez.  \nRadovi Paska Burđeleza zadnjih se godina posebno usmjeravaju pitanju rada\, uvijek snažno apelirajući na gledatelje\, nerijetko (samo)kritički promatrajući vlastitu poziciju i ulogu umjetnosti u sistemu proizvodnje i reprodukcije. Dugogodišnji ciklus “Djeluj lokalno\, zagrijavaj globalno”\, u kojem je dosad realizirao niz akcija i site-specific instalacija\, dobio je nastavak u formi izložbe “Poštuj sezonca” održane u jeku turističke sezone. Sad\, na njezinom zalazu\, izložba dobiva ekstenziju u formi razgovora koji će krenuti od specifičnosti rada u umjetnosti\, njegove mistifikacije i potiskivanja u nevidljivost privatne sfere\, da bismo preko (ne)mogućnosti umjetničkog organiziranja otvorili pitanje povezivanja s radničkim borbama izvan sfere umjetnosti. Namjera je u kratkom uvodnom izlaganju pokazati i neke primjere alata u borbi protiv izrabljivanja radnica u umjetnosti: smjernice o preporučenim honorarima (SPID)\, Kodeks prakse (Za K.R.U.H.)\, sindikalno udruživanje i kolektivno pregovaranje (ZASUK)\, te nakon toga otvoriti razgovor s prisutnima.
URL:https://planforculture.com/event/postuj-sezonca-razgovor-o-umjetnosti-i-radu/
LOCATION:HDLUDU\, Šetalište kralja Zvonimira 32\, Dubrovnik
CATEGORIES:CONFERENCE,EXHIBITION
ATTACH;FMTTYPE=image/jpeg:https://planforculture.com/wp-content/uploads/2023/10/dolazi-gazda.jpg
ORGANIZER;CN="Hrvatsko%20dru%C5%A1tvo%20likovnih%20umjetnika%20Dubrovnik":MAILTO:hdludubrovnik@gmail.com
END:VEVENT
BEGIN:VEVENT
DTSTART;TZID=Europe/Zagreb:20231005T100000
DTEND;TZID=Europe/Zagreb:20231007T190000
DTSTAMP:20260422T035647
CREATED:20230817T123729Z
LAST-MODIFIED:20230829T135235Z
UID:10000031-1696500000-1696705200@planforculture.com
SUMMARY:Month of Design 2023
DESCRIPTION:Design Week Ljubljana 2023\, scheduled for October 5-7\, as an integral component of the Month of Design\, encompasses a dynamic array of events; Exhibition of Brands and Designers\, Eat & Drink Design\, BIG SEE Winners presentations\, the Design Conference\, the Design Forum\, BIG SEE Debates\, the BIG SEE Grand Prix Award Ceremony\, and the Slovene Design Awards Ceremony. \nProgramme \nOCTOBER 5\, 2023\n10.00-12.00: BIG SEE Debate (Academy of Music\, Kongresni trg 1\, Ljubljana)\n12.00-14.00: BIG SEE Debate (Academy of Music\, Kongresni trg 1\, Ljubljana)\n10.00-16.00: Design Forum (Academy of Music\, Kongresni trg 1\, Ljubljana)\n17.00-18.00: Slovenian Design Award Ceremony (Academy of Music\, Kongresni trg 1\, Ljubljana)\n18.00-22.00: Eat & Drink Design and Opening of the Design Week Ljubljana (Design Zone in Centre of Ljubljana) \nOCTOBER 6\, 2023\n10.00-22.00: Design in the City (Design Zone in Centre of Ljubljana)\n10.00-17.00: Winning Projects Presentations (Academy of Music\, Kongresni trg 1\, Ljubljana)\n13.00-16.00: Design Conference: The Future is Watching You (Academy of Music\, Kongresni trg 1\, Ljubljana)\n17.00-18.00: BIG SEE Design Grand Prix Award Ceremony (Academy of Music\, Kongresni trg 1\, Ljubljana)\n18.00-22.00: Light & Sound Design\, Eat & Drink Design (Design Zone in Centre of Ljubljana) \nOCTOBER 7\, 2023\n10.00-19.00: Design in the City (Design Zone in Centre of Ljubljana) \nMore about the programme: https://bigsee.eu/visit-month-of-design-2023/
URL:https://planforculture.com/event/month-of-design-2023/
LOCATION:Design Zone in Centre of Ljubljana\, Ljubljana\, 1000\, Slovenia
CATEGORIES:ARCHITECTURE,CONCERT,CONFERENCE,EXHIBITION
ATTACH;FMTTYPE=image/jpeg:https://planforculture.com/wp-content/uploads/2023/08/plakat-1536x864px-dragged.jpg
ORGANIZER;CN="Zavod%20Big%20%E2%80%A2%20BIG%20SEE":MAILTO:info@bigsee.eu
END:VEVENT
BEGIN:VEVENT
DTSTART;TZID=Europe/Zagreb:20230928T180000
DTEND;TZID=Europe/Zagreb:20230928T180000
DTSTAMP:20260422T035647
CREATED:20230921T132446Z
LAST-MODIFIED:20230921T132446Z
UID:10000053-1695924000-1695924000@planforculture.com
SUMMARY:Čitateljski klub Knjižnice M. J. Zagorke "Krvavi ispod kože" - rujansko izdanje
DESCRIPTION:Nakon ljetnog odmora\, klub u rujnu ulazi u svoju novu sezonu\, a otvaramo je romanom Stablo u zemlji Toraja francuskog autora Philippea Claudela.
URL:https://planforculture.com/event/citateljski-klub-knjiznice-m-j-zagorke-krvavi-ispod-koze-rujansko-izdanje/
LOCATION:Knjižnica Marije Jurić Zagorke\, Krvavi most 2\, Zagreb\, Croatia (Local Name: Hrvatska)
CATEGORIES:CONFERENCE
ATTACH;FMTTYPE=image/jpeg:https://planforculture.com/wp-content/uploads/2023/09/Krvavi-ispod-koze-2.jpg
ORGANIZER;CN="Knji%C5%BEnica%20Marije%20Juri%C4%87%20Zagorke":MAILTO:knjiznica.m.j.zagorke@kgz.hr
END:VEVENT
BEGIN:VEVENT
DTSTART;TZID=Europe/Zagreb:20230925T183000
DTEND;TZID=Europe/Zagreb:20230925T200000
DTSTAMP:20260422T035647
CREATED:20230921T131855Z
LAST-MODIFIED:20230921T131855Z
UID:10000052-1695666600-1695672000@planforculture.com
SUMMARY:Kreativnost spašava svijet? - Stvaranje iznutra
DESCRIPTION:Koje su sličnosti između književne kritike i književnosti\, tj. po čemu je kritika bliska umjetničkom djelu? Što nas tjera na pisanje i na čitanje i čemu nas je pisanje naučilo? Koja je razlika između pisanja kritika i književnih tekstova? Otkuda ta potreba za pravom umjetnošću\, za sadržajima koji nas stvarno pomiču s mjesta? I što određuje te sadržaje\, po čemu ih prepoznajemo\, zašto ih volimo? Kako se nadopunjuju poezija\, proza\, slikovnice\, slike i ilustracije – zašto posežemo za njima\, što u njima nalazimo? Zašto nam je u obrazovnom sustavu potrebno više umjetničkih sadržaja? Kako u maloj sredini zadržati kriterije? Što čitamo i što preporučujemo za čitanje?\nO ovim i brojnim drugim temama razgovarat će književnica\, teatrologinja\, kritičarka Nataša Govedić i nezavisna kritičarka i teoretičarka Marija Ott Franolić.
URL:https://planforculture.com/event/kreativnost-spasava-svijet-stvaranje-iznutra/
LOCATION:Knjižnica Marije Jurić Zagorke\, Krvavi most 2\, Zagreb\, Croatia (Local Name: Hrvatska)
CATEGORIES:CONFERENCE
ATTACH;FMTTYPE=image/jpeg:https://planforculture.com/wp-content/uploads/2023/09/poz.-PEN_Stvaranje-iznutra_25.9.23.jpg
ORGANIZER;CN="Knji%C5%BEnica%20Marije%20Juri%C4%87%20Zagorke":MAILTO:knjiznica.m.j.zagorke@kgz.hr
END:VEVENT
BEGIN:VEVENT
DTSTART;TZID=Europe/Zagreb:20230921T183000
DTEND;TZID=Europe/Zagreb:20230921T200000
DTSTAMP:20260422T035647
CREATED:20230918T124724Z
LAST-MODIFIED:20230918T125439Z
UID:10000049-1695321000-1695326400@planforculture.com
SUMMARY:Razmjena pisaca s Bugarskom
DESCRIPTION:U sklopu razmjene pisaca s Bugarskom u Zagrebu gostuju bugarske pjesnikinje Poli Mukanova i Lora Dinkova. Moderirat će Ivan Herceg\, a s bugarskoga prevoditi Paula Ćaćić. Program se odvija pod pokroviteljstvom Ministarstva kulture i medija i Grada Zagreba.
URL:https://planforculture.com/event/razmjena-pisaca-s-bugarskom/
LOCATION:Knjižnica Marije Jurić Zagorke\, Krvavi most 2\, Zagreb\, Croatia (Local Name: Hrvatska)
CATEGORIES:CONFERENCE
ATTACH;FMTTYPE=image/jpeg:https://planforculture.com/wp-content/uploads/2023/09/Razmjena-Bugarska-vizual-1.jpg
ORGANIZER;CN="Knji%C5%BEnica%20Marije%20Juri%C4%87%20Zagorke":MAILTO:knjiznica.m.j.zagorke@kgz.hr
END:VEVENT
BEGIN:VEVENT
DTSTART;TZID=Europe/Zagreb:20230918T183000
DTEND;TZID=Europe/Zagreb:20230918T200000
DTSTAMP:20260422T035647
CREATED:20230914T072148Z
LAST-MODIFIED:20230914T072148Z
UID:10000046-1695061800-1695067200@planforculture.com
SUMMARY:Predstavljanje knjige Moja priča o Zagrebu Andreje Tonč
DESCRIPTION:Otkrijte kako je bilo odrastati u centru Zagreba sedamdesetih i osamdesetih godina te kako je to okruženje ostavilo cjeloživotni dojam na autoricu Andreju Tonč. Promocija je zamišljena kao druženje na kojem sudionici dijele svoje priče i sjećanja vezana uz Zagreb. Uz autoricu\, na promociji će govoriti urednica knjige Đurđica Vitković.
URL:https://planforculture.com/event/predstavljanje-knjige-moja-prica-o-zagrebu-andreje-tonc/
LOCATION:Knjižnica Marije Jurić Zagorke\, Krvavi most 2\, Zagreb\, Croatia (Local Name: Hrvatska)
CATEGORIES:CONFERENCE
ATTACH;FMTTYPE=image/jpeg:https://planforculture.com/wp-content/uploads/2023/09/377558655_768182095318121_8248707834185561222_n.jpg
ORGANIZER;CN="Knji%C5%BEnica%20Marije%20Juri%C4%87%20Zagorke":MAILTO:knjiznica.m.j.zagorke@kgz.hr
END:VEVENT
BEGIN:VEVENT
DTSTART;TZID=Europe/Zagreb:20230913T183000
DTEND;TZID=Europe/Zagreb:20230913T200000
DTSTAMP:20260422T035647
CREATED:20230911T085050Z
LAST-MODIFIED:20230911T090758Z
UID:10000042-1694629800-1694635200@planforculture.com
SUMMARY:Knjižnica Marije Jurić Zagorke: Okultni duh moderne. Arhitekt Alois Vjekoslav Bastl alias astrolog Uranus i njegovo doba
DESCRIPTION:Zagrebački arhitekt Vjekoslav Alois Bastol\, osim po svom umjetničkom stvaralaštvu\, poznat je i po svom interesu za okultno. Autor se u djelu bavi slojevitošću Bastlove osobnosti\, stavljajući naglasak na ezoterične aspekte njegova života i djela. \nPridružite nam se u Knjižnici na predstavljanju knjige Okultni duh moderne\, u izdanju Srednje Europe. Uz autora Omera Raka\, u razgovoru sudjeluju Dora Kosorčić i Domagoj Ćorić.
URL:https://planforculture.com/event/okultni-duh-moderne-arhitekt-alois-vjekoslav-bastl-alias-astrolog-uranus-i-njegovo-doba/
LOCATION:Knjižnica Marije Jurić Zagorke\, Krvavi most 2\, Zagreb\, Croatia (Local Name: Hrvatska)
CATEGORIES:CONFERENCE
ATTACH;FMTTYPE=image/jpeg:https://planforculture.com/wp-content/uploads/2023/09/Dani-europske-bastine-Edited-2.jpg
ORGANIZER;CN="Knji%C5%BEnica%20Marije%20Juri%C4%87%20Zagorke":MAILTO:knjiznica.m.j.zagorke@kgz.hr
END:VEVENT
END:VCALENDAR