BEGIN:VCALENDAR
VERSION:2.0
PRODID:-//PLAN FOR CULTURE - ECPv6.0.6//NONSGML v1.0//EN
CALSCALE:GREGORIAN
METHOD:PUBLISH
X-WR-CALNAME:PLAN FOR CULTURE
X-ORIGINAL-URL:https://planforculture.com
X-WR-CALDESC:Events for PLAN FOR CULTURE
REFRESH-INTERVAL;VALUE=DURATION:PT1H
X-Robots-Tag:noindex
X-PUBLISHED-TTL:PT1H
BEGIN:VTIMEZONE
TZID:Europe/Zagreb
BEGIN:DAYLIGHT
TZOFFSETFROM:+0100
TZOFFSETTO:+0200
TZNAME:CEST
DTSTART:20240331T010000
END:DAYLIGHT
BEGIN:STANDARD
TZOFFSETFROM:+0200
TZOFFSETTO:+0100
TZNAME:CET
DTSTART:20241027T010000
END:STANDARD
END:VTIMEZONE
BEGIN:VEVENT
DTSTART;TZID=Europe/Zagreb:20241121T080000
DTEND;TZID=Europe/Zagreb:20241121T170000
DTSTAMP:20260422T235106
CREATED:20241121T092131Z
LAST-MODIFIED:20241121T092131Z
UID:10002749-1732176000-1732208400@planforculture.com
SUMMARY:Beata Bagi: Domino br. 1
DESCRIPTION:Pridružite nam se na predstavljanju knjige „Domino br. 1“ spisateljice Beate Bagi koje će moderirati Rosie Kugli\, urednica i izdavač\, uz gošću prof. dr. sc. Zlatu Đurđević. \nOvo je treći roman autorice Beate Bagi u ciklusu kriminalističkih romana u kojima se njena junakinja Ela Klarić nalazi u ulozi detektiva amatera. Ovoga puta su Ela i njezin prijatelj Aidan u utrci s vremenom kako bi razotkrili i zaustavili međunarodni teroristički plan u Elinom rodnom gradu\, Zagrebu. Istovremeno Ela se suočava s još jednim velikim i složenim problemom našeg društva\, problemom nasilja nad ženama.
URL:https://planforculture.com/event/beata-bagi-domino-br-1/
LOCATION:Knjižnica Marije Jurić Zagorke\, Krvavi most 2\, Zagreb\, Croatia (Local Name: Hrvatska)
CATEGORIES:LITERATURE
ORGANIZER;CN="Knji%C5%BEnica%20Marije%20Juri%C4%87%20Zagorke":MAILTO:knjiznica.m.j.zagorke@kgz.hr
END:VEVENT
END:VCALENDAR