BEGIN:VCALENDAR
VERSION:2.0
PRODID:-//PLAN FOR CULTURE - ECPv6.0.6//NONSGML v1.0//EN
CALSCALE:GREGORIAN
METHOD:PUBLISH
X-ORIGINAL-URL:https://planforculture.com
X-WR-CALDESC:Events for PLAN FOR CULTURE
REFRESH-INTERVAL;VALUE=DURATION:PT1H
X-Robots-Tag:noindex
X-PUBLISHED-TTL:PT1H
BEGIN:VTIMEZONE
TZID:Europe/Zagreb
BEGIN:DAYLIGHT
TZOFFSETFROM:+0100
TZOFFSETTO:+0200
TZNAME:CEST
DTSTART:20260329T010000
END:DAYLIGHT
BEGIN:STANDARD
TZOFFSETFROM:+0200
TZOFFSETTO:+0100
TZNAME:CET
DTSTART:20261025T010000
END:STANDARD
END:VTIMEZONE
BEGIN:VEVENT
DTSTART;TZID=Europe/Zagreb:20260212T200000
DTEND;TZID=Europe/Zagreb:20260212T213000
DTSTAMP:20260424T091624
CREATED:20260203T152649Z
LAST-MODIFIED:20260203T152757Z
UID:10003385-1770926400-1770931800@planforculture.com
SUMMARY:Stanislav Habjan i prijatelji glazbenici\, Kafka i sin
DESCRIPTION:12.2.2026. u 20 sati pozivamo u dvoranu Centra za kulturu Trešnjevka na izvedbu/performans Stanislava Habjana i prijatelja\, Kafka i sin\, čime započinjemo ovogodišnji projekt Dispozicija/Arhitektura i kazalište.  \n Kafka i sin je hibridna predstava koja se istodobno kreće između performansa\, koncerta\, recitala i osobne ispovijedi. Kroz crtanje\, filmski jezik\, glazbu i dramsku igru uživo\, Stanislav Habjan istražuje motive očinstva\, nasljeđivanja i umjetničkih utjecaja\, polazeći od Kafkina „stanja siročeta“\, koje se u izvedbi pretvara u čin trajnog posvajanja. \nPredstava je dosad izvedena tek pet puta\, a 2025. godine pozvana je na 30. Međunarodni festival malih scena u Rijeci\, gdje je izazvala snažne i emotivne reakcije publike te bila opisana kao „neočekivano oslobađajuće iskustvo“. \nKritika ističe Habjanovu otvorenost prema umjetničkom nasljeđu i hrabrost da ga reinterpretira kroz osobni\, izvedbeni čin\, pri čemu se autorstvo promišlja kao zajednički prostor stvaranja. Kafka i sin tako ne govori samo o Kafki\, nego i o suvremenom umjetniku\, njegovim pru Trešnjevka\, u dovorani\, recima\, saveznicima i publici.
URL:https://planforculture.com/event/stanislav-habjan-i-prijatelji-glazbenici-kafka-i-sin/
LOCATION:Centar za kulturu Trešnjevka\, Park Stara Trešnjevka 1\, Zagreb\, Grad Zagreb\, 10000
CATEGORIES:LITERATURE,PERFORMANCE,THEATER
ATTACH;FMTTYPE=image/png:https://planforculture.com/wp-content/uploads/2026/02/K5-fb.png
ORGANIZER;CN="galerija%20Modulor":MAILTO:modulor@cekate.hr
END:VEVENT
END:VCALENDAR