BEGIN:VCALENDAR
VERSION:2.0
PRODID:-//PLAN FOR CULTURE - ECPv6.0.6//NONSGML v1.0//EN
CALSCALE:GREGORIAN
METHOD:PUBLISH
X-WR-CALNAME:PLAN FOR CULTURE
X-ORIGINAL-URL:https://planforculture.com
X-WR-CALDESC:Events for PLAN FOR CULTURE
REFRESH-INTERVAL;VALUE=DURATION:PT1H
X-Robots-Tag:noindex
X-PUBLISHED-TTL:PT1H
BEGIN:VTIMEZONE
TZID:Europe/Zagreb
BEGIN:DAYLIGHT
TZOFFSETFROM:+0100
TZOFFSETTO:+0200
TZNAME:CEST
DTSTART:20240331T010000
END:DAYLIGHT
BEGIN:STANDARD
TZOFFSETFROM:+0200
TZOFFSETTO:+0100
TZNAME:CET
DTSTART:20241027T010000
END:STANDARD
END:VTIMEZONE
BEGIN:VEVENT
DTSTART;TZID=Europe/Zagreb:20241112T100000
DTEND;TZID=Europe/Zagreb:20241117T180000
DTSTAMP:20260422T235317
CREATED:20240614T075706Z
LAST-MODIFIED:20240614T090254Z
UID:10002287-1731405600-1731866400@planforculture.com
SUMMARY:INTERLIBER
DESCRIPTION:INTERLIBER\, međunarodni sajam knjiga od 12. do 17. studenog 2024. \nOčekuje vas: \n\nPredstavljanja novih naslova\nDolazak hrvatskih i inozemnih knjiških zvijezda\nRazgovori s autorima uz potpisivanje knjiga\nSajamski popusti\nSusreti nakladnika\, knjižara i knjižničara\nKnjiževne radionice\, okrugli stolovi\, predavanja\n\nINTERLIBER je platforma za promociju knjiga\, pisaca\, čitanja\, znanosti i znanja koja na jednom mjestu okuplja najznačajnije nakladnike i knjižare. \nOsim što je savršeno mjesto za promociju u književnoj branši\, ovaj sajam izaziva ogroman interes javnosti i medija te na najbolji mogući način ističe važnost knjige i čitanja. \nSvojom bogatom ponudom i važnom ulogom u promicanju književnosti i spajanju književne zajednice Interliber predstavlja neizostavni kulturni događaj ne samo grada Zagreba nego i cijele Hrvatske. \nUlaz je besplatan za sve posjetitelje.
URL:https://planforculture.com/event/interliber-2/
LOCATION:Zagreb fair\, AVENIJA DUBROVNIK 15\, ZAGREB\, 10020\, Croatia (Local Name: Hrvatska)
CATEGORIES:EXHIBITION,LITERATURE
ATTACH;FMTTYPE=image/png:https://planforculture.com/wp-content/uploads/2024/06/INT24.png
ORGANIZER;CN="Zagreb%20Fair":MAILTO:zv@zv.hr
END:VEVENT
END:VCALENDAR