BEGIN:VCALENDAR
VERSION:2.0
PRODID:-//PLAN FOR CULTURE - ECPv6.0.6//NONSGML v1.0//EN
CALSCALE:GREGORIAN
METHOD:PUBLISH
X-WR-CALNAME:PLAN FOR CULTURE
X-ORIGINAL-URL:https://planforculture.com
X-WR-CALDESC:Events for PLAN FOR CULTURE
REFRESH-INTERVAL;VALUE=DURATION:PT1H
X-Robots-Tag:noindex
X-PUBLISHED-TTL:PT1H
BEGIN:VTIMEZONE
TZID:Europe/Zagreb
BEGIN:DAYLIGHT
TZOFFSETFROM:+0100
TZOFFSETTO:+0200
TZNAME:CEST
DTSTART:20250330T010000
END:DAYLIGHT
BEGIN:STANDARD
TZOFFSETFROM:+0200
TZOFFSETTO:+0100
TZNAME:CET
DTSTART:20251026T010000
END:STANDARD
END:VTIMEZONE
BEGIN:VEVENT
DTSTART;TZID=Europe/Zagreb:20250519T190000
DTEND;TZID=Europe/Zagreb:20250522T233000
DTSTAMP:20260420T144941
CREATED:20250509T105435Z
LAST-MODIFIED:20250509T105435Z
UID:10003073-1747681200-1747956600@planforculture.com
SUMMARY:Gibanja 2025 - eksperimentalno zvučno događanje
DESCRIPTION:Eksperimentalno zvučno događanje Gibanja \nKONTEJNER (Odranska 1/1\, Zagreb) i Pogon Jedinstvo (Trnjanska struga 34\, Zagreb) \n19. – 22. svibnja 2025. \nPeto izdanje Gibanja\, eksperimentalnog zvučnog događanja\, usidrilo se u prošlogodišnjem proljetnom terminu i na KONTEJNER-ovoj adresi\, u Odranskoj 1/1. S iznimkom samog otvorenja\, svjetlosno-zvučnog performansa Martina Messiera koji će se održati u velikoj dvorani Pogona Jedinstvo\, program Gibanja održava se u KONTEJNER-u\, od 19. do 22. svibnja. \nPred nama je niz uzbudljivih koncerata za ponešto drugačija iskustva slušanja\, ove godine s posebnim naglaskom na gibanja na hrvatskoj glazbenoj sceni. Upravo domaći glazbenici pripremaju nekoliko praizvedbi: Hrvoje Pelicarić praizvest će elektroničku prostorno-zvučnu kompoziciju\, Andro Giunio priprema novi performans istražujući odnose flaute i ljudskog glasa\, afro-balkanski eksperimentalni bend Truth ≠ Tribe upravo u studiju završava nove materijale\, dok će Toni Meštrović predstaviti novi rad baziran na Odzvuku od zvuka s prvih Gibanja\, istovremeno donoseći u KONTEJNER zvuk amfiteatra splitskog MKC-a. Novo ime zvukovne scene\, mlada Marija Mratinić izvest će zvučni performans nastao 2023. kao njen diplomski rad na Umjetničkoj akademiji u Splitu\, dok etablirano ime eksperimentalne glazbene scene Ivona Eterović aka tonota priprema improvizacijski set koji će gitarom i elektronikom prenijeti njeno poimanje clubbinga atipične ritmike i plesnog groovea kojim će zatvoriti Gibanja. \nInozemni gosti donose zagrebačkoj publici recentna djela koja su netom predstavili na različitim svjetskim glazbenim festivalima: nakon montrealskog MUTEK-a\, nizozemskog Rewire festivala\, španjolskog L.E.V. festivala i drugih\, ovogodišnja Gibanja u Pogon Jedinstvo dovode recentni rad kanadskog umjetnika Martina Messiera 1 kap 1000 godina. S europskih pozornica i festivala na Gibanja dolaze i Aho Ssan i KMRU\, sada već nezaobilazna imena eksperimentalne glazbene scene\, čiji je moćan i intenzivan nastup na prošlogodišnjem pariškom PRÉSENCES Électroniqueu zapamćen kao jedan od posebnijih. Na Gibanja dolazi i jedinstvena vokalistica Ute Wassermann\, netom nakon izvanrednog nastupa na berlinskom MaerzMusiku\, a koja će osim solističkog koncerta na Gibanjima voditi i trodnevnu vokalističku radionicu za lokalne glazbenike. Armand Lesecq donosi film za zatvorene oči i prostorni zvuk\, razvijen na studiju ArtScience Interfaculty u Haagu\, dok Sergej Vutuc priprema audiovizualni performans na 16mm projektorima. Maja Osojnik i Ursula Winterauer vraćaju se na Gibanja s novim projektom\, The Answer Is No\, u kojem obje uzimaju isti instrumentarij – glas\, električni bas i elektroniku\, proširujući i dekonstruirajući zvukovne mogućnosti svojih instrumenata. \nNadamo se da će i ovogodišnja Gibanja potaknuti različite načine slušanja\, donijeti neka nova auditivna iskustva i proširiti našu percepciju glazbe te postati mjesto druženja i razmjene – mjesto zajedničkog trenutka posvećenog zvuku. \nPretprodaja ulaznica na Entrio.hr poveznici. \nDetaljni festivalski program nalazi se na ovoj poveznici. \n  \nOrganizator: KONTEJNER | biro suvremene umjetničke prakse\nProgram i produkcija: Davorka Begović\nKustoska podrška: Tereza Teklić\nTehnička realizacija: Miodrag Gladović\, Jakov Habjan\, Filip Pacak\, Andrija Santro\nAsistentica u organizaciji: Nikolina Kovačević\nMarketing i sponzorstva: Jadrana Ćurković\nOdnosi s javnošću i društvene mreže: Inesa Antić\nVizualni identitet: kuna zlatica\nFotografi: Sanja Bistričić Srića\, Luka Pešun\nVideo produkcija: Režija\, montaža\, kamera – Dragan Đokić (Studio Baranda); Novinarka i urednica – Melanija Pović Jagarinec; Kamera – Marjan Živić\nHvala: Igor Dražić\, Dean Udatny \nDio programa Gibanja realiziran je u sklopu projekta New Perspectives for Action\, u okviru Re-Imagine Europe koji sufinancira Europska unija. \n 
URL:https://planforculture.com/event/gibanja-2025-eksperimentalno-zvucno-dogadanje/
LOCATION:KONTEJNER\, Odranska 1/1\, Zagreb\, 10000\, Croatia (Local Name: Hrvatska)
CATEGORIES:OTHER
ATTACH;FMTTYPE=image/png:https://planforculture.com/wp-content/uploads/2025/05/kontejner_gibanja-2025_web-1.png
ORGANIZER;CN="KONTEJNER":MAILTO:kontejner@kontejner.org
END:VEVENT
BEGIN:VEVENT
DTSTART;TZID=Europe/Zagreb:20250521T120000
DTEND;TZID=Europe/Zagreb:20250521T133000
DTSTAMP:20260420T144941
CREATED:20250512T144806Z
LAST-MODIFIED:20250512T144806Z
UID:10003076-1747828800-1747834200@planforculture.com
SUMMARY:Predstavljanje knjige / Ervin Dubrović: Slikarstvo u Rijeci 1891.– 1941.
DESCRIPTION:Knjiga Ervina Dubrovića dugo je očekivani\, adekvatni i relevantni stručni i znanstveni doprinos jednoj temi na kojoj je autor radio skoro četrdeset godina. Iako je bilo i drugih riječkih povjesničara umjetnosti koji su se bavili razdobljem između dvaju svjetskih ratova i prije (naročito Daina Glavočić)\, Dubrovićev pristup problemu razlikuje se od ostalih naglašenom interdisciplinarnošću što možemo zahvaliti vrlo različitim autorovim stručnim interesima koji su ga odvodili prema socijalnim\, opće kulturnim\, ideološkim\, političkim\, gospodarstvenim i inim\, ne samo umjetničkim temama. Bipolarnost i kozmopolitska multipolarnost nalaze se u temeljima riječke situacije; tri razine vlasti do kraja Prvoga svjetskog rata (austrougarska središnja vlast\, mađarski corpus separatum\, autonomna gradska uprava)\, podijeljeni grad između dvaju ratova (Fiume – Sušak)\, multilingvizam (talijanski\, hrvatski\, mađarski\, njemački)\, multikulturalizam temeljen na jezičnom idiomu i posljedično etničkom itd. Bipolarnost se očituje i u Dubrovićevoj podjeli u knjizi na čisto slikarstvo i fotografiju\, gdje fotografiju tretira kao ”slikanje svjetlom.” Dva pola nastaju i uključivanjem Opatije i Kvarnera (Rivijere) u pregled umjetničke situacije Rijeke jer je riječ o jedinstvenom prostoru koji već poodavno funkcionira kao međuovisna ekstenzija. \nSudjeluju:\nautor knjige Ervin Dubrović\nDaina Glavočić\, povjesničarka umjetnosti\nDino Milinović\, predsjednik Društva povjesničara umjetnosti Hrvatske\nBerislav Valušek\, urednik knjige i predsjednik Društva povjesničara umjetnosti Rijeke\nPetra Vugrinec\, povjesničarka umjetnosti
URL:https://planforculture.com/event/predstavljanje-knjige-ervin-dubrovic-slikarstvo-u-rijeci-1891-1941/
LOCATION:Matica hrvatska\, Strossmayerov trg 4\, Zagreb\, 10000\, Croatia (Local Name: Hrvatska)
CATEGORIES:OTHER
ATTACH;FMTTYPE=image/jpeg:https://planforculture.com/wp-content/uploads/2025/05/Dubrovic-naslovnica.jpg
ORGANIZER;CN="Dru%C5%A1tvo%20povjesni%C4%8Dara%20umjetnosti%20Hrvatske":MAILTO:dpuh@inet.hr
END:VEVENT
END:VCALENDAR