BEGIN:VCALENDAR
VERSION:2.0
PRODID:-//PLAN FOR CULTURE - ECPv6.0.6//NONSGML v1.0//EN
CALSCALE:GREGORIAN
METHOD:PUBLISH
X-ORIGINAL-URL:https://planforculture.com
X-WR-CALDESC:Events for PLAN FOR CULTURE
REFRESH-INTERVAL;VALUE=DURATION:PT1H
X-Robots-Tag:noindex
X-PUBLISHED-TTL:PT1H
BEGIN:VTIMEZONE
TZID:Europe/Zagreb
BEGIN:DAYLIGHT
TZOFFSETFROM:+0100
TZOFFSETTO:+0200
TZNAME:CEST
DTSTART:20250330T010000
END:DAYLIGHT
BEGIN:STANDARD
TZOFFSETFROM:+0200
TZOFFSETTO:+0100
TZNAME:CET
DTSTART:20251026T010000
END:STANDARD
END:VTIMEZONE
BEGIN:VEVENT
DTSTART;TZID=Europe/Zagreb:20250905T170000
DTEND;TZID=Europe/Zagreb:20250906T033000
DTSTAMP:20260422T234007
CREATED:20250903T121601Z
LAST-MODIFIED:20250903T121743Z
UID:10003183-1757091600-1757129400@planforculture.com
SUMMARY:Kulturpunktov rođendanski tulum
DESCRIPTION:Kulturpunkt\, jedini hrvatski medij u potpunosti posvećen kritičkoj refleksiji o suvremenoj kulturi\, umjetnosti i društvu\, slavi 20. rođendan. U petak\, 5. rujna Kulturpunkt preuzima Pogon Jedinstvo i Močvaru gdje vas očekuju šlageri s Ivanom i Matijom\, Kulturpunktov štand s izdanjima i merchom\, turbo-tribina o revolucionarnom potencijalu partijanja s Lanom Pukanić\, izvrgavanje Kulturpunkta javnom ruglu u roastu s Tihanom Bertek\, Karlom Kostadinovski\, Lukom Ostojićem i Igorom Ružićem\, neumorni synth-wave Neon Lies i tinejdžerski riot grrrl Željezne pilule. \nBit će tu i specijalni gosti Damir Bartol Indoš i Tanja Vrvilo s Kućom ekstremnom muzičkog kazališta koji će se tijekom cijelog dana uključivati u program\, a nakon dana provedenog na otvorenom\, selimo se u Močvaru i plešemo uz eksperimentalne beatove i vizuale tonote\, Babilonske i Heartskomerz. Više na linku.
URL:https://planforculture.com/event/kulturpunktov-rodendanski-tulum/
LOCATION:Pogon Jedinstvo\, Trnjanska struga 34\, Zagreb\, 10 000\, Croatia (Local Name: Hrvatska)
CATEGORIES:OTHER
ATTACH;FMTTYPE=image/jpeg:https://planforculture.com/wp-content/uploads/2025/09/vizual-20-KP-godina_Vanesa-Matosevic.jpg
END:VEVENT
END:VCALENDAR