BEGIN:VCALENDAR
VERSION:2.0
PRODID:-//PLAN FOR CULTURE - ECPv6.0.6//NONSGML v1.0//EN
CALSCALE:GREGORIAN
METHOD:PUBLISH
X-WR-CALNAME:PLAN FOR CULTURE
X-ORIGINAL-URL:https://planforculture.com
X-WR-CALDESC:Events for PLAN FOR CULTURE
REFRESH-INTERVAL;VALUE=DURATION:PT1H
X-Robots-Tag:noindex
X-PUBLISHED-TTL:PT1H
BEGIN:VTIMEZONE
TZID:Europe/Zagreb
BEGIN:DAYLIGHT
TZOFFSETFROM:+0100
TZOFFSETTO:+0200
TZNAME:CEST
DTSTART:20240331T010000
END:DAYLIGHT
BEGIN:STANDARD
TZOFFSETFROM:+0200
TZOFFSETTO:+0100
TZNAME:CET
DTSTART:20241027T010000
END:STANDARD
END:VTIMEZONE
BEGIN:VEVENT
DTSTART;TZID=Europe/Zagreb:20241017T100000
DTEND;TZID=Europe/Zagreb:20241020T180000
DTSTAMP:20260423T080348
CREATED:20240614T075344Z
LAST-MODIFIED:20240703T073622Z
UID:10002286-1729159200-1729447200@planforculture.com
SUMMARY:Ambienta
DESCRIPTION:Ambienta – najznačajniji nacionalni sajam namještaja\, unutarnjeg uređenja i prateće industrije i ove godine na Zagrebačkom velesajmu. \nUz brojna koncepcijska osvježenja\, okuplja eminentne izlagače iz zemlje i inozemstva. \nZa vrijeme Ambiente\, jednog od najvećih sajamskih brendova\, paviljoni će se pretvoriti u mjesta istinske inspiracije za stvaranje doma s vlastitim dizajnerskim potpisom\, za otkrivanje trendova i inovativnih rješenja. \nNajveći novitet  ovogodišnje Ambiente je izlazak  izvan okvira Velesajma. U suradnji s muzejima partnerima\, u njihovim foajeima\, otvaraju se dodatni showroom-ovi izlagača koji izlažu na Ambienti. \nUz Design box i Design zone\, najavljuje se po prvi put postavljanje Izložbe velikih formata na kojoj će se predstaviti 100 hrvatskih slikara 21. stoljeća. \nTrademark sajma Ambienta je izuzetno zanimljiv i sadržajni popratni program. Posjetitelje će zasigurno razveseliti atraktivni proizvodi naših izlagača – sponzora Nagradne igre Ambienta 2024. \n  \n 
URL:https://planforculture.com/event/ambienta-2/
LOCATION:Zagreb fair\, AVENIJA DUBROVNIK 15\, ZAGREB\, 10020\, Croatia (Local Name: Hrvatska)
CATEGORIES:OTHER
ATTACH;FMTTYPE=image/png:https://planforculture.com/wp-content/uploads/2024/06/Ambienta-vizual-2024.png
ORGANIZER;CN="Zagreb%20Fair":MAILTO:zv@zv.hr
END:VEVENT
END:VCALENDAR