BEGIN:VCALENDAR
VERSION:2.0
PRODID:-//PLAN FOR CULTURE - ECPv6.0.6//NONSGML v1.0//EN
CALSCALE:GREGORIAN
METHOD:PUBLISH
X-WR-CALNAME:PLAN FOR CULTURE
X-ORIGINAL-URL:https://planforculture.com
X-WR-CALDESC:Events for PLAN FOR CULTURE
REFRESH-INTERVAL;VALUE=DURATION:PT1H
X-Robots-Tag:noindex
X-PUBLISHED-TTL:PT1H
BEGIN:VTIMEZONE
TZID:Europe/Zagreb
BEGIN:DAYLIGHT
TZOFFSETFROM:+0100
TZOFFSETTO:+0200
TZNAME:CEST
DTSTART:20250330T010000
END:DAYLIGHT
BEGIN:STANDARD
TZOFFSETFROM:+0200
TZOFFSETTO:+0100
TZNAME:CET
DTSTART:20251026T010000
END:STANDARD
END:VTIMEZONE
BEGIN:VEVENT
DTSTART;TZID=Europe/Zagreb:20250615T100000
DTEND;TZID=Europe/Zagreb:20250615T233000
DTSTAMP:20260423T024013
CREATED:20250603T082350Z
LAST-MODIFIED:20250603T082350Z
UID:10003097-1749981600-1750030200@planforculture.com
SUMMARY:Jedinstvena vrtna zabava Vol. 9
DESCRIPTION:Jedinstvena vrtna zabava vraća se u Jedinstveno dvorište uz cjelodnevni program radionica\, koncerata\, kviza\, filma i Silent tuluma! \n\nDeveto izdanje Jedinstvene vrtne zabave održava se u nedjelju\, 15. lipnja 2025. tijekom cijelog dana. \nU jutarnjim satima očekuju vas vrtlarska radionica i obiteljska cirkuska radionica\, a poslijepodne je rezervirano za nastup mladih demo bendova Strano tijelo i Šteker\, u sklopu Močvarinog programa “Podrži scenu!”. S Tamarom Curić prepuštamo se zabavnim plesnim vježbama. Nakon glazbe i pokreta slijedi tradicionalna Kviz-o-rama uz nimalo tradicionalni voditeljski duo Lanu Pukanić i Vatroslava Miloša – pripremite živce! Večer počinje projekcijom filma “O jednoj mladosti” redatelja Ivana Ramljaka\, a program zaključujemo Jedinstvenim Silent party battleom na tri kanala. Očekujte različite muzičke žanrove iz različitih dekada i kontinenata. Borba Jedinstvenih stanovnika: Pogon Vs. Močvara Vs. Cirkorama. \nSve je besplatno\, a prijave na pojedina događanja potražite na linku. \nVidimo se u Jedinstvenom dvorištu!
URL:https://planforculture.com/event/jedinstvena-vrtna-zabava-vol-9/
LOCATION:Pogon Jedinstvo\, Trnjanska struga 34\, Zagreb\, 10 000\, Croatia (Local Name: Hrvatska)
CATEGORIES:CONCERT,OTHER,WORKSHOP
ATTACH;FMTTYPE=image/jpeg:https://planforculture.com/wp-content/uploads/2025/06/Jedinstvena-vrtna-zabava-2025-b_vizual-Igor-Mihovilovic-scaled.jpg
ORGANIZER;CN="Pogon%20-%20Zagreba%C4%8Dki%20centar%20za%20nezavisnu%20kulturu%20i%20mlade":MAILTO:pr@pogon.hr
END:VEVENT
END:VCALENDAR