BEGIN:VCALENDAR
VERSION:2.0
PRODID:-//PLAN FOR CULTURE - ECPv6.0.6//NONSGML v1.0//EN
CALSCALE:GREGORIAN
METHOD:PUBLISH
X-WR-CALNAME:PLAN FOR CULTURE
X-ORIGINAL-URL:https://planforculture.com
X-WR-CALDESC:Events for PLAN FOR CULTURE
REFRESH-INTERVAL;VALUE=DURATION:PT1H
X-Robots-Tag:noindex
X-PUBLISHED-TTL:PT1H
BEGIN:VTIMEZONE
TZID:Europe/Zagreb
BEGIN:DAYLIGHT
TZOFFSETFROM:+0100
TZOFFSETTO:+0200
TZNAME:CEST
DTSTART:20250330T010000
END:DAYLIGHT
BEGIN:STANDARD
TZOFFSETFROM:+0200
TZOFFSETTO:+0100
TZNAME:CET
DTSTART:20251026T010000
END:STANDARD
END:VTIMEZONE
BEGIN:VEVENT
DTSTART;TZID=Europe/Zagreb:20250616T160000
DTEND;TZID=Europe/Zagreb:20250616T190000
DTSTAMP:20260423T025229
CREATED:20250616T090426Z
LAST-MODIFIED:20250616T090426Z
UID:10003108-1750089600-1750100400@planforculture.com
SUMMARY:Prigodna prodaja knjiga za obnovu prostora DPUH-a
DESCRIPTION:Društvo povjesničara umjetnosti Hrvatske privremeno otvara svoj ured u Preradovićevoj 44 kako bi organiziralo prigodnu prodaju knjiga. Sredstva prikupljena prodajom namijenjena su opsežnim unutarnjim radovima potrebnim za ponovno osposobljavanje prostora.\n\n\nTermini prodaje:\n\n\nponedjeljak i utorak – 16. i 17. lipnja 2025. — 16:00 do 19:00\n\n\nsrijeda 18. lipnja 2025. — 11:00 do 14:00\n\n\nNakon završetka konstrukcijske obnove zgrade\, slijede radovi na sanaciji plinskog grijanja\, stolariji\, podovima\, zidovima i unutarnjem uređenju.\n\n\nNa prodaji će biti dostupna izdanja DPUH-a i viškovi iz razmjene. \n\n\nCilj nam je da prostor ponovno postane funkcionalan do kraja godine i da ostane otvoren\, aktivan i dostupan stručnoj i široj javnosti.\n\n\nKupnjom knjige podržavate naš rad i omogućujete da Društvo nastavi s djelovanjem!
URL:https://planforculture.com/event/prigodna-prodaja-knjiga-za-obnovu-prostora-dpuh-a/
LOCATION:Društvo povjesničara umjetnosti Hrvatske\, Preradovićeva 44\, Zagreb\, 10000\, Croatia (Local Name: Hrvatska)
CATEGORIES:OTHER
ATTACH;FMTTYPE=image/png:https://planforculture.com/wp-content/uploads/2025/06/PRIGODNA-PRODAJA-lipanj-2025.png
ORGANIZER;CN="Dru%C5%A1tvo%20povjesni%C4%8Dara%20umjetnosti%20Hrvatske":MAILTO:dpuh@inet.hr
END:VEVENT
END:VCALENDAR