BEGIN:VCALENDAR
VERSION:2.0
PRODID:-//PLAN FOR CULTURE - ECPv6.0.6//NONSGML v1.0//EN
CALSCALE:GREGORIAN
METHOD:PUBLISH
X-WR-CALNAME:PLAN FOR CULTURE
X-ORIGINAL-URL:https://planforculture.com
X-WR-CALDESC:Events for PLAN FOR CULTURE
REFRESH-INTERVAL;VALUE=DURATION:PT1H
X-Robots-Tag:noindex
X-PUBLISHED-TTL:PT1H
BEGIN:VTIMEZONE
TZID:Europe/Zagreb
BEGIN:DAYLIGHT
TZOFFSETFROM:+0100
TZOFFSETTO:+0200
TZNAME:CEST
DTSTART:20250330T010000
END:DAYLIGHT
BEGIN:STANDARD
TZOFFSETFROM:+0200
TZOFFSETTO:+0100
TZNAME:CET
DTSTART:20251026T010000
END:STANDARD
END:VTIMEZONE
BEGIN:VEVENT
DTSTART;TZID=Europe/Zagreb:20250625T120000
DTEND;TZID=Europe/Zagreb:20250625T133000
DTSTAMP:20260423T011256
CREATED:20250606T140744Z
LAST-MODIFIED:20250606T140744Z
UID:10003105-1750852800-1750858200@planforculture.com
SUMMARY:Svečana dodjela Nagrade Društva povjesničara umjetnosti Hrvatske za 2024. godinu
DESCRIPTION:Kao krovna udruga čitave struke Društvo povjesničara umjetnosti Hrvatske već gotovo dva puna desetljeća iskazuje posebno priznanje osobito zaslužnim članovima dodjeljivanjem godišnje nagrade. Osim nagrade za životno djelo koje nosi ime profesora Radovana Ivančevića\, istaknutog povjesničara umjetnosti i dugogodišnjeg predsjednika Društva\, dodjeljuje se niz nagrada u više kategorija kojima se pokušavaju obuhvatiti različita područja djelovanja hrvatskih povjesničara umjetnosti u protekloj kalendarskoj godini. Pritom treba reći da se dodjela nagrade oslanja na nominacije koje dolaze od same struke\, iz njezinih ustanova i od pojedinaca\, članova našega Društva. Premda po broju aktivnosti i intenzitetu javnog kulturnog djelovanja struka u 2024. ne pokazuje nikakvo zaostajanje za prethodnim godinama\, neke su kategorije u dodjeli nagrade imale premali broj nominacija\, ili nominacije nisu bile dovoljno uvjerljive. Povjerenstvo je stoga Upravnom odboru predložilo da se nagrade ne dodijele u kategorijama Popularizacija struke i Zaštita kulturne baštine. To je šteta\, jer su na oba ta područja djelovanja povjesničara umjetnosti u 2024. godini ostvareni značajni rezultati. Na žalost oni nisu pretočeni u adekvatne nominacije za dodjelu nagrade. Nadamo se da će se taj raskorak ispraviti već naredne godine\, u kojoj nagrada obilježava okruglu obljetnicu. \nIpak\, kad je riječ o kategoriji nagrade za životno djelo\, treba istaknuti da su nominacije bile vrlo kvalitetne. Povjerenstvo je imalo težak zadatak da između nekoliko izvrsnih prijedloga izabere onaj koji je\, moglo bi se reći\, prvi među jednakima. Ta se nagrada dodjeljuje našem zaslužnom kolegi\, likovnom kritičaru\, muzealcu\, autoru brojnih izložbenih projekata i studijskih izdanja\, Vladimiru Crnkoviću\, povjesničaru umjetnosti koji je čitavu svoju stručnu karijeru posvetio istraživanju\, interpretaciji i promociji naivne ili samouke umjetnosti u Hrvatskoj. Njegov doprinos poznavanju i razumijevanju te originalne i autohtone umjetničke struje ostat će trajno ugrađen u povijest hrvatske umjetnosti 20. stoljeća. \nGodišnja nagrada za knjigu dodjeljuje se kolegi Matku Marušiću za monografiju Drvena skulptura otočja Cresa i Lošinja do 1550. godine: pojavnost i vrijednost u izdanju Instituta za povijest umjetnosti iz Zagreba. Riječ o prvoj sustavnoj obradi skulpture kasnoga srednjega i ranoga novoga vijeka na području nekadašnje Osorske biskupije\, provedenoj na uzoran metodološki način\, s odgovarajućom komparativnom dimenzijom i adekvatnim obuhvatom duhovne pozadine iz koje sačuvana kiparska građa dolazi. \nGodišnja nagrada za izložbu pripala je izložbenom projektu Sjaj u tami. Nizozemsko slikarstvo 17. stoljeća u hrvatskim zbirkama\, održanoj u Galeriji Klovićevi dvori. Nagrada se dodjeljuje autoru\, Ivanu Ferenčaku\, kustosici izložbe Valentini Bach i Galeriji Klovićevi dvori. Riječ je o izložbi s opsežnim\, znanstveno koncipiranim katalogom\, koji će domaća i međunarodna stručna i znanstvena publika koristiti kao trajan rezultat istraživanja iz kojih je izložba proizašla i kao polazište za daljnji kritički pristup prezentiranoj građi. \nGodišnja nagrada za promicanje vizualne kulture dodijeljena je također izložbi\, ali ovaj put drugačijega tipa. Naime\, izložba Sto godina Salona Galić dojmljiva je memorija djelovanja galerijskog prostora koji je desetljećima promovirao vizualnu kulturu u Splitu i do danas\, pod upravljanjem HULU-a Split\, ostao važno mjesto njezina predstavljanja publici. Tako je sama izložba zavrijedila ovu nagradu\, koja se dodjeljuje autoricama povjesničarkama umjetnosti Jasminki Babić\, Sandi Bulimbašić i dizajneru Viktoru Popoviću\, kao i organizatoru Hrvatskoj udruzi likovnih umjetnika Split te Galeriji umjetnina u Splitu. \nNaposljetku\, tri jednakovrijedne nagrade za izvrsne diplomske radove dobivaju Maris Bjelančić\, Arhitektonski opus Slobodana Janjića (Odsjek za povijest umjetnosti Filozofskog fakulteta Sveučilišta u Splitu\, mentor Željko Peković)\, Ivo Dalić\, Pejzažno slikarstvo u Hrvatskoj u dugom XIX. stoljeću (Odsjek za povijest umjetnosti Filozofskog fakulteta Sveučilišta u Zagrebu\, mentor Dragan Damjanović) i Luciana Fuks\, Portreti u opusu Giovannija Simonettija (Odsjek za povijest umjetnosti Filozofskog fakulteta Sveučilišta u Rijeci\, mentorica Nina Kudiš). Njihovi diplomski radovi\, kao kruna cjelokupnog obrazovanja\,  pokazuju visoki stupanj samostalnog istraživanja i nastojanje oko implementacije suvremenih metoda u interpretaciji građe. Želimo im uspjeh u daljnjem profesionalnom radu i nadamo se da će im vrijeme u kojem živimo i okolnosti koje nas okružuju pružiti uvjete za daljnji razvoj na dobrobit struke i čitave zajednice. \nSvim dobitnicima nagrada od srca čestitamo u ime Upravnog odbora i svih članova Društva povjesničara umjetnosti Hrvatske. \nPovjerenstvo za dodjelu Nagrade Društva povjesničara umjetnosti Hrvatske za 2024. godinu: Lidija Butković Mićin\, Sanja Cvetnić\, Ivan Kokeza\, Milan Pelc\, Patricia Počanić
URL:https://planforculture.com/event/svecana-dodjela-nagrade-drustva-povjesnicara-umjetnosti-hrvatske-za-2024-godinu/
LOCATION:Galerija Klovićevi Dvori\, Jezuitski trg 4\, Zagreb\, Croatia (Local Name: Hrvatska)
CATEGORIES:OTHER
ATTACH;FMTTYPE=image/jpeg:https://planforculture.com/wp-content/uploads/2025/06/DPUH-nagrada-2024-scaled.jpg
ORGANIZER;CN="Dru%C5%A1tvo%20povjesni%C4%8Dara%20umjetnosti%20Hrvatske":MAILTO:dpuh@inet.hr
END:VEVENT
END:VCALENDAR