BEGIN:VCALENDAR
VERSION:2.0
PRODID:-//PLAN FOR CULTURE - ECPv6.0.6//NONSGML v1.0//EN
CALSCALE:GREGORIAN
METHOD:PUBLISH
X-WR-CALNAME:PLAN FOR CULTURE
X-ORIGINAL-URL:https://planforculture.com
X-WR-CALDESC:Events for PLAN FOR CULTURE
REFRESH-INTERVAL;VALUE=DURATION:PT1H
X-Robots-Tag:noindex
X-PUBLISHED-TTL:PT1H
BEGIN:VTIMEZONE
TZID:Europe/Zagreb
BEGIN:DAYLIGHT
TZOFFSETFROM:+0100
TZOFFSETTO:+0200
TZNAME:CEST
DTSTART:20250330T010000
END:DAYLIGHT
BEGIN:STANDARD
TZOFFSETFROM:+0200
TZOFFSETTO:+0100
TZNAME:CET
DTSTART:20251026T010000
END:STANDARD
END:VTIMEZONE
BEGIN:VEVENT
DTSTART;TZID=Europe/Zagreb:20250704T200000
DTEND;TZID=Europe/Zagreb:20250704T213000
DTSTAMP:20260423T025231
CREATED:20250703T141830Z
LAST-MODIFIED:20250703T141830Z
UID:10003152-1751659200-1751664600@planforculture.com
SUMMARY:Kino u dvorištu: Fiume o morte!
DESCRIPTION:Pogonovo kino na otvorenom 4. srpnja prikazuje igrano-dokumentarni film Igora Bezinovića “Fiume o morte!”. \n\nGrađani Rijeke\, grada kojeg Talijani zovu Fiume\, prepričavaju\, rekonstruiraju i reinterpretiraju bizarnu priču o 16-mjesečnoj okupaciji njihovog grada 1919. godine od strane talijanskog pjesnika\, dandyija i propovjednika rata Gabrielea D’Annunzija. \nFilm prikazujemo u petak\, 4. srpnja u 20:30 u Pogonovom Jedinstvenom dvorištu.
URL:https://planforculture.com/event/kino-u-dvoristu-fiume-o-morte/
LOCATION:Pogon Jedinstvo\, Trnjanska struga 34\, Zagreb\, 10 000\, Croatia (Local Name: Hrvatska)
CATEGORIES:OTHER
ATTACH;FMTTYPE=image/jpeg:https://planforculture.com/wp-content/uploads/2025/07/1_finished_hr_fiu_manji.jpg
ORGANIZER;CN="Pogon%20-%20Zagreba%C4%8Dki%20centar%20za%20nezavisnu%20kulturu%20i%20mlade":MAILTO:pr@pogon.hr
END:VEVENT
END:VCALENDAR