BEGIN:VCALENDAR
VERSION:2.0
PRODID:-//PLAN FOR CULTURE - ECPv6.0.6//NONSGML v1.0//EN
CALSCALE:GREGORIAN
METHOD:PUBLISH
X-ORIGINAL-URL:https://planforculture.com
X-WR-CALDESC:Events for PLAN FOR CULTURE
REFRESH-INTERVAL;VALUE=DURATION:PT1H
X-Robots-Tag:noindex
X-PUBLISHED-TTL:PT1H
BEGIN:VTIMEZONE
TZID:Europe/Zagreb
BEGIN:DAYLIGHT
TZOFFSETFROM:+0100
TZOFFSETTO:+0200
TZNAME:CEST
DTSTART:20260329T010000
END:DAYLIGHT
BEGIN:STANDARD
TZOFFSETFROM:+0200
TZOFFSETTO:+0100
TZNAME:CET
DTSTART:20261025T010000
END:STANDARD
END:VTIMEZONE
BEGIN:VEVENT
DTSTART;TZID=Europe/Zagreb:20260109T200000
DTEND;TZID=Europe/Zagreb:20260109T213000
DTSTAMP:20260420T070652
CREATED:20251112T123249Z
LAST-MODIFIED:20251112T123249Z
UID:10003288-1767988800-1767994200@planforculture.com
SUMMARY:GSK Kerempuh: PLJUSKA
DESCRIPTION:Autor teksta: Nenad Stazić\nRedatelj i autor adaptacije: Željko Königsknecht \nOvaj je tekst prije svega urnebesna komedija koja pruža glumački poligon za ostvarenje sočnih i kreativno neodoljivih uloga. Ove će se sezone izvesti u svojem osuvremenjenom ruhu\, u adaptaciji Nenada Stazića i Željka Königsknechta\, koji su snažna mjesta ovog djela otvorili prema što boljoj komunikaciji s našim vremenom i prostorom u kojem će se izvesti. Kao loptica koja nabuja u smrtonosnu lavinu ili zamah leptirovih krila koji uzrokuje tsunami\, ova priča pokazuje i dokazuje u kakvim se dimenzijama i s kakvim posljedicama može razmahati jedan banalni pravopisni nesporazum. Kako su jezik i govor u samim temeljima svake države te su neposredni odraz njezine snage i moći\, nije nikakvo čudo da s pravopisa u kratkom roku\, stižemo do samog političkog vrha u kojem se ismijavaju apsurdi i žilavosti zastarjelog državničkog aparata. \nŽeljko Königsknecht\, nakon dugih 40 godina rada u matičnom kazalištu\, u koje je došao na poziv osnivača i jednog od naših najvećih komediografa Fadila Hadžića\, nakon svih odigranih uloga u tome istome “Jazavcu˝\, odnosno\, ˝Kerempuhu˝\, odlučuje se napraviti remake legendarne predstave “Pljuska” za koju kaže da mu je ostala u sjećanju kao jedna od najdražih u karijeri. \nScenografkinja: Marta Crnobrnja\nKostimografkinja: Vedrana Rapić\nAutor glazbe: Matija Antolić\nOblikovateljica svjetla: Dubravka Kurobasa\nAsistent redatelja: Darko Stazić\nAutor video materijala: Mak Vejzović\nInspicijentica: Mirela Tihava \nIgraju: \nPrvi referent – Željko Königsknecht\nDrugi referent – Luka Petrušić\nŠef – Damir Poljičak\nMinistar – Dražen Čuček\nPotpredsjednica – Elizabeta Kukić \nPopusti na grupne posjete (10 i više osoba)\nProdaja na tel. 01/4833 645\, 01/4833 646
URL:https://planforculture.com/event/gsk-kerempuh-pljuska-35/
LOCATION:Satiričko kazalište Kerempuh\, Prolaz Fadila Hadžića 7\, Zagreb\, Croatia (Local Name: Hrvatska)
CATEGORIES:THEATER
ATTACH;FMTTYPE=image/jpeg:https://planforculture.com/wp-content/uploads/2025/11/Pljuska.jpg
ORGANIZER;CN="Satiri%C4%8Dko%20kazali%C5%A1te%20Kerempuh":MAILTO:blagajna@kerempuh.hr
END:VEVENT
END:VCALENDAR