BEGIN:VCALENDAR
VERSION:2.0
PRODID:-//PLAN FOR CULTURE - ECPv6.0.6//NONSGML v1.0//EN
CALSCALE:GREGORIAN
METHOD:PUBLISH
X-ORIGINAL-URL:https://planforculture.com
X-WR-CALDESC:Events for PLAN FOR CULTURE
REFRESH-INTERVAL;VALUE=DURATION:PT1H
X-Robots-Tag:noindex
X-PUBLISHED-TTL:PT1H
BEGIN:VTIMEZONE
TZID:Europe/Zagreb
BEGIN:DAYLIGHT
TZOFFSETFROM:+0100
TZOFFSETTO:+0200
TZNAME:CEST
DTSTART:20260329T010000
END:DAYLIGHT
BEGIN:STANDARD
TZOFFSETFROM:+0200
TZOFFSETTO:+0100
TZNAME:CET
DTSTART:20261025T010000
END:STANDARD
END:VTIMEZONE
BEGIN:VEVENT
DTSTART;TZID=Europe/Zagreb:20260113T200000
DTEND;TZID=Europe/Zagreb:20260113T220000
DTSTAMP:20260420T084906
CREATED:20251112T124001Z
LAST-MODIFIED:20251201T141713Z
UID:10003292-1768334400-1768341600@planforculture.com
SUMMARY:GSK Kerempuh: CLUEDO – društvena igra na sceni
DESCRIPTION:Autor: Sandy Rustin\nPrijevod\, režija i adaptacija: Nina Kleflin \nOva je krimi komedija nastala kao adaptacija filma “Clue” iz 1985.\, a sve zajedno inspirirano  je  poznatom  detektivskom  društvenom  igrom Clue\,  kod  nas  nazvana Cluedo\, oživljenom na sceni. Tekst i nosi naslov “Clue:  Na  sceni!” \nŠestero gostiju pozvano je na večernju zabavu koju organizira anonimni domaćin. Svatko od njih dobije fiktivno svoje ime specijalno za tu priliku — Colonel Mustard\, Mrs. White\, Mr. Green\, Mrs. Peacock\, Professor Plum\, and Miss Scarlet. Kroz protok vremena\, otkriva se kako svi imaju nešto zajedničko\, svi su žrtve istog ucjenjivača\, onog istog koji je druženje i organizirao. Svakome je dodijeljeno oružje i mogućnost izbora: dvostruko platiti ucjenjivaču ili ubiti nedužnog batlera. Slijedi totalna ludnica\, komedija dijaloga i slapstika u noći punoj zagonetki i smijeha\, a sve do otkrivanja ubojice. \nKomedija\, baš kao i društvena igra\, ima nekoliko krajeva. Bila je riječ o čak 200 kombinacija koje se međusobno razlikuju te ih bira publika putem karata. Sve se odvija na šahovskom polju i sama je priča namijenjena mlađoj publici\, kao i onoj koja je voljela naš “Raspad sistema”. \n\nDramaturginja: Dora Delbianco\nScenograf: Stefano Katunar\nKostimografkinja: Sara Lovrić Caparin\nKoreograf: Damir Klemenić\nAutor glazbe: Tomislav Babić\nOblikovateljica svjetla: Vesna Kolarec\nInspicijentica: Lorena Matešić  \n  \nIgraju: \nWadsworth – Domagoj Ivanković\nYvette – Ornela Vištica\nGospođica Scarlet (Rujnić) – Tanja Smoje\nGospođa Peacock (Paunica)\, – Ana Maras Harmander\nGospođa White (Bjelinski)\, – Mia Begović\nPukovnik Mustard (Senf) – Filip Detelić\nProfesor Plum (Šljivac) – Marko Makovičić\nGospodin Green (Zelenski) – Matija Šakoronja\nGospodin Body (Trupina) – Dražen Čuček\nKuharica / Poštarica – Anica Kontić\nPolicajac – Jakov Zovko \nPopusti na grupne posjete (10 i više osoba)\nProdaja na tel. 01/4833 645\, 01/4833 646
URL:https://planforculture.com/event/gsk-kerempuh-cluedo-drustvena-igra-na-sceni-6/
LOCATION:Satiričko kazalište Kerempuh\, Prolaz Fadila Hadžića 7\, Zagreb\, Croatia (Local Name: Hrvatska)
CATEGORIES:THEATER
ATTACH;FMTTYPE=image/jpeg:https://planforculture.com/wp-content/uploads/2025/11/Cluedo.jpg
ORGANIZER;CN="Satiri%C4%8Dko%20kazali%C5%A1te%20Kerempuh":MAILTO:blagajna@kerempuh.hr
END:VEVENT
BEGIN:VEVENT
DTSTART;TZID=Europe/Zagreb:20260114T200000
DTEND;TZID=Europe/Zagreb:20260114T220000
DTSTAMP:20260420T084906
CREATED:20251112T124036Z
LAST-MODIFIED:20251201T141727Z
UID:10003293-1768420800-1768428000@planforculture.com
SUMMARY:GSK Kerempuh: CLUEDO – društvena igra na sceni
DESCRIPTION:Autor: Sandy Rustin\nPrijevod\, režija i adaptacija: Nina Kleflin \nOva je krimi komedija nastala kao adaptacija filma “Clue” iz 1985.\, a sve zajedno inspirirano  je  poznatom  detektivskom  društvenom  igrom Clue\,  kod  nas  nazvana Cluedo\, oživljenom na sceni. Tekst i nosi naslov “Clue:  Na  sceni!” \nŠestero gostiju pozvano je na večernju zabavu koju organizira anonimni domaćin. Svatko od njih dobije fiktivno svoje ime specijalno za tu priliku — Colonel Mustard\, Mrs. White\, Mr. Green\, Mrs. Peacock\, Professor Plum\, and Miss Scarlet. Kroz protok vremena\, otkriva se kako svi imaju nešto zajedničko\, svi su žrtve istog ucjenjivača\, onog istog koji je druženje i organizirao. Svakome je dodijeljeno oružje i mogućnost izbora: dvostruko platiti ucjenjivaču ili ubiti nedužnog batlera. Slijedi totalna ludnica\, komedija dijaloga i slapstika u noći punoj zagonetki i smijeha\, a sve do otkrivanja ubojice. \nKomedija\, baš kao i društvena igra\, ima nekoliko krajeva. Bila je riječ o čak 200 kombinacija koje se međusobno razlikuju te ih bira publika putem karata. Sve se odvija na šahovskom polju i sama je priča namijenjena mlađoj publici\, kao i onoj koja je voljela naš “Raspad sistema”. \n\nDramaturginja: Dora Delbianco\nScenograf: Stefano Katunar\nKostimografkinja: Sara Lovrić Caparin\nKoreograf: Damir Klemenić\nAutor glazbe: Tomislav Babić\nOblikovateljica svjetla: Vesna Kolarec\nInspicijentica: Lorena Matešić  \n  \nIgraju: \nWadsworth – Domagoj Ivanković\nYvette – Ornela Vištica\nGospođica Scarlet (Rujnić) – Tanja Smoje\nGospođa Peacock (Paunica)\, – Ana Maras Harmander\nGospođa White (Bjelinski)\, – Mia Begović\nPukovnik Mustard (Senf) – Filip Detelić\nProfesor Plum (Šljivac) – Marko Makovičić\nGospodin Green (Zelenski) – Matija Šakoronja\nGospodin Body (Trupina) – Dražen Čuček\nKuharica / Poštarica – Anica Kontić\nPolicajac – Jakov Zovko \nPopusti na grupne posjete (10 i više osoba)\nProdaja na tel. 01/4833 645\, 01/4833 646
URL:https://planforculture.com/event/gsk-kerempuh-cluedo-drustvena-igra-na-sceni-7/
LOCATION:Satiričko kazalište Kerempuh\, Prolaz Fadila Hadžića 7\, Zagreb\, Croatia (Local Name: Hrvatska)
CATEGORIES:THEATER
ATTACH;FMTTYPE=image/jpeg:https://planforculture.com/wp-content/uploads/2025/11/Cluedo-1.jpg
ORGANIZER;CN="Satiri%C4%8Dko%20kazali%C5%A1te%20Kerempuh":MAILTO:blagajna@kerempuh.hr
END:VEVENT
BEGIN:VEVENT
DTSTART;TZID=Europe/Zagreb:20260115T200000
DTEND;TZID=Europe/Zagreb:20260115T220500
DTSTAMP:20260420T084906
CREATED:20251112T124337Z
LAST-MODIFIED:20251112T124337Z
UID:10003297-1768507200-1768514700@planforculture.com
SUMMARY:GSK Kerempuh: TRAŽI SE NOVI SUPRUG
DESCRIPTION:Autor: Miro Gavran\nRedatelj: Željko Königsknecht \n˝Traži se novi suprug˝ neobični je spoj komedije karaktera i komedije situacije te pruža brojne mogućnosti glumcima za stvaranje atraktivnih likova. Središnji je lik udovica koja odluči pomoću tarot karata i novinskog oglasa pronaći novog muža koji bi trebao zadovoljiti idealne\, dakle\, nemoguće kriterije. Istodobno\, njezin prvi susjed\, usamljeni neženja\, odlučuje se napokon oženiti. Da bi osvojio njezino srce dosjeti se zamoliti za pomoć prijatelja iz djetinjstva\, kojega nagovori da se javi na oglas i odglumi nekoliko prosaca koji će biti jedan gori od drugog. Miro Gavran u ovom djelu s izrazitim simpatijama oslikava prepoznatljive junake naše svakodnevice koji nastoje ostvariti svoje snove i ambicije. \nDramaturg: Željko Königsknecht\nKostimografkinja: Tanja Rodd\nScenografkinja: Nina Mia Čikeš\nAutor glazbe: Mario Mirković\nOblikovateljica svjetla: Vesna Kolarec\nAsistent režije: Zvonko Benić\nUmjetnički savjetnik: Zoran Mužić\nOblikovanje vizualnih komunikacija: Love\, Ana studio i Dario Dević\nFotografkinja: Maja Kljajić \nIgraju:\nAnita Matić Delić\nDamir Poljičak\nŽeljko Königsknecht \nPopusti na grupne posjete (10 i više osoba)\nProdaja na tel. 01/4833 645\, 01/4833 646
URL:https://planforculture.com/event/gsk-kerempuh-trazi-se-novi-suprug-17/
LOCATION:Satiričko kazalište Kerempuh\, Prolaz Fadila Hadžića 7\, Zagreb\, Croatia (Local Name: Hrvatska)
CATEGORIES:THEATER
ATTACH;FMTTYPE=image/jpeg:https://planforculture.com/wp-content/uploads/2025/11/Trazi-se-novi-suprug.jpg
ORGANIZER;CN="Satiri%C4%8Dko%20kazali%C5%A1te%20Kerempuh":MAILTO:blagajna@kerempuh.hr
END:VEVENT
BEGIN:VEVENT
DTSTART;TZID=Europe/Zagreb:20260116T200000
DTEND;TZID=Europe/Zagreb:20260116T220000
DTSTAMP:20260420T084906
CREATED:20251112T124502Z
LAST-MODIFIED:20251112T124502Z
UID:10003298-1768593600-1768600800@planforculture.com
SUMMARY:GSK Kerempuh: SUBOTA\, NEDJELJA I PONEDJELJAK
DESCRIPTION:Autor: Eduardo de Filippo\nRedatelj: Paolo Magelli \nNedjeljni ručak u domu obitelji Priore okuplja tri generacije koje žive pod istim krovom. Tu je djed\, zatim roditelji\, djeca\, njihovi partneri\, teta\, nećak\, susjedi i drugi nezvani ili pak zvani gosti – plejada likova čija nas šarolikost uvodi u bogat i često turbulentan svijet razgranatih obiteljskih i inih odnosa dok se prepliću niti njihovih sudbina i međusobnih veza. Glumački ansambl vješto razotkriva slojeve života svojih likova\, otkrivajući nam njihove tajne\, strahove\, ambicije i snove. U tome mediteranski glasnom ali ipak intimnom okruženju otkrivaju se univerzalne istine koje nas sve povezuju kao što je prirodna želja za ljubavlju\, razumijevanjem i pripadnošću.\nKao intrigantan okvir priči poslužio je sukob između starog i novog\, interakcija tradicije i modernosti. Obitelj Priore čvrsto je ukorijenjena u svojim napolitanskim tradicijama\, ali se suočava s vjetrovima promjena koji pušu kroz njihove živote. Sukob generacija jasno ilustrira napetosti između prihvaćanja uspostavljenih normi i neizbježnog traženja novih putova. \nPrevoditeljica: Branka Rakić\nAutorica adaptacije i dramaturginja: Željka Udovičić Pleština\nScenograf: Miljenko Sekulić\nKostimografkinja: Marita Ćopo\nAutori glazbe: Ivanka Mazurkijević i Damir Martinović Mrle\nAutor video projekcija: Ivan Marušić Klif\nOblikovatelj svjetla: Aleksandar Čavlek\nKoreografkinja za ples mambo: Tamara Despot\nAsistentica redatelja: Mirela Tihava\nPomoćnik redatelja: Max Foretić\nInspicijentica: Mirela Tihava \n  \nIgraju: \nRosa – Linda Begonja\nVirginia – Mia Anočić – Valentić / Mirela Videk Hranjec\nPepino – Dražen Čuček\nRocco – Filip Detelić\nFederico – Igor Jurinić\nAntonio – Vilim Matula\nGiulianella – Josipa Anković\nAmelia – Anita Matić Delić\nAtilio – Matija Šakoronja\nRafaele – Marko Makovičić\nLuigi Ianiello – Hrvoje Kečkeš\nElena Ianiello – Branka Trlin\nKrojač – Vedran Mlikota\nMikele – Damir Poljičak\nMaria Carolina – Ana Maras Harmander\nRoberto – Davor Kovač\nDoktor – Karlo Mlinar \nPopusti na grupne posjete (10 i više osoba)\nProdaja na tel. 01/4833 645\, 01/4833 646
URL:https://planforculture.com/event/gsk-kerempuh-subota-nedjelja-i-ponedjeljak-13/
LOCATION:Satiričko kazalište Kerempuh\, Prolaz Fadila Hadžića 7\, Zagreb\, Croatia (Local Name: Hrvatska)
CATEGORIES:THEATER
ATTACH;FMTTYPE=image/jpeg:https://planforculture.com/wp-content/uploads/2025/11/Subota-nedjelja-i-ponedjeljak.jpg
ORGANIZER;CN="Satiri%C4%8Dko%20kazali%C5%A1te%20Kerempuh":MAILTO:blagajna@kerempuh.hr
END:VEVENT
BEGIN:VEVENT
DTSTART;TZID=Europe/Zagreb:20260117T190000
DTEND;TZID=Europe/Zagreb:20260117T221500
DTSTAMP:20260420T084906
CREATED:20251112T124630Z
LAST-MODIFIED:20251112T124630Z
UID:10003299-1768676400-1768688100@planforculture.com
SUMMARY:GSK Kerempuh: OTAC\, KĆI I DUH SVETI
DESCRIPTION:Autor: Mate Matišić\nRedatelj: Janusz Kica \n˝Otac\, Kći i Duh Sveti˝ nova je duologija Mate Matišića napisana za Kerempuh koju na scenu postavlja Janusz Kica. Ovaj umjetnički tandem predstavlja sam vrh kazališne umjetničke produkcije i spoj su koji obećava neponovljiv teatarski doživljaj. U ovim urnebesnim tekstovima prožetim gorkim humorom\, finom ironijom i nevjerojatnim apsurdom\, Matišić ispisuje obrate dostojne najpametnijih krimića\, kopajući uvijek dublje u ponore samog sebe i nalazeći krivca na najneočekivanijim mjestima. Jesmo li voljni doći do istine\, ma koliko skrivena ona bila i još važnije\, platiti cijenu koju ona podrazumijeva? Za autora je odgovor jasan i nedvosmislen. Uvijek istina i ništa drugo osim istine. \nDramaturginja: Dora Delbianco\nKostimografkinja: Doris Kristić\nScenografkinja: Liberta Mišan\nAutorica glazbe: Tamara Obrovac\nOblikovatelj svjetla: Aleksandar Čavlek\nInspicijentica: Mirela Tihava \n  \nIgraju: \nSIJAMSKI BLIZANCI PLEŠU SAMBU ILI NEVINI UMIRU PRVI \nSlavko – Vedran Mlikota \nSlavica\, njegova supruga – Branka Trlin \nAna\, njihova kći – Mirela Videk Hranjec \nDjevojčica – Anica Kontić \nDjevojčica 2 – Tamara Kovačević \nSvećenik – Dražen Čuček \n  \nŽENE BEZ ZUBA ILITI PLES MELANIJE TRUMP \nBlaž – Marko Makovičić \nAna – Ines Bojanić \nMarko – Hrvoje Kečkeš \nMarija – Linda Begonja \nTkz. Melanija Trump – Mia Begović \nMatea – Anica Kontić \nDunja – Tamara Kovačević \nMate – Dražen Čuček \nMuškarac – Vilim Matula \nPopusti na grupne posjete (10 i više osoba)\nProdaja na tel. 01/4833 645\, 01/4833 646
URL:https://planforculture.com/event/gsk-kerempuh-otac-kci-i-duh-sveti-18/
LOCATION:Satiričko kazalište Kerempuh\, Prolaz Fadila Hadžića 7\, Zagreb\, Croatia (Local Name: Hrvatska)
CATEGORIES:THEATER
ATTACH;FMTTYPE=image/jpeg:https://planforculture.com/wp-content/uploads/2025/11/Otac-Kci-i-Duh-Sveti.jpg
ORGANIZER;CN="Satiri%C4%8Dko%20kazali%C5%A1te%20Kerempuh":MAILTO:blagajna@kerempuh.hr
END:VEVENT
BEGIN:VEVENT
DTSTART;TZID=Europe/Zagreb:20260118T200000
DTEND;TZID=Europe/Zagreb:20260118T214500
DTSTAMP:20260420T084906
CREATED:20251112T124820Z
LAST-MODIFIED:20251112T124820Z
UID:10003300-1768766400-1768772700@planforculture.com
SUMMARY:GSK Kerempuh: PREDSJEDNICI&CA
DESCRIPTION:Autori teksta i dramaturzi: Tarik Filipović i Boris Svrtan\nRedatelj: Tarik Filipović\nKoprodukcija: Satiričko kazalište Kerempuh i FIJI grupa \nGrađanski stan. Večera za 5 uglednih gostiju. Pozivnicu su dobili ”bivši” – i to na poziv ”bivše”!\nPredsjednici&ca iznimno je aktualna i britka komedija nastala prema tekstu Borisa Svrtana i Tarika Filipovića\, a u režiji potonjeg Kerempuhovog mlađahnog veterana. Predsjednica i predsjednici okupljeni na večeri nude gledateljima manje ili više nutricionistički harmonizirane i bogate okuse\, idealan omjer između slatkog\, gorkog\, ljutog i kiselog\, a toplo je preporučamo gledateljima koje muči neutaživa glad\, kao i onima koji su siti svega. I neće vam teško pasti na želudac\, a ako i padne\, imajte na umu da su državni poglavari žilavi momci\, čak i kad su cure pa se duže žvakanje podrazumijeva. \nScenograf: Damir Medvešek\nKostimografkinja: Vedrana Rapić\nAutor glazbe: Milorad Stranić\nOblikovatelj svjetla: Aleksandar Mondecar\nOblikovatelj zvuka: Damir Ključarić\nKoreografkinja: Larisa Lipovac\nInspicijentice: Mirela Tihava i Lorena Matešić\nKoorinatorica u pripremi predstave: Jasna Rešić\nKreativni producent (za FIJI grupu): Mario Gigović \nIgraju: \nFranjo Tuđman – Tarik Filipović\nStjepan Mesić – Hrvoje Kečkeš\nKolinda Grabar – Kitarović – Ornela Vištica\nIvo Josipović – Siniša Miletić\nJosip Broz Tito – Boris Svrtan \n*Nepozvani gost – Dominik Milanović / Mladen Pilić \nPopusti na grupne posjete (10 i više osoba)\nProdaja na tel. 01/4833 645\, 01/4833 646
URL:https://planforculture.com/event/gsk-kerempuh-predsjednicica-15/
LOCATION:Satiričko kazalište Kerempuh\, Prolaz Fadila Hadžića 7\, Zagreb\, Croatia (Local Name: Hrvatska)
CATEGORIES:THEATER
ATTACH;FMTTYPE=image/jpeg:https://planforculture.com/wp-content/uploads/2025/11/Predsjednicica-scaled.jpg
ORGANIZER;CN="Satiri%C4%8Dko%20kazali%C5%A1te%20Kerempuh":MAILTO:blagajna@kerempuh.hr
END:VEVENT
END:VCALENDAR