BEGIN:VCALENDAR
VERSION:2.0
PRODID:-//PLAN FOR CULTURE - ECPv6.0.6//NONSGML v1.0//EN
CALSCALE:GREGORIAN
METHOD:PUBLISH
X-ORIGINAL-URL:https://planforculture.com
X-WR-CALDESC:Events for PLAN FOR CULTURE
REFRESH-INTERVAL;VALUE=DURATION:PT1H
X-Robots-Tag:noindex
X-PUBLISHED-TTL:PT1H
BEGIN:VTIMEZONE
TZID:Europe/Zagreb
BEGIN:DAYLIGHT
TZOFFSETFROM:+0100
TZOFFSETTO:+0200
TZNAME:CEST
DTSTART:20260329T010000
END:DAYLIGHT
BEGIN:STANDARD
TZOFFSETFROM:+0200
TZOFFSETTO:+0100
TZNAME:CET
DTSTART:20261025T010000
END:STANDARD
END:VTIMEZONE
BEGIN:VEVENT
DTSTART;TZID=Europe/Zagreb:20260203T200000
DTEND;TZID=Europe/Zagreb:20260203T215000
DTSTAMP:20260421T174740
CREATED:20260112T100224Z
LAST-MODIFIED:20260112T100224Z
UID:10003333-1770148800-1770155400@planforculture.com
SUMMARY:GSK Kerempuh: CLUEDO - društvena igra na sceni
DESCRIPTION:Autor: Sandy Rustin\nPrijevod\, režija i adaptacija: Nina Kleflin \nOva je krimi komedija nastala kao adaptacija filma “Clue” iz 1985.\, a sve zajedno inspirirano  je  poznatom  detektivskom  društvenom  igrom Clue\,  kod  nas  nazvana Cluedo\, oživljenom na sceni. Tekst i nosi naslov “Clue:  Na  sceni!” \nŠestero gostiju pozvano je na večernju zabavu koju organizira anonimni domaćin. Svatko od njih dobije fiktivno svoje ime specijalno za tu priliku — Colonel Mustard\, Mrs. White\, Mr. Green\, Mrs. Peacock\, Professor Plum\, and Miss Scarlet. Kroz protok vremena\, otkriva se kako svi imaju nešto zajedničko\, svi su žrtve istog ucjenjivača\, onog istog koji je druženje i organizirao. Svakome je dodijeljeno oružje i mogućnost izbora: dvostruko platiti ucjenjivaču ili ubiti nedužnog batlera. Slijedi totalna ludnica\, komedija dijaloga i slapstika u noći punoj zagonetki i smijeha\, a sve do otkrivanja ubojice. \nKomedija\, baš kao i društvena igra\, ima nekoliko krajeva. Bila je riječ o čak 200 kombinacija koje se međusobno razlikuju te ih bira publika putem karata. Sve se odvija na šahovskom polju i sama je priča namijenjena mlađoj publici\, kao i onoj koja je voljela naš “Raspad sistema”. \n\nDramaturginja: Dora Delbianco\nScenograf: Stefano Katunar\nKostimografkinja: Sara Lovrić Caparin\nKoreograf: Damir Klemenić\nAutor glazbe: Tomislav Babić\nOblikovateljica svjetla: Vesna Kolarec\nInspicijentica: Lorena Matešić  \n  \nIgraju: \nWadsworth – Domagoj Ivanković\nYvette – Ornela Vištica\nGospođica Scarlet (Rujnić) – Tanja Smoje\nGospođa Peacock (Paunica)\, – Ana Maras Harmander\nGospođa White (Bjelinski)\, – Mia Begović\nPukovnik Mustard (Senf) – Filip Detelić\nProfesor Plum (Šljivac) – Marko Makovičić\nGospodin Green (Zelenski) – Matija Šakoronja\nGospodin Body (Trupina) – Dražen Čuček\nKuharica / Poštarica – Anica Kontić\nPolicajac – Jakov Zovko \n  \nPopusti na grupne posjete (10 i više osoba)\nProdaja na tel. 01/4833 645\, 01/4833 646
URL:https://planforculture.com/event/gsk-kerempuh-cluedo-drustvena-igra-na-sceni-11/
LOCATION:Satiričko kazalište Kerempuh\, Prolaz Fadila Hadžića 7\, Zagreb\, Croatia (Local Name: Hrvatska)
CATEGORIES:THEATER
ATTACH;FMTTYPE=image/jpeg:https://planforculture.com/wp-content/uploads/2026/01/Cluedo.jpg
ORGANIZER;CN="Satiri%C4%8Dko%20kazali%C5%A1te%20Kerempuh":MAILTO:blagajna@kerempuh.hr
END:VEVENT
BEGIN:VEVENT
DTSTART;TZID=Europe/Zagreb:20260204T200000
DTEND;TZID=Europe/Zagreb:20260204T215000
DTSTAMP:20260421T174740
CREATED:20260115T081603Z
LAST-MODIFIED:20260115T081603Z
UID:10003336-1770235200-1770241800@planforculture.com
SUMMARY:GSK Kerempuh: CLUEDO – društvena igra na sceni
DESCRIPTION:Autor: Sandy Rustin\nPrijevod\, režija i adaptacija: Nina Kleflin \nOva je krimi komedija nastala kao adaptacija filma “Clue” iz 1985.\, a sve zajedno inspirirano  je  poznatom  detektivskom  društvenom  igrom Clue\,  kod  nas  nazvana Cluedo\, oživljenom na sceni. Tekst i nosi naslov “Clue:  Na  sceni!” \nŠestero gostiju pozvano je na večernju zabavu koju organizira anonimni domaćin. Svatko od njih dobije fiktivno svoje ime specijalno za tu priliku — Colonel Mustard\, Mrs. White\, Mr. Green\, Mrs. Peacock\, Professor Plum\, and Miss Scarlet. Kroz protok vremena\, otkriva se kako svi imaju nešto zajedničko\, svi su žrtve istog ucjenjivača\, onog istog koji je druženje i organizirao. Svakome je dodijeljeno oružje i mogućnost izbora: dvostruko platiti ucjenjivaču ili ubiti nedužnog batlera. Slijedi totalna ludnica\, komedija dijaloga i slapstika u noći punoj zagonetki i smijeha\, a sve do otkrivanja ubojice. \nKomedija\, baš kao i društvena igra\, ima nekoliko krajeva. Bila je riječ o čak 200 kombinacija koje se međusobno razlikuju te ih bira publika putem karata. Sve se odvija na šahovskom polju i sama je priča namijenjena mlađoj publici\, kao i onoj koja je voljela naš “Raspad sistema”. \n\nDramaturginja: Dora Delbianco\nScenograf: Stefano Katunar\nKostimografkinja: Sara Lovrić Caparin\nKoreograf: Damir Klemenić\nAutor glazbe: Tomislav Babić\nOblikovateljica svjetla: Vesna Kolarec\nInspicijentica: Lorena Matešić  \n  \nIgraju: \nWadsworth – Domagoj Ivanković\nYvette – Ornela Vištica\nGospođica Scarlet (Rujnić) – Tanja Smoje\nGospođa Peacock (Paunica)\, – Ana Maras Harmander\nGospođa White (Bjelinski)\, – Mia Begović\nPukovnik Mustard (Senf) – Filip Detelić\nProfesor Plum (Šljivac) – Marko Makovičić\nGospodin Green (Zelenski) – Matija Šakoronja\nGospodin Body (Trupina) – Dražen Čuček\nKuharica / Poštarica – Anica Kontić\nPolicajac – Jakov Zovko \n  \nPopusti na grupne posjete (10 i više osoba)\nProdaja na tel. 01/4833 645\, 01/4833 646
URL:https://planforculture.com/event/gsk-kerempuh-cluedo-drustvena-igra-na-sceni-12/
LOCATION:Satiričko kazalište Kerempuh\, Prolaz Fadila Hadžića 7\, Zagreb\, Croatia (Local Name: Hrvatska)
CATEGORIES:THEATER
ATTACH;FMTTYPE=image/jpeg:https://planforculture.com/wp-content/uploads/2026/01/Cluedo-1.jpg
ORGANIZER;CN="Satiri%C4%8Dko%20kazali%C5%A1te%20Kerempuh":MAILTO:blagajna@kerempuh.hr
END:VEVENT
BEGIN:VEVENT
DTSTART;TZID=Europe/Zagreb:20260205T200000
DTEND;TZID=Europe/Zagreb:20260205T215000
DTSTAMP:20260421T174740
CREATED:20260115T081903Z
LAST-MODIFIED:20260115T081903Z
UID:10003337-1770321600-1770328200@planforculture.com
SUMMARY:GSK Kerempuh: CLUEDO - društvena igra na sceni
DESCRIPTION:Autor: Sandy Rustin\nPrijevod\, režija i adaptacija: Nina Kleflin \nOva je krimi komedija nastala kao adaptacija filma “Clue” iz 1985.\, a sve zajedno inspirirano  je  poznatom  detektivskom  društvenom  igrom Clue\,  kod  nas  nazvana Cluedo\, oživljenom na sceni. Tekst i nosi naslov “Clue:  Na  sceni!” \nŠestero gostiju pozvano je na večernju zabavu koju organizira anonimni domaćin. Svatko od njih dobije fiktivno svoje ime specijalno za tu priliku — Colonel Mustard\, Mrs. White\, Mr. Green\, Mrs. Peacock\, Professor Plum\, and Miss Scarlet. Kroz protok vremena\, otkriva se kako svi imaju nešto zajedničko\, svi su žrtve istog ucjenjivača\, onog istog koji je druženje i organizirao. Svakome je dodijeljeno oružje i mogućnost izbora: dvostruko platiti ucjenjivaču ili ubiti nedužnog batlera. Slijedi totalna ludnica\, komedija dijaloga i slapstika u noći punoj zagonetki i smijeha\, a sve do otkrivanja ubojice. \nKomedija\, baš kao i društvena igra\, ima nekoliko krajeva. Bila je riječ o čak 200 kombinacija koje se međusobno razlikuju te ih bira publika putem karata. Sve se odvija na šahovskom polju i sama je priča namijenjena mlađoj publici\, kao i onoj koja je voljela naš “Raspad sistema”. \n\nDramaturginja: Dora Delbianco\nScenograf: Stefano Katunar\nKostimografkinja: Sara Lovrić Caparin\nKoreograf: Damir Klemenić\nAutor glazbe: Tomislav Babić\nOblikovateljica svjetla: Vesna Kolarec\nInspicijentica: Lorena Matešić  \n  \nIgraju: \nWadsworth – Domagoj Ivanković\nYvette – Ornela Vištica\nGospođica Scarlet (Rujnić) – Tanja Smoje\nGospođa Peacock (Paunica)\, – Ana Maras Harmander\nGospođa White (Bjelinski)\, – Mia Begović\nPukovnik Mustard (Senf) – Filip Detelić\nProfesor Plum (Šljivac) – Marko Makovičić\nGospodin Green (Zelenski) – Matija Šakoronja\nGospodin Body (Trupina) – Dražen Čuček\nKuharica / Poštarica – Anica Kontić\nPolicajac – Jakov Zovko \n  \nPopusti na grupne posjete (10 i više osoba)\nProdaja na tel. 01/4833 645\, 01/4833 646
URL:https://planforculture.com/event/gsk-kerempuh-cluedo-drustvena-igra-na-sceni-13/
LOCATION:Satiričko kazalište Kerempuh\, Prolaz Fadila Hadžića 7\, Zagreb\, Croatia (Local Name: Hrvatska)
CATEGORIES:THEATER
ATTACH;FMTTYPE=image/jpeg:https://planforculture.com/wp-content/uploads/2026/01/Cluedo-2.jpg
ORGANIZER;CN="Satiri%C4%8Dko%20kazali%C5%A1te%20Kerempuh":MAILTO:blagajna@kerempuh.hr
END:VEVENT
BEGIN:VEVENT
DTSTART;TZID=Europe/Zagreb:20260206T200000
DTEND;TZID=Europe/Zagreb:20260206T214500
DTSTAMP:20260421T174740
CREATED:20260115T082515Z
LAST-MODIFIED:20260115T082642Z
UID:10003338-1770408000-1770414300@planforculture.com
SUMMARY:GSK Kerempuh: PREDSJEDNICI&CA
DESCRIPTION:Autori teksta i dramaturzi: Tarik Filipović i Boris Svrtan\nRedatelj: Tarik Filipović\nKoprodukcija: Satiričko kazalište Kerempuh i FIJI grupa \nGrađanski stan. Večera za 5 uglednih gostiju. Pozivnicu su dobili ”bivši” – i to na poziv ”bivše”!\nPredsjednici&ca iznimno je aktualna i britka komedija nastala prema tekstu Borisa Svrtana i Tarika Filipovića\, a u režiji potonjeg Kerempuhovog mlađahnog veterana. Predsjednica i predsjednici okupljeni na večeri nude gledateljima manje ili više nutricionistički harmonizirane i bogate okuse\, idealan omjer između slatkog\, gorkog\, ljutog i kiselog\, a toplo je preporučamo gledateljima koje muči neutaživa glad\, kao i onima koji su siti svega. I neće vam teško pasti na želudac\, a ako i padne\, imajte na umu da su državni poglavari žilavi momci\, čak i kad su cure pa se duže žvakanje podrazumijeva. \nScenograf: Damir Medvešek\nKostimografkinja: Vedrana Rapić\nAutor glazbe: Milorad Stranić\nOblikovatelj svjetla: Aleksandar Mondecar\nOblikovatelj zvuka: Damir Ključarić\nKoreografkinja: Larisa Lipovac\nInspicijentice: Mirela Tihava i Lorena Matešić\nKoorinatorica u pripremi predstave: Jasna Rešić\nKreativni producent (za FIJI grupu): Mario Gigović \nIgraju: \nFranjo Tuđman – Tarik Filipović\nStjepan Mesić – Hrvoje Kečkeš\nKolinda Grabar – Kitarović – Ornela Vištica\nIvo Josipović – Siniša Miletić\nJosip Broz Tito – Boris Svrtan \n*Nepozvani gost – Dominik Milanović / Mladen Pilić \nPopusti na grupne posjete (10 i više osoba)\nProdaja na tel. 01/4833 645\, 01/4833 646
URL:https://planforculture.com/event/gsk-kerempuh-predsjednicica-16/
LOCATION:Satiričko kazalište Kerempuh\, Prolaz Fadila Hadžića 7\, Zagreb\, Croatia (Local Name: Hrvatska)
CATEGORIES:THEATER
ATTACH;FMTTYPE=image/jpeg:https://planforculture.com/wp-content/uploads/2026/01/Predsjednicica-scaled.jpg
ORGANIZER;CN="Satiri%C4%8Dko%20kazali%C5%A1te%20Kerempuh":MAILTO:blagajna@kerempuh.hr
END:VEVENT
BEGIN:VEVENT
DTSTART;TZID=Europe/Zagreb:20260207T200000
DTEND;TZID=Europe/Zagreb:20260207T214000
DTSTAMP:20260421T174740
CREATED:20260115T083018Z
LAST-MODIFIED:20260115T083018Z
UID:10003339-1770494400-1770500400@planforculture.com
SUMMARY:GSK Kerempuh: SVE ZBOG JEDNOG IMENA
DESCRIPTION:Autori teksta: Matthieu Delaporte & Alexandre de La Patellière\nRedateljica: Saša Broz \nRadnja predstave odvija se jedne večeri\, na druženju obitelji i prijatelja. Sve započinje idilično\, s Vincentom koji dijeli fotografiju svoje i Annine tek nedavno začete bebe. No ubrzo se dobra atmosfera drastično mijenja kada im Vincent objavi da će se dijete zvati Adolphe\, što je francuski ekvivalent za Adolfa… \nOva vrhunska komedija hit je u više od 45 zemalja diljem svijeta\, zahvaljujući iskričavosti dijaloga te detaljno oslikanim\, vjerodostojnim i neodoljivim likovima s kojima se lako možemo poistovjetiti. Jedna od centralnih tema jest suparništvo između braće i sestara\, tinjajuća ogorčenost i netrpeljivost koja se vrlo lako može razumjeti u bilo kojem okruženju. \nU 90 minuta trajanja predstave nema ni sekunde pauze niti praznog hoda\, pa tako protagonisti\, ali ni publika\, do samog kraja ne dolaze do daha. Tekst u mnogočemu asocira na Rezin komad ˝Bog masakra˝\, kao i na kultni Genoveseov film ˝Perfetti sconosciuti˝ (“Potpuni stranci”). \nKomad su napisali Matthieu Delaporte i Alexandre de la Patellière\, a uspješno je adaptiran i za film\, čiji je original također pratilo nekoliko varijanti remakea. \nPariška produkcija osvojila je šest nominacija za nagradu Molière\, uključujući i onu za najbolju komediju\, dvije nominacije za najboljeg sporednog glumca za Jean-Michela Dupuisa i Guillaumea de Tonquédeca\, zatim za najbolju sporednu glumicu za Valérie Benguigui\, najboljeg dramatičara za Matthieua Delaportea i Alexandrea de la Patellièrea i najbolju režiju za Bernarda Murata. \nPrevoditeljica: Vanda Mikšić\nAutorica adaptacije i dramaturginja: Dora Delbianco\nScenografkinja: Sara Haas\nKostimografkinja: Mia Popovska\nSuradnica za scenski pokret: Nastasja Štefanić Kralj\nOblikovatelj svjetla: Aleksandar Čavlek\nInspicijentica: Lorena Matešić  \nIgraju: \nÉlisabeth Garaud-Larchet – Anita Matić Delić\nPierre Garaud\, Élisabethin muž – Damir Poljičak\nClaude Gratignol\, Élisabethin prijatelj iz djetinjstva – Domagoj Ivanković\nVincent Larchet\, Élisabethin brat – Borko Perić\nAnna Caravati\, Vincentova partnerica – Mirela Videk Hranjec \nPopusti na grupne posjete (10 i više osoba)\nProdaja na tel. 01/4833 645\, 01/4833 646
URL:https://planforculture.com/event/gsk-kerempuh-sve-zbog-jednog-imena-29/
LOCATION:Satiričko kazalište Kerempuh\, Prolaz Fadila Hadžića 7\, Zagreb\, Croatia (Local Name: Hrvatska)
CATEGORIES:THEATER
ATTACH;FMTTYPE=image/jpeg:https://planforculture.com/wp-content/uploads/2026/01/Sve-zbog-jednog-imena.jpg
ORGANIZER;CN="Satiri%C4%8Dko%20kazali%C5%A1te%20Kerempuh":MAILTO:blagajna@kerempuh.hr
END:VEVENT
BEGIN:VEVENT
DTSTART;TZID=Europe/Zagreb:20260208T200000
DTEND;TZID=Europe/Zagreb:20260208T203500
DTSTAMP:20260421T174740
CREATED:20260115T083840Z
LAST-MODIFIED:20260115T083840Z
UID:10003341-1770580800-1770582900@planforculture.com
SUMMARY:GSK Kerempuh: UBOJSTVO U ORIENT EXPRESSU
DESCRIPTION:Agatha Christie\nAdaptirao za pozornicu Ken Ludwig\nRedateljica: Sara Stanić Blažević \n  \n“Ubojstvo u Orient Expressu” kultni je roman najpoznatije autorice detektivskih romana Agathe Christie\, koji je prvi put dolazi u Hrvatsku na kazališne daske u adaptaciji Kena Ludwiga i režiji Sare Stanić. Roman je to koji je od svog prvog izdanja 1934. godine doživio mnogobrojne filmske adaptacije i izgradio prepoznatljiv lik najpoznatijeg zabadala na svijetu koji sa svojim ikoničnim brkovima i malim sivim stanicama\, ostaje jedan od najslavnijih detektiva u književnosti\, a njegov način rješavanja zločina – koristeći logiku i psihologiju – fascinira čitatelje i gledatelje već desetljećima. \nSlavni belgijski detektiv Hercule Poirot putujući luksuznim vlakom Orient Express\, kojim samo pokušava doći do Londona i možda jednom u životu ništa ne raditi\, mora riješiti ubojstvo koje se dogodi na vlaku negdje između Vinkovaca i Slavonskog Broda. Zatočen u snijegu\, okružen neobičnom paletom likova koji su svi odlučili putovati baš danas\, Poirot ipak mora otkriti igru i riješiti slučaj\, gdje su svi dokazni materijali rasprostranjeni\, a svi putnici imaju alibi i koje se samo naizgled čini jednostavan i već riješen. \nSuigra koju Hercule Poirot s putnicima vlaka inteligentno vodi i gradi od naizgled banalnih pitanja Zašto danas? i zapažanja\, svojom nevjerojatnom sposobnošću čitanja ljudi i situacija ono je što gradi  kazališnu napetost ove predstave. Tako Poirotova igra\, odgonetavanje njegovih malih sivih stanica svaki put fascinira\, iako su nam krivac i priča možda već i poznati. \n  \nUBOJSTVO U ORIENT EXPRESSU\n© 2016 Agatha Christie Limited & Ken Ludwig\nSva prava pridržana.\nadaptirano prema\nUbojstvo u Orient Expressu\n© 1934 Agatha Christie Limited\nSva prava pridržana. \n  \nPrevoditeljica: Kristina Kegljen\nRedateljica: Sara Stanić Blažević\nDramaturginja: Mirna Rustemović\nScenski pokret: Natalija Manojlović\nScenografkinja: Petra Poslek\nKostimografkinja: Matea Japec\nGlazba: Rade Sklopić\nAutor video projekcija: Miro Manojlović\nOblikovatelj svjetla: Luka Matić \n  \nIgraju:\nHercule Poirot – Damir Poljičak\nGospodin Bouc – Marko Makovičić\nMary Debenham – Josipa Anković\nPrinceza Dragimirov – Elizabeta Kukić\nGospođa Hubbard – Tanja Smoje\nGreta Ohlsson – Ana Maras Harmander\nPukovnik Arbuthnot – Josip Brakus\nGrofica Andrenyi – Ornela Vištica\nGrof Andrenyi – Matija Šakoronja\nPodvornik kola – Luka Petrušić\nGospođa Ratchett – Mia Begović \nPopusti na grupne posjete (10 i više osoba)\nProdaja na tel. 01/4833 645\, 01/4833 646
URL:https://planforculture.com/event/gsk-kerempuh-ubojstvo-u-orient-expressu-38/
LOCATION:Satiričko kazalište Kerempuh\, Prolaz Fadila Hadžića 7\, Zagreb\, Croatia (Local Name: Hrvatska)
CATEGORIES:THEATER
ATTACH;FMTTYPE=image/jpeg:https://planforculture.com/wp-content/uploads/2026/01/Ubojstvo-u-Orient-Expressu.jpg
ORGANIZER;CN="Satiri%C4%8Dko%20kazali%C5%A1te%20Kerempuh":MAILTO:blagajna@kerempuh.hr
END:VEVENT
END:VCALENDAR