BEGIN:VCALENDAR
VERSION:2.0
PRODID:-//PLAN FOR CULTURE - ECPv6.0.6//NONSGML v1.0//EN
CALSCALE:GREGORIAN
METHOD:PUBLISH
X-ORIGINAL-URL:https://planforculture.com
X-WR-CALDESC:Events for PLAN FOR CULTURE
REFRESH-INTERVAL;VALUE=DURATION:PT1H
X-Robots-Tag:noindex
X-PUBLISHED-TTL:PT1H
BEGIN:VTIMEZONE
TZID:Europe/Zagreb
BEGIN:DAYLIGHT
TZOFFSETFROM:+0100
TZOFFSETTO:+0200
TZNAME:CEST
DTSTART:20230326T010000
END:DAYLIGHT
BEGIN:STANDARD
TZOFFSETFROM:+0200
TZOFFSETTO:+0100
TZNAME:CET
DTSTART:20231029T010000
END:STANDARD
END:VTIMEZONE
BEGIN:VEVENT
DTSTART;TZID=Europe/Zagreb:20230627T180000
DTEND;TZID=Europe/Zagreb:20230627T180000
DTSTAMP:20260420T081221
CREATED:20230515T121949Z
LAST-MODIFIED:20230525T083241Z
UID:10000004-1687888800-1687888800@planforculture.com
SUMMARY:Pritzker Winners for Oris 25
DESCRIPTION:This year Oris is celebrating 25 years since its establishment\, and\, in celebration of this jubilee\, has set to organize an exhibition Pritzker Winners for Oris 25. \nA collective exhibition of Pritzker Prize laureates who were\, during the last 25 years\, guests of Oris\, speakers at the Days of Oris Festival\, or whose work Oris had the pleasure of presenting through articles and interviews in Oris magazine\, and/or through exhibitions in Oris House of Architecture. \nThe opening of the exhibition Pritzker Winners for Oris 25  will be on 27 June 2023 at 6 p.m. \nThe exhibition is comprised of the following architects and their work: Luis Barragán\, Richard Meier\, Hans Hollein\, Gottfried Böhm\, Frank Gehry\, Álvaro Siza\, Christian de Portzamparc\, Tadao Ando\, Sverre Fehn\, Renzo Piano\, Norman Foster\, Herzog & de Meuron\, Glenn Murcutt\, Zaha Hadid\, Jean Nouvel\, Ryue Nishizawa\, Kazujo Sejima\, Toyo Ito\, Shigeru Ban\, Alejandro Aravena\, RCR Arquitectes\, Balkrishna Doshi\, Grafton Architects\, Lacaton & Vassal\, David Chipperfield. \nThe exhibition will remain on view until 9 September 2023.
URL:https://planforculture.com/event/1284/
LOCATION:Oris House of Architecture\, Kralja Držislava 3\, Zagreb\, 10 000\, Croatia (Local Name: Hrvatska)
CATEGORIES:ARCHITECTURE,EXHIBITION
ATTACH;FMTTYPE=image/jpeg:https://planforculture.com/wp-content/uploads/2023/05/Message-from-Toyo-Ito_page-0001-scaled.jpg
ORGANIZER;CN="Oris%20House%20of%20Architecture":MAILTO:oris@oris.hr
END:VEVENT
BEGIN:VEVENT
DTSTART;TZID=Europe/Zagreb:20230619T190000
DTEND;TZID=Europe/Zagreb:20230619T220000
DTSTAMP:20260420T081221
CREATED:20230731T172255Z
LAST-MODIFIED:20230731T173532Z
UID:10000030-1687201200-1687212000@planforculture.com
SUMMARY:BLAŽ BUDJA: TR3 SKETCHES
DESCRIPTION:Opening of the exhibition: selected sketches of Edvard Ravnikar’s building TR3 by the architect Blaž Budja\, created in 2022 and 2023
URL:https://planforculture.com/event/blaz-budja-skice-tr3/
LOCATION:galerija DESSA\, Židovska steza 4\, Ljubljana\, 1000\, Slovenia
CATEGORIES:ARCHITECTURE
ATTACH;FMTTYPE=image/png:https://planforculture.com/wp-content/uploads/2023/07/DESSA_LOGO-1-long.png
ORGANIZER;CN="DESSA%20gallery":MAILTO:galerija@dessa.si
END:VEVENT
END:VCALENDAR