BEGIN:VCALENDAR
VERSION:2.0
PRODID:-//PLAN FOR CULTURE - ECPv6.0.6//NONSGML v1.0//EN
CALSCALE:GREGORIAN
METHOD:PUBLISH
X-WR-CALNAME:PLAN FOR CULTURE
X-ORIGINAL-URL:https://planforculture.com
X-WR-CALDESC:Events for PLAN FOR CULTURE
REFRESH-INTERVAL;VALUE=DURATION:PT1H
X-Robots-Tag:noindex
X-PUBLISHED-TTL:PT1H
BEGIN:VTIMEZONE
TZID:Europe/Zagreb
BEGIN:DAYLIGHT
TZOFFSETFROM:+0100
TZOFFSETTO:+0200
TZNAME:CEST
DTSTART:20230326T010000
END:DAYLIGHT
BEGIN:STANDARD
TZOFFSETFROM:+0200
TZOFFSETTO:+0100
TZNAME:CET
DTSTART:20231029T010000
END:STANDARD
END:VTIMEZONE
BEGIN:VEVENT
DTSTART;TZID=Europe/Zagreb:20231009T200000
DTEND;TZID=Europe/Zagreb:20231009T213000
DTSTAMP:20260421T165951
CREATED:20230922T122347Z
LAST-MODIFIED:20230922T122633Z
UID:10000060-1696881600-1696887000@planforculture.com
SUMMARY:Koncertni ciklus Cantus Ansambla
DESCRIPTION:Ka-Ge-eN-eM + Ce-A-Ha-De-eS = NEW MUSIC!\n\nKoncertni ciklus Cantus Ansambla 2023./2024.\n9. 10. 2023.\, ponedjeljak\, Mala dvorana KD Vatroslava Lisinskog\, 20.00 sati\n\ngost-ansambl „KGNM-a“ – „UDRUŽENJE ZA NOVU GLAZBU GRADA KOELNA“ (Njemačka)\nCantus Ansambl\nBerislav Šipuš\, dirigent\n\n\n\nProgram:\n\nMagdalena Buchwald\, Syrinx II\, KGNM\nIgor C. Silva\, We Live In A Bubble – Solo-Trio Verena Barié\, ALina Loewenich\, Francesco Marzano\, KGNM\nZlatko Tanodi\, Kiborg\, Cantus Ansambl\nGeorg Heike\, Stimmungen\, KGNM\nAnne La Berge\, Conduits\, KGNM\nDavid Batinić\, Echoes of alienation*\, Cantus Ansambl i KGNM\nJohn Hawkins\, Divisibility\, Cantus Ansambl i KGNM\n\n\nUlaznice su u prodaji na blagajni dvorane Lisinski\, kao i u sustavu ulaznice.hr.
URL:https://planforculture.com/event/koncertni-ciklus-cantus-ansambla/
LOCATION:Mala dvorana KD Vatroslava Lisinskog\, Trg Stjepana Radića 4\, Zagreb
CATEGORIES:CONCERT
ATTACH;FMTTYPE=image/jpeg:https://planforculture.com/wp-content/uploads/2023/09/CAfoto-page0001-1.jpg
END:VEVENT
BEGIN:VEVENT
DTSTART;TZID=Europe/Zagreb:20231010T190000
DTEND;TZID=Europe/Zagreb:20231010T220000
DTSTAMP:20260421T165951
CREATED:20230908T153016Z
LAST-MODIFIED:20230921T072331Z
UID:10000041-1696964400-1696975200@planforculture.com
SUMMARY:Marina Šafarić\, Fotografski atelijer u dvorištu Ilice br.8\, otvorenje izložbe
DESCRIPTION:Galerija Modulor\, Centar za kulturu Trešnjevka\, Park Stara Trešnjevka 1\, Zagreb \nFotografski atelijer u dvorištu Ilice br. 8 jednokatno je samostojeće zdanje iz 1894. godine koje potpisuju Hönigsberg i Deutsch. Objekt je to koji je za fotoatelijerske svrhe služio nekolicini najproduktivnijih i najznačajnijih fotografa Hrvatske – prvo Rudolfa Mosingera\, zatim Franje Mosingera\, a onda i Foto Tonke. Portretne fotografije nastale u ostakljenom atelijeru na prvom katu\, svjedoče o atelijeru kao važnom mjestu okupljanja intelektualne javnosti. \nPrezentiranjem povijesti i izvorne funkcije fotografskog atelijera u dvorištu Ilice br. 8 na vrlo djelotvoran način osvijestila bi se i očuvala specifična kulturno-društvena situacija potaknuta razvojem fotografskih tehnika i otvaranjem prostora namijenjenih fotografskom portretiranju – fotografskih atelijera. Cilj ove izložbe je potaknuti na razmišljanje i uzimanje u obzir fotografskog atelijera u dvorištu Ilice 8 te tako potaknuti razvoj daljnje komunikacije i moguće zaštite ovog još uvijek postojećeg\, pomalo zaboravljenog\, a toliko važnog primjera. \nIzložba traje do 3.11. 2023. \n17.10. 2023. u 18 sati autorica će održati vodstvo za građane kroz izložbu. \nVodstvo je dio programa Artupunkutura u organizaciji Turističke zajednice grada Zagreba\, kao i dio zbivaja Trešnjevka se budi #4.
URL:https://planforculture.com/event/marina-safaric-otvorenje-izlozbe-fotografski-atelijer-u-dvoristu-ilice-br-8/
LOCATION:Galerija Modulor\, Park Stara Trešnjevka 1\, Zagreb\, Grad Zagreb\, 10000\, Croatia (Local Name: Hrvatska)
CATEGORIES:EXHIBITION
ATTACH;FMTTYPE=image/jpeg:https://planforculture.com/wp-content/uploads/2023/09/Izlozba-Fotografski-atelijer-scaled.jpg
ORGANIZER;CN="galerija%20Modulor":MAILTO:modulor@cekate.hr
END:VEVENT
BEGIN:VEVENT
DTSTART;TZID=Europe/Zagreb:20231010T193000
DTEND;TZID=Europe/Zagreb:20231010T193000
DTSTAMP:20260421T165951
CREATED:20231009T175331Z
LAST-MODIFIED:20231009T175331Z
UID:10000083-1696966200-1696966200@planforculture.com
SUMMARY:ISPIT ZRELOSTI 1.0 10 godina poslije
DESCRIPTION:Izložba foto odjela Škole primijenjene umjetnosti i dizajna
URL:https://planforculture.com/event/ispit-zrelosti-1-0-10-godina-poslije/
LOCATION:Foto klub Zagreb\, Ilica 29/III\, Zagreb\, 10000\, Croatia (Local Name: Hrvatska)
ATTACH;FMTTYPE=image/jpeg:https://planforculture.com/wp-content/uploads/2023/10/Screenshot_20231009_191653_Facebook.jpg
END:VEVENT
BEGIN:VEVENT
DTSTART;TZID=Europe/Zagreb:20231011T183000
DTEND;TZID=Europe/Zagreb:20231011T200000
DTSTAMP:20260421T165951
CREATED:20231003T133125Z
LAST-MODIFIED:20231003T134918Z
UID:10000072-1697049000-1697054400@planforculture.com
SUMMARY:Promocija romana Eliasa Hirschka: Zlatni dečko (Leykam International\, 2023.)
DESCRIPTION:U Knjižnici Marije Jurić Zagorke održat će se promocija knjige Zlatni dečko autora Eliasa Hirschla\, u prijevodu Stjepanke Pranjković. Knjigu će predstaviti Eugenia i Juergen Ehgartner\, voditeljica programa i direktor izdavačke kuće Leykam International. Izdanje ove knjige je dio većeg napora izdavača da se hrvatskoj publici približe djela austrijskih autora.
URL:https://planforculture.com/event/predstavljanje-romana-eliasa-hirschka-zlatni-decko-leykam-international-2023/
LOCATION:Knjižnica Marije Jurić Zagorke\, Krvavi most 2\, Zagreb\, Croatia (Local Name: Hrvatska)
CATEGORIES:LITERATURE
ORGANIZER;CN="Knji%C5%BEnica%20Marije%20Juri%C4%87%20Zagorke":MAILTO:knjiznica.m.j.zagorke@kgz.hr
END:VEVENT
BEGIN:VEVENT
DTSTART;TZID=Europe/Zagreb:20231011T190000
DTEND;TZID=Europe/Zagreb:20231011T200000
DTSTAMP:20260421T165951
CREATED:20231011T070614Z
LAST-MODIFIED:20231011T073635Z
UID:10000086-1697050800-1697054400@planforculture.com
SUMMARY:Glowing Globe: Changes and Challenges\, izložba
DESCRIPTION:Otvorenje izložbe 7.10. u 19 sati u Galeriji Kortil\, Strossmayerova 1\, Rijeka. \nGlowing Globe je međunarodna manifestacija inovativnog i edukativnog programa koji istražuje pojmove i fenomene post digitalne kulture\, što je posebno aktualno u suvremenoj umjetnosti i društvu. Ove godine izložba u Kortilu istražuje temu Changes and Challenges. \nUmjetnička djela koja će biti prikazana otvaraju pitanja i osvještavaju nestabilne pozicije u suvremenom društvu koje se neprestano mijenja pod utjecajem raznih kriza (klimatske\, zdravstvene\, ekonomske\, ratne). Izložba želi istražiti na koji se način i kako skup suvremenih problema reflektira u inovativnim umjetničkim praksama te koji su aktualni umjetnički narativi mogući odgovori na globalne krize. \nRadovi koji će biti predstavljeni na izložbi odnose se na digitalnu umjetnost kao što su 2D digitalni i 3D printevi i skulpture\, 360 video\, video animacija\, virtualna i proširena stvarnost\, zvučna umjetnost i suvremeni performans. \nU Kortilu izlažu: Jonas Blume\, Alex Brajković\, Gabriel Hensche\, Joanna Hoffmann\, Martina Menegon\, Lauren Moffatt / Nika Rukavina i Michaela Strumberger. \nIzložba je otvorena do 25.10.2023.\, radnim danom od 10 do 13 i od 17 do 20 sati\, te subotom od 10 do 13 sati. \n 
URL:https://planforculture.com/event/glowing-globe-changes-and-challenges/
LOCATION:Galerija Kortil\, Strossmayerova 1\, Rijeka\, Primorsko-goranska županija\, 51000\, Croatia (Local Name: Hrvatska)
CATEGORIES:EXHIBITION
ATTACH;FMTTYPE=image/jpeg:https://planforculture.com/wp-content/uploads/2023/10/glowing-globe-changes-and-challenges.jpg
ORGANIZER;CN="Hrvatski%20kulturni%20dom%20na%20Su%C5%A1aku":MAILTO:press@hkd-rijeka.hr
END:VEVENT
BEGIN:VEVENT
DTSTART;TZID=Europe/Zagreb:20231013T160000
DTEND;TZID=Europe/Zagreb:20231013T220000
DTSTAMP:20260421T165951
CREATED:20231005T135848Z
LAST-MODIFIED:20231005T150810Z
UID:10000080-1697212800-1697234400@planforculture.com
SUMMARY:Trešnjevka se budi #4! / Artupunktura
DESCRIPTION:Drugi dio akcije “Trešnjevka se budi! #4” koja će se održati od 13. do  20. listopada 2023. u CeKaTe-u\, Parku Stara Trešnjevka i Tratinskoj ulici dio je trećeg izdanja Artupunkture – Zagreb Art Platforme. Kroz izložbe\, radionice\, foto-buvljak\, tematsku šetnju po kvartu i razgovore s nekima od poznatih Trešnjevčana potaknut ćemo svjesnost o karakteru Trešnjevke kao kvarta koji uspješno spaja staro i novo.\n\nArtupunktura\, jedinstveni projekt Turističke zajednice grada Zagreba i partnera\, predstavlja platformu za kulturu i umjetnost koja objedinjuje brojna umjetnička događanja i kulturne projekte tijekom jeseni u Zagrebu. Zajedničkim umjetničkim djelovanjem brojnih umjetničkih organizacija\, kolektiva i umjetnika na specifičnim točkama grada\, želi se probuditi njegova vitalna energija i dodatno potaknuti kulturna ponuda te\, tako\, pozicionirati grad Zagreb kao kreativno središte i odredište urbane i suvremene kulturne scene ovog dijela Europe.\n\nPROGRAM: \n\n13.10.2023. (petak) \n\n16:00-20:00 (Park Stara Trešnjevka): Buvljak fotografske opreme\,\n16:00-20:00 (Park Stara Trešnjevka): Kolektiv Radiona\n16:00-22:00 (galerija Modulor u sklopu CeKaTe-a): Izložba Marine Šafarić “Fotografski atelijer u dvorištu Ilice br.8”\n17:00-18:00 (Park Stara Trešnjevka): Predstavljanje nove knjige autora Zorana Jurića\, vlasnika antikvarijata iz Tratinske\n18:00-20:00: “Iščezli trešnjevački potoci”\, šetnja tragom danas nevidljivih trešnjevačkih potoka (Kuniščak\, Jelenovac\, Kraljevec) po središtu Trešnjevke\, voditelj Vanja Radovanović. Polazak je u 18:00 sa Trešnjevačkog trga\, ispred cvjećarnice\n19:00-22:00 (Mala galerija CeKaTe-a): “Otvoreni atelje“\, autorica je Gordana Bakić\n\n\n\n16.10. – 20.10.2023. (ponedjeljak – petak)\n\nIzložba starih fotografija u izlozima lokala uzduž Tratinske ulice\, vlasnica fotografija je stanovnica Trešnjevke\, umjetnica Gordana Bakić \nNAT-Iva bodywork centar ( Tratinska 44) podržava akciju svojim aktivnostima \n10:00-20:00 (galerija Modulor u sklopu CeKaTe-a): Izložba Marine Šafarić “Fotografski atelijer u dvorištu Ilice br.8”\n18:00 Program kvartovskih razgovora u Caffe baru Teatar (Tratinska 66) \n17.10.2023. (utorak) \n\n18:00 (galerija Modulor u sklopu CeKaTe-a): Vodstvo kroz izložbu Marine Šafarić “Fotografski atelijer u dvorištu Ilice br.8”\n\n \n“Trešnjevka se budi #4!” je akcija Centra za kulturu Trešnjevka i njegovog projekta “Mapiranje  Trešnjevke”\, a realizira se uz financijsku potporu Turističke zajednice grada Zagreba i Gradskog ureda za kulturu i civilno društvo.
URL:https://planforculture.com/event/tresnjevka-se-budi-4-artupunktura/
LOCATION:Centar za kulturu Trešnjevka\, Park Stara Trešnjevka 1\, Zagreb\, Grad Zagreb\, 10000
CATEGORIES:EXHIBITION
ATTACH;FMTTYPE=image/png:https://planforculture.com/wp-content/uploads/2023/10/TSB-i-artupunktura.png
ORGANIZER;CN="Centar%20za%20kulturu%20Tre%C5%A1njevka":MAILTO:info@cekate.hr
END:VEVENT
BEGIN:VEVENT
DTSTART;TZID=Europe/Zagreb:20231013T170000
DTEND;TZID=Europe/Zagreb:20231013T170000
DTSTAMP:20260421T165951
CREATED:20231010T153847Z
LAST-MODIFIED:20231010T153847Z
UID:10000085-1697216400-1697216400@planforculture.com
SUMMARY:ASAP TALKS #11 | INVESTITORI I ARHITEKTURA: stvarnost i predrasude
DESCRIPTION:StartIT centar\, Savska 5\, Beograd \nINVESTITORI I ARHITEKTURA: \nstvarnost i predrasude \nKako je uopšte kreiran termin “investitorska arhitektura” i zašto u javnom govoru nosi negativnu konotaciju. Da li svi investitori zaslužuju ovakav odnos javnosti i u kojoj meri je prethodna decenija uticala na trenutne odnose na tržištu kapitala i kreativnih usluga. \nDa li nam upravo ovakvi odnosi daju priliku da redefinišemo prirodu arhitektonskih usluga\, te da ih poboljšamo i proširimo stvarajući time novu društvenu vrednost \nNa ova i mnoga druga pitanja i teme tokom ASAP TALKS #11govoriće: \nDr Ljiljana Blagojević\, arhitektinja\nNebojša Nešovanović\, senior direktor i Rukovodilac odeljenja procene\, CBRE d.o.o. @cbre_see\nArh Bojan Zabukovec\, osnivač i suvlasnik preduzeća ZAP d.o.o.\n@zapdoobelgrade\nModerator: Vladimir Đorić\, partner\, ZABRISKIE\, Predsednik UO ASAP @zabriskie.rs
URL:https://planforculture.com/event/asap-talks-11-investitori-i-arhitektura-stvarnost-i-predrasude/
LOCATION:StartIT centar\, Savska 5\,\, Belgrade\, Serbia
CATEGORIES:ARCHITECTURE
ATTACH;FMTTYPE=image/png:https://planforculture.com/wp-content/uploads/2023/10/TALKS-11-IG-ispravka.png
ORGANIZER;CN="ASAP%20-%20Association%20of%20Serbian%20Architectural%20Practices":MAILTO:contact@asap.org.rs
END:VEVENT
BEGIN:VEVENT
DTSTART;TZID=Europe/Zagreb:20231013T170000
DTEND;TZID=Europe/Zagreb:20231013T190000
DTSTAMP:20260421T165951
CREATED:20231023T082027Z
LAST-MODIFIED:20231025T115018Z
UID:10000098-1697216400-1697223600@planforculture.com
SUMMARY:Ivana Franke: “Resonance of the Unforeseen”
DESCRIPTION:Na Zrinjevcu je postavljena zagrebačka inačica svjetski priznate instalacije Ivane Franke „Resonance of the Unforeseen“ \nGlazbeni paviljon iz 1891. godine\, smješten u samom središtu jednog od najreprezentativnijih parkova u Hrvatskoj\, u zagrebačkom Zrinjevcu\, javnosti služi za društvena okupljanja\, kulturne događaje i fotografiranje. Slika glazbenog paviljona duboko je ukorijenjena u sjećanju i svakodnevnom životu građana. Međutim\, takav vizualno snažan toponim iznenada je skriven i pristup mu je onemogućen. \nSite-specific instalacijom Rezonanca nepredviđenog\, Ivana Franke postavlja pitanja koncepta javnog sjećanja i granica vizualne stvarnosti\, pretvarajući glazbeni paviljon u javnu tajnu i dodajući mu novo značenje. Izdaleka\, prividno čvrsta struktura sive boje nije ništa takvo – zapravo je to mreža s crtežom vertikalnih crno-bijelih pruga\, a materijal se miče čak i pri najmanjem vjetru. Kako posjetitelj prilazi instalaciji\, primjećuje suptilan moiré efekt\, a prividna čvrstoća instalacije nestaje. Franke reagira na dobro poznati izgled i kolektivno sjećanje – ono što se dosad pamti kao glazbeni paviljon nije nestalo na mjesec dana – prisutan je u sjećanju cijelo vrijeme. Nakon ove izložbe\, javnost će percipirati dobro poznati toponim paviljona iz dvije perspektive. \nInstalacija je prvotno postavljena na pročelju Muzeja umjetnosti u Yokohami\, u sklopu izložbe Afterglow\, Yokohama Trijenale 2020. \nOrganizator izložbe je LAUBA – Kuća za ljude i umjetnost. Prostorna instalacija Ivane Franke dio je Zagreb art platforme Artupunktura\, projekta Turističke zajednice grada Zagreba. \nProjekt su podržali: Turistička zajednica grada Zagreba\, Javna ustanova Maksimir\, Podružnica Zrinjevac Zagrebačkog holdinga i Zavod za zaštitu spomenika kulture i prirode. \nSuradnici: arhitektica Saša Košuta\, konzultant za konstrukciju Ivan Palijan\, geodetske izmjere Marko Bašić / Urbane ideje\, statički elaborat Luka Božić\, projekt konstrukcije skele Nedjeljko Čular / Agram\, Tomislav Radotović / PERI oplate i skele\, tekstilna arhitektura Martin Sumpor\, Krešo Lončarić / Belina\, montaža Hrvoje Drkelić\, Ivica Božić\, Marin Kokorić\, Ivan Macukić\, Zvonko Čabrić/ Kolonija\, Tomislav Kličko\, kustosica Marina Šafarić\, Matko Burić\, Andrea Turić\, Mario Bratković\, Fran Rupčić / Lauba \nU petak\, 13. listopada\, u 17:00 sati svečano je otvorena umjetnička instalacija „Resonance of the Unforeseen“\, postavljena oko glazbenog paviljona na Zrinjevcu. Instalaciju na Zrinjevcu možete vidjeti do 12. studenoga 2023. godine.
URL:https://planforculture.com/event/ivana-franke-resonance-of-the-unforeseen/
LOCATION:Zrinjevac\, Nikola Šubić Zrinski Square\, Zagreb\, 10000\, Croatia (Local Name: Hrvatska)
CATEGORIES:EXHIBITION
ATTACH;FMTTYPE=image/jpeg:https://planforculture.com/wp-content/uploads/2023/10/ZFR37891.jpg
ORGANIZER;CN="Lauba%20-%20Ku%C4%87a%20za%20ljude%20i%20umjetnost":MAILTO:info@lauba.hr
END:VEVENT
BEGIN:VEVENT
DTSTART;TZID=Europe/Zagreb:20231013T183000
DTEND;TZID=Europe/Zagreb:20231013T200000
DTSTAMP:20260421T165951
CREATED:20231010T135704Z
LAST-MODIFIED:20231010T135704Z
UID:10000084-1697221800-1697227200@planforculture.com
SUMMARY:Promocija romana Anđelke Kliment: Ubojstva na Krvavom mostu (Beletra\, 2023.)
DESCRIPTION:Forenzičarka sa Srebrnjaka Irma Steeg i zagrebački policijski inspektor Borna Herman istražuju ubojstva na Krvavom mostu u drugom cosy krimiću Anđelke Kliment. Posveta Zagorki\, zagrebačke vedute\, restorani\, trgovi i parkovi pozornica su novog krimića hrvatske Agathe Christie. \nRoman „Ubojstva na Krvavom mostu“ predstavljaju autorica Anđelka Kliment i urednica Anika Rešetar Drvar. Moderira Sandra Pocrnić Mlakar.
URL:https://planforculture.com/event/promocija-romana-andelke-kliment-ubojstva-na-krvavom-mostu-beletra-2023/
LOCATION:Knjižnica Marije Jurić Zagorke\, Krvavi most 2\, Zagreb\, Croatia (Local Name: Hrvatska)
CATEGORIES:LITERATURE
ATTACH;FMTTYPE=image/jpeg:https://planforculture.com/wp-content/uploads/2023/10/UBOJSTVA-NA-KRVAVOM-MOSTU-978-953-8209-50-5-1.jpg
ORGANIZER;CN="Knji%C5%BEnica%20Marije%20Juri%C4%87%20Zagorke":MAILTO:knjiznica.m.j.zagorke@kgz.hr
END:VEVENT
BEGIN:VEVENT
DTSTART;TZID=Europe/Zagreb:20231014T170000
DTEND;TZID=Europe/Zagreb:20231014T210000
DTSTAMP:20260421T165951
CREATED:20231014T102656Z
LAST-MODIFIED:20231014T103339Z
UID:10000092-1697302800-1697317200@planforculture.com
SUMMARY:Promocija knjige Florin dom: Flora Jakšić i uloga njezina atelijera
DESCRIPTION:Hrvatsko društvo likovnih umjetnika Dubrovnik ove godine slavi stotinu godina od izgradnje Florina doma i sa zadovoljstvom Vas poziva na promociju knjige Florin dom: Flora Jakšić i uloga njezina atelijera koja će se održati  u subotu 14. listopada 2023. u 17 sati u Florinu vrtu. \nSudjeluju: Dorinda Bulić-Čotić\, Ivana Pegan Baće. Ivan Viđen\, Rozana Vojvoda\, Lucija Vuković i Sanja Žaja Vrbica \nHrvatsko društvo likovnih umjetnika Dubrovnik sedamdeset godina kontinuirano djeluje u zgradi Florina doma u Lapadu\, ostavštini slikarice Flore Jakšić rođ. Marinović (1856.–1943.). Ona je daleke 1931. godine „svoj marom sagrađen dom” – atelijer oporučno ostavila umjetnicima da u njemu slobodno priređuju samostalne i skupne izložbe\, da se u njemu sastaju\, stvaraju i djeluju. \nIstraživački projekt Hrvatskog društva likovnih umjetnika Dubrovnik Florin dom: Flora Jakšić i uloga njezina atelijera započeo je uključivanjem više povjesničarki i povjesničara umjetnosti (Antun Baće\, Ivan Viđen\, Lucija Vuković\, Sanja Žaja Vrbica)\, koji su istražili\npojedine segmente slikaričina života i rada te ulogu njezina atelijera u kulturnom životu Dubrovnika tijekom proteklog stoljeća. Projekt je okrunjen izdavanjem publikacije u kojoj se\, iz različitih perspektiva\, govori o bogatoj i zanimljivoj biografiji slikarice i pokroviteljice umjetnosti\, o konceptu i konačnoj realizaciji Florina atelijera te naposljetku o umjetničkoj i kulturnoj klimi onodobnog Dubrovnika. \nKnjiga sadrži sljedeća poglavlja: \nIvan Viđen\, Gospođa Flore iz vale od Lapada\nSanja Žaja Vrbica\, Flora Jakšić– slikarica i čuvarica lapadske uvale\nAntun Baće–Lucija Vuković\, Florin dom–nastanak\, arhitektura i značaj slikaričina atelijera\nDorinda Bulić Čotić\, Florin dom–dom Hrvatskoga društva likovnih umjetnika Dubrovnik \nIvana Pegan Baće\, Moja oporuka –Ja Flora. Recentno djelovanje Galerije Flora (2014.–2021.) \n  \nUrednik publikacije je Ivan Viđen\, ujedno i autor kazala\, recenzentice su Irena Kraševac i Rozana Vojvoda\,  grafičko oblikovanje potpisuje đkc/ Zoran Đukić\, autorica prijevoda sažetaka na engleski jezik je Lidija Toman\, a lektorica je Mariela Marković. Knjiga je tiskana u tiskari Kerschoffset d.o.o. u Zagrebu.\nIstraživanja i tisak knjige sufinancirao je Upravni odjel za kulturu i baštinu Grada Dubrovnika.
URL:https://planforculture.com/event/promocija-knjige-florin-dom-flora-jaksic-i-uloga-njezina-atelijera/
LOCATION:HDLUDU\, Šetalište kralja Zvonimira 32\, Dubrovnik
CATEGORIES:LITERATURE
ATTACH;FMTTYPE=image/jpeg:https://planforculture.com/wp-content/uploads/2023/10/Floraknjiga-plakat-01-1-scaled.jpg
ORGANIZER;CN="Hrvatsko%20dru%C5%A1tvo%20likovnih%20umjetnika%20Dubrovnik":MAILTO:hdludubrovnik@gmail.com
END:VEVENT
BEGIN:VEVENT
DTSTART;TZID=Europe/Zagreb:20231014T170000
DTEND;TZID=Europe/Zagreb:20231014T220000
DTSTAMP:20260421T165951
CREATED:20230914T101012Z
LAST-MODIFIED:20230914T101012Z
UID:10000044-1697302800-1697320800@planforculture.com
SUMMARY:9. Reli po galerijama
DESCRIPTION:Deveti Reli po galerijama posjetitelje vodi kroz kulturnu i galerijsku scenu grada Zagreba i potiče na istraživanje umjetničkih prostora i upoznavanje lokalnih umjetnika. \nReli po galerijama interaktivna je kulturna manifestacija koja okuplja umjetničke galerije u centru grada Zagreba i stvara jedinstvenu umjetničku urbanu mapu. Događanjem se u središte pozornosti stavljaju lokalni umjetnici i izložbeni prostori\, a posjetitelji se potiču da u jednoj večeri obiđu što više galerija. Posjetitelji u prvoj galeriji dobivaju mapu pa u svakoj sljedećoj galeriji nastavljaju skupljati oznake. Oni koji uspiju posjetiti sve galerije osvajaju simboličnu diplomu za poseban doprinos kulturi. Galerije će u subotu 14. listopada 2023. u produženom radnom vremenu od 17:00 do 22:00 ponuditi posebne programe koji uključuju otvorenja novih izložbi i vođenje na izložbama. Posjetitelji će u jednoj večeri imati priliku vidjeti više izložbi nego bilo koji drugi dan u godini. U ovogodišnjem Reliju po galerijama sudjeluje jedanaest galerija koje posjetiteljima nude mnoštvo privlačnih i poticajnih vizualnih promišljanja.
URL:https://planforculture.com/event/9-reli-po-galerijama-2/
ATTACH;FMTTYPE=image/png:https://planforculture.com/wp-content/uploads/2023/09/rpg-logo-1.png
ORGANIZER;CN="Udruga%20za%20poticanje%20kreativnosti%20Atanor":MAILTO:udruga.atanor@gmail.com
END:VEVENT
END:VCALENDAR