BEGIN:VCALENDAR
VERSION:2.0
PRODID:-//PLAN FOR CULTURE - ECPv6.0.6//NONSGML v1.0//EN
CALSCALE:GREGORIAN
METHOD:PUBLISH
X-ORIGINAL-URL:https://planforculture.com
X-WR-CALDESC:Events for PLAN FOR CULTURE
REFRESH-INTERVAL;VALUE=DURATION:PT1H
X-Robots-Tag:noindex
X-PUBLISHED-TTL:PT1H
BEGIN:VTIMEZONE
TZID:Europe/Zagreb
BEGIN:DAYLIGHT
TZOFFSETFROM:+0100
TZOFFSETTO:+0200
TZNAME:CEST
DTSTART:20240331T010000
END:DAYLIGHT
BEGIN:STANDARD
TZOFFSETFROM:+0200
TZOFFSETTO:+0100
TZNAME:CET
DTSTART:20241027T010000
END:STANDARD
END:VTIMEZONE
BEGIN:VEVENT
DTSTART;TZID=Europe/Zagreb:20240325T180000
DTEND;TZID=Europe/Zagreb:20240325T200000
DTSTAMP:20260423T184704
CREATED:20240125T133052Z
LAST-MODIFIED:20240321T144556Z
UID:10002015-1711389600-1711396800@planforculture.com
SUMMARY:Bojan Baletić - Topografija identiteta povijesne urbane cjeline grada Zagreba\, otvorenje izložbe
DESCRIPTION:U ponedjeljak\, 25. ožujka 2024. u Oris Kući arhitekture (Kralja Držislava 3) u 18 sati otvara se izložba Obnova povijesnog Zagreba: Topografija identiteta – studija br.15 Bojana Baletića. \nUvodnu riječ na otvorenju izložbe održat će Luka Korlaet\, Snješka Knežević\, Mladen Vedriš i Damir Gamulin. Autori postava izložbe\, uz Bojana Baletića\, su Damir Gamulin Gamba i Antun Sevšek u suradnji s Moranom Pap i Ivanom Palanović. \nIzložba predstavlja odabrane dijelove studije „Topografija identiteta povijesne urbane cjeline Grada Zagreba“ koja je izrađena u okviru „Programa cjelovite obnove povijesnog dijela Grada Zagreba“\, a dovršena 2023. godine. Gornji grad\, Kaptol i Donji grad prostori su nacionalnog identiteta u kojemu se nalaze ključne državne\, kulturne\, obrazovne i vjerske institucije. To je prostor koji predstavlja i međunarodno prepoznatljivi izgled glavnoga grada. On je prepoznat i kao turistička destinacija i mjesto brojnih interesantnih događanja u gradu Zagrebu. \nIstraživanje je nastojalo prepoznati i dokumentirati procese koji se trenutno odvijaju u Gradu\, odnosno njegovom povijesnom središtu. Ti će procesi trajno promijeniti izgled središta Grada i način življenja u njemu. Nužno ih je pratiti i nastojati utjecati na njih kroz kvalitetne politike. Studija je rađena sa željom da bude korištena kao podloga za stručnu i širu javnu raspravu o željenim ciljevima obnove i razvoja Zagreba. – Bojan Baletić \nU sklopu izložbe održat će se tri panela u Oris Kući arhitekture po sljedećem rasporedu: \nSrijeda 27.3.2024. u 18 sati: Program cjelovite obnove povijesnog dijela Zagreba\nSrijeda 3.4.2024. u 18 sati: Građani partneri u razvoju Grada\nUtorak 9.4.2024. u 18 sati: Aktiviranje urbanih identiteta \nIzložbu možete pogledati do srijede\, 10. travnja 2024. \nRadno vrijeme Oris Kuće arhitekture:\nPon – Pet  9-17 h\nSub  10-13 h
URL:https://planforculture.com/event/bojan-baletic-topografija-identiteta-povijesne-urbane-cjeline-grada-zagreba/
LOCATION:Oris House of Architecture\, Kralja Držislava 3\, Zagreb\, 10 000\, Croatia (Local Name: Hrvatska)
CATEGORIES:ARCHITECTURE,EXHIBITION
ATTACH;FMTTYPE=image/png:https://planforculture.com/wp-content/uploads/2024/01/TI-_600x300-statika-IIII.png
END:VEVENT
BEGIN:VEVENT
DTSTART;TZID=Europe/Zagreb:20240325T190000
DTEND;TZID=Europe/Zagreb:20240325T230000
DTSTAMP:20260423T184704
CREATED:20240319T154953Z
LAST-MODIFIED:20240319T154953Z
UID:10002061-1711393200-1711407600@planforculture.com
SUMMARY:Izložba Ljubomira Perčinlića 25/03 - 03/04/2024
DESCRIPTION:Slike zaboravljenog umjetnika\, godinama skladištene na jednom zagrebačkom tavanu\, izložit će se u Laubi. Iako zvuči kao savršeni klišej\, ova priča je zapravo istinita. Izložba Ljubomira Perčinlića otvara se 25. ožujka u 19:00 sati te će ostati otvorena do 3. travnja. \n_________________________ \nVelikom izložbom apstraktnih slika i skulptura Ljubomira Perčinlića u Laubi\, obnavlja se sjećanje na  zaboravljenog umjetnika\, otvarajući nova područja istraživanja stručnjacima. Izložbom će se predstaviti Perčinlićeve apstraktne slike nastale u rasponu od posljednjih gotovo dvadeset godina njegova života. Osim ulja na platnu i crteža\, izložit će se i skulpture\, a posjetitelji će imati priliku vidjeti gotovo pedeset Perčinlićevih radova\, većina od kojih dosad nije bila izlagana. \nLjubomir Perčinlić\, rođen 1939. godine u Zenici\, diplomirao slikarstvo 1966. na Akademiji likovnih umjetnosti u Beogradu nakon čega se vratio u Zenicu i zaposlio kao profesor likovnog odgoja u gimnaziji. Od 1975. godine predavao je na Akademiji likovnih umjetnosti u Sarajevu\, a 1992. preselio u Zagreb gdje umire 7. rujna 1998. godine. \nJoš je u ranim šezdesetim godinama krenuo prema sažimanju\, redukciji i sintezi svog umjetničkog izraza. Počevši od interpretacija bosanskog pejzaža\, istražujući prirodnu ljepotu i romantičnu povijesnu sliku\, Perčinlić je tragao za “formulom” kojom bi uhvatio suštinu krajolika. Kroz postupno reduciranje prikaza u gotovo geometrizirane forme i varijacije nježnih bijelih\, sivih i plavičastih tonova\, slikaru je konkretan motiv postao samo daleko sjećanje – inspirativno ishodište bez ikakve namjere rekonstrukcije motiva. \nU predgovoru izložbe\, Marijan Špoljar ističe: “Više od četvrt stoljeća od odlaska Ljubomira Perčinlića možda je došlo vrijeme obnove interesa za umjetnost ovog hrvatskog i bosanskohercegovačkog umjetnika. Sve je u njegovu korist već odavno načinjeno (mnogobrojne izložbe\, tekstovi najrenomiranijih kritičara\, vrijedna monografija Marijana Susovskog)\, a na nama je samo da to iznimno djelo ne pustimo pasti u zaborav\, da bijele\, ‘nevidljive’ slike ne ispare iz naše kolektivne svijesti.”
URL:https://planforculture.com/event/izlozba-ljubomira-percinlica-25-03-03-04-2024/
LOCATION:Lauba – Kuća za ljude i umjetnost\, Prilaz baruna Filipovića 23a\, Zagreb\, 10000\, Croatia (Local Name: Hrvatska)
CATEGORIES:EXHIBITION
ATTACH;FMTTYPE=image/jpeg:https://planforculture.com/wp-content/uploads/2024/03/Ljubomir-Percinlic-Bez-naziva-1981.-ulje-na-platnu-scaled.jpg
ORGANIZER;CN="Lauba%20-%20Ku%C4%87a%20za%20ljude%20i%20umjetnost":MAILTO:info@lauba.hr
END:VEVENT
BEGIN:VEVENT
DTSTART;TZID=Europe/Zagreb:20240326T080000
DTEND;TZID=Europe/Zagreb:20240326T111144
DTSTAMP:20260423T184704
CREATED:20240326T102720Z
LAST-MODIFIED:20240326T111143Z
UID:10002113-1711440000-1711451504@planforculture.com
SUMMARY:Tko smo\, gdje smo i što sve čuvamo? – PROZOR U AMZ
DESCRIPTION:PROLAZ NEBODER 10.3. – 6.9.2024.\nTko smo\, gdje smo i što sve čuvamo? prvo je i uvodno izdanje izložbenog projekta PROZOR U AMZ koje je posvećeno upoznavanju s našom zgradom\, njezinom poviješću\, ali i s tradicijom te radom stručnih odjela Arheološkog muzeja u Zagrebu. Kroz replike nekih od naših najpoznatijih nalaza\, pružamo vam pogled u stalni postav našeg Muzeja kakav je bio prije potresa 2020. godine\, osobito zbog toga što ćete ga uskoro moći vidjeti u novom ruhu.
URL:https://planforculture.com/event/tko-smo-gdje-smo-i-sto-sve-cuvamo-prozor-u-amz/
LOCATION:Prolaz neboder\, Ilica 1c\, Zagreb\, 10000\, Croatia (Local Name: Hrvatska)
CATEGORIES:EXHIBITION
ATTACH;FMTTYPE=image/png:https://planforculture.com/wp-content/uploads/2024/03/dm-crtez-procelja-Arheoloskog-muzeja-u-Zagrebu.png
ORGANIZER;CN="Arheolo%C5%A1ki%20muzej%20u%20Zagrebu":MAILTO:amz@amz.hr
END:VEVENT
BEGIN:VEVENT
DTSTART;TZID=Europe/Zagreb:20240326T080000
DTEND;TZID=Europe/Zagreb:20240326T111313
DTSTAMP:20260423T184704
CREATED:20240326T102129Z
LAST-MODIFIED:20240326T111312Z
UID:10002112-1711440000-1711451593@planforculture.com
SUMMARY:Izložba ZILIK – 50 godina
DESCRIPTION:GALERIJA AMZ 14. – 30.3.2024. \nNa izložbi retrospektivnog karaktera predstavljena je selekcija iz bogatog fundusa ZILIK-a\, koji broji preko 700 umjetnica i umjetnika i preko 2.100 radova. Izložba obuhvaća najranija djela nastala već na 1. ZILIK-u davne 1974. godine pa sve do recentnih djela nastalih na prošlogodišnjem 49. ZILIK-u. Na izložbi će biti zastupljeni i radovi najeminentnijih hrvatskih umjetnika i umjetnica XX. i XXI. stoljeća koji su ujedno bili i sudionici\, donatori i vjerni prijatelji ZILIK-a kao što su Ivan Rabuzin\, Josip Diminić\, Ivica Antolčić\, Nives Kavurić-Kurtović\, Dubravka Babić\, Marija Braut\, Edita Merle\, Vera Dajht-Kralj\, Ivo Šebalj\, Ivan Kožarić\, Mladen Veža\, Slavo Striegl\, Vasilije Josip Jordan\, Mersad Berber\, Kosta Angeli Radovani. 
URL:https://planforculture.com/event/izlozba-zilik-50-godina/
LOCATION:Galerija AMZ\, Ulica Pavla Hatza 6\, Zagreb\, 10000\, Croatia (Local Name: Hrvatska)
CATEGORIES:EXHIBITION
ATTACH;FMTTYPE=image/jpeg:https://planforculture.com/wp-content/uploads/2024/03/dm-vizual-s-natpisom-zilik-50-godina.jpg
ORGANIZER;CN="Arheolo%C5%A1ki%20muzej%20u%20Zagrebu":MAILTO:amz@amz.hr
END:VEVENT
BEGIN:VEVENT
DTSTART;TZID=Europe/Zagreb:20240326T080000
DTEND;TZID=Europe/Zagreb:20240326T111513
DTSTAMP:20260423T184704
CREATED:20240326T101540Z
LAST-MODIFIED:20240326T111512Z
UID:10002111-1711440000-1711451713@planforculture.com
SUMMARY:Izložba Segestika i Siscija – naselje s početka povijesti
DESCRIPTION:ARHEOLOŠKI MUZEJ U ZAGREBU 24.2.- 4.5.2024 \nIzložba [Segestika i Siscija – naselje s početka povijesti] vodi vas u prošlost\, u brončano doba\, kada se na kraju drugog tisućljeća prije Krista\, formira malo naselje neposredno prije ušća rijeke Kupe u Savu. Saznajte kako se to malo brončanodobno naselje preobrazilo u jedan od najvažnijih željeznodobnih centara u međuriječju Save i Drave\, a koje je u antičkim pisanim izvorima zabilježeno pod imenima Segestika i Siscija.\nDvjestotinjak arheoloških predmeta\, ilustracije i rekonstrukcije\, audio vizualni materijali dočarat će vam svakodnevni život stanovnika Segestike i Siscije\, njihovu nošnju i ratničku opremu\, prehranu\, kao i gospodarske i trgovačke aktivnosti i duhovni život.\nIzložba je otvorenja do 4. 5. 2024.\nArheološki muzej u Zagrebu
URL:https://planforculture.com/event/izlozba-segestika-i-siscija-naselje-s-pocetka-povijesti/
LOCATION:Arheološki muzej u Zagrebu\, Trg Nikole Šubića Zrinskog 19\, Zagreb\, 10000\, Croatia (Local Name: Hrvatska)
CATEGORIES:EXHIBITION
ATTACH;FMTTYPE=image/jpeg:https://planforculture.com/wp-content/uploads/2024/03/Segestika_dm_1200x1200_2024-scaled.jpg
ORGANIZER;CN="Arheolo%C5%A1ki%20muzej%20u%20Zagrebu":MAILTO:amz@amz.hr
END:VEVENT
BEGIN:VEVENT
DTSTART;TZID=Europe/Zagreb:20240326T190000
DTEND;TZID=Europe/Zagreb:20240326T210000
DTSTAMP:20260423T184704
CREATED:20240322T120201Z
LAST-MODIFIED:20240322T120201Z
UID:10002075-1711479600-1711486800@planforculture.com
SUMMARY:HNK u Osijeku: JOM KIPUR ILI POMIRENJE
DESCRIPTION:Trenutak u kojem hrvatski branitelj Josip Matijević\, dragovoljac Domovinskog rata\, ulazi u ordinaciju i odluči se provjeriti mladome psihijatru Grguru Romiću jedan je od onih prekretnih trenutaka u izboru svakog pojedinca da promijeni sebe. Josip Matijević\, ratnik koji je branio Osijek i Vukovar te preživio srpske logore\, čovjek je koji se ne može pomiriti s nepravdom\, opterećen obiteljskim nasljeđem i svakodnevnom političkom situacijom. Doktor Romić drugi je\, drugačiji\, mlad\, neiskusan\, posvojeno dijete\, nepriznat od kolega te se želi dokazati ili pobjeći. Razgovori u kojima se ne zna tko je pacijent\, a tko liječnik pokazuju svu dubinu trauma koje poput demona opsjedaju hrvatsko društvo opterećeno novim i starim podjelama\, nezaraslim ranama\, zločinom i kaznom. Vješto kombinirajući suvremenost s biblijskim motivima kazne i progona\, Jom Kipur Ivane Šojat roman je velike epske snage i duboko liričan u tragedijama pojedinaca. Kada će svanuti dan pomirbe – Jom Kipur – i trebamo li se prije njega prvo pomiriti sami sa sobom da bismo mogli pogledati druge oči\, samo su neka od pitanja koja postavlja Ivana Šojat.
URL:https://planforculture.com/event/hnk-u-osijeku-jom-kipur-ili-pomirenje/
LOCATION:HNK u Osijeku\, Županijska 9\, Osijek\, Slavonija\, 31000\, Croatia (Local Name: Hrvatska)
ATTACH;FMTTYPE=image/jpeg:https://planforculture.com/wp-content/uploads/2024/03/HNK-Jom-Kipur-ili-pomirenje-premijera-27-10-2023-R6II_0231.jpg
ORGANIZER;CN="HNK%20u%20Osijeku":MAILTO:blagajna@hnk-osijek.hr
END:VEVENT
BEGIN:VEVENT
DTSTART;TZID=Europe/Zagreb:20240327T180000
DTEND;TZID=Europe/Zagreb:20240327T200000
DTSTAMP:20260423T184704
CREATED:20240322T120355Z
LAST-MODIFIED:20240322T120355Z
UID:10002076-1711562400-1711569600@planforculture.com
SUMMARY:HNK u Osijeku: TEROR
DESCRIPTION:Koprodukcija s Hrvatskim kazalištem Pečuh \nIznimno uzbudljiva drama proslavljenog odvjetnika Ferdinanda von Schiracha priča je o sudskoj raspravi u koju se interaktivno uključuje i publika. \nLufthansin let na liniji Berlin-München otima terorist. Cilj napada je dupkom pun münchenski stadion. Lovački pilot Lars Koch za nekoliko minuta mora odlučiti hoće li oboriti zrakoplov koji prevozi 164 putnika i time spasiti sedamdeset tisuća ljudi na stadionu ili neće djelovati. Nekoliko tjedana kasnije za svoju odluku mora odgovarati pred sudom. \nKazalište se pretvara u sudnicu\, gledatelji postaju porotnici\, a kraj predstave određuju njihovi glasovi na kraju izvedbe. Postavlja se pitanje o krivici bojnika Larsa Kocha. Na pozornici se sučeljavaju razne ideje i ideologije\, pri čemu se publika mora prepustiti svojim pravnim i etičkim nazorima i prema njima glasovanjem presuditi na kraju predstave. \nNakon druge izvedbe Terora\, u četvrtak 12. siječnja u 21.15 sati održat će se okrugli stol pod nazivom “Vrijedi li žrtvovati 164 života kako bi se spasilo 70 000 života?” na kojemu će\, uz glumce i moderatoricu\, sudjelovati izvanredni profesor Pravnog fakulteta u Osijeku\, dr.sc. Zvonimir Jelinić s kojim ćemo razgovarati o širokoj temi vrijednosti i važnosti ljudskog života koja pod svoje skute povlači ne samo moral\, nego pravo i filozofiju. Izuzetno zanimljiva rasprava/razgovor sa zanimljivim\, svestranim sugovornikom.
URL:https://planforculture.com/event/hnk-u-osijeku-teror/
LOCATION:HNK u Osijeku\, Županijska 9\, Osijek\, Slavonija\, 31000\, Croatia (Local Name: Hrvatska)
ATTACH;FMTTYPE=image/jpeg:https://planforculture.com/wp-content/uploads/2024/03/309389995_785665859464721_7889239233542691767_n-1.jpg
ORGANIZER;CN="HNK%20u%20Osijeku":MAILTO:blagajna@hnk-osijek.hr
END:VEVENT
BEGIN:VEVENT
DTSTART;TZID=Europe/Zagreb:20240327T180000
DTEND;TZID=Europe/Zagreb:20240327T200000
DTSTAMP:20260423T184704
CREATED:20240325T141717Z
LAST-MODIFIED:20240325T142809Z
UID:10002108-1711562400-1711569600@planforculture.com
SUMMARY:Panel: Program cjelovite obnove povijesnog dijela Zagreba
DESCRIPTION:U ponedjeljak\, 25. ožujka 2024. u Oris Kući arhitekture (Kralja Držislava 3) u 18 sati otvara se izložba Obnova povijesnog Zagreba: Topografija identiteta – studija br.15 Bojana Baletića. Autori postava izložbe\, uz Bojana Baletića\, su Damir Gamulin Gamba i Antun Sevšek u suradnji s Moranom Pap i Ivanom Palanović. \nIzložba predstavlja odabrane dijelove studije „Topografija identiteta povijesne urbane cjeline Grada Zagreba“ koja je izrađena u okviru „Programa cjelovite obnove povijesnog dijela Grada Zagreba“\, a dovršena 2023. godine. Gornji grad\, Kaptol i Donji grad prostori su nacionalnog identiteta u kojemu se nalaze ključne državne\, kulturne\, obrazovne i vjerske institucije. To je prostor koji predstavlja i međunarodno prepoznatljivi izgled glavnoga grada. On je prepoznat i kao turistička destinacija i mjesto brojnih interesantnih događanja u gradu Zagrebu.\n                                                                                                                                                  –    Bojan Baletić \nU sklopu izložbe Obnova povijesnog Zagreba: Topografija identiteta – studija br.15 Bojana Baletića\, održat će se tri panela u Oris Kući arhitekture po sljedećem rasporedu: \nSrijeda 27.3.2024. u 18 sati: Program cjelovite obnove povijesnog dijela Zagreba\nJadranka Veselić Bruvo\, Zavod za prostorno uređenje GZ\nTihomir Jukić\, Arhitektonski fakultet SuZ\nKatarina Horvat Levaj\, Institut za povijest umjetnosti\nAnđelina Svirčić Gotovac\, Institut za društvena istraživanja\nBojan Baletić\, Arhitektonski fakultet SuZ \nSrijeda 3.4.2024. u 18 sati: Građani partneri u razvoju Grada\nRadan Spaventi\, liječnik i menadžer\, Triadelta partneri\nSilvana Menđušić\, novinarka\, Telegram.hr\nStanko Herceg\, filmski snimatelj\, Studij dizajna\, Af SuZ\nSaša Žerajić\, vlasnik Program bara\, Martićeva ulica\nBojan Baletić\, Arhitektonski fakultet SuZ\n \nUtorak 9.4.2024. u 18 sati: Aktiviranje urbanih identiteta\nLuka Korlaet\, dogradonačelnik grada Zagreba\nMartina Bienenfeld\, direktorica Turističke zajednice GZ\nIra Payer\, dizajnerica\, pokretačica DDZG\nIvana Nikolić\, dizajnerica\, pokretačica Projekt Ilica:Q’Art\nBojan Baletić\, Arhitektonski fakultet SuZ\n \nSvi paneli počinju u 18 sati. Izložbu možete pogledati do srijede\, 10. travnja 2024.
URL:https://planforculture.com/event/panel-program-cjelovite-obnove-povijesnog-dijela-zagreba/
LOCATION:Oris House of Architecture\, Kralja Držislava 3\, Zagreb\, 10 000\, Croatia (Local Name: Hrvatska)
CATEGORIES:ARCHITECTURE
ATTACH;FMTTYPE=image/png:https://planforculture.com/wp-content/uploads/2024/01/TI-_600x300-statika-IIII.png
END:VEVENT
BEGIN:VEVENT
DTSTART;TZID=Europe/Zagreb:20240327T200000
DTEND;TZID=Europe/Zagreb:20240327T213000
DTSTAMP:20260423T184704
CREATED:20240322T111820Z
LAST-MODIFIED:20240322T140418Z
UID:10002068-1711569600-1711575000@planforculture.com
SUMMARY:GDK Gavella / GSK Kerempuh: KRALJ UBU
DESCRIPTION:Autor: Alfred Jarry\nRedatelj: Miran Kurspahić\nKoprodukcija Gradskog dramskog kazališta Gavella & Gradskog satiričkog kazališta Kerempuh \nČuvena pariška praizvedba predstave Kralj Ubu 1896. godine svojom je razuzdanošću i nekonvencionalnošću publiku “zbunila i uvrijedila”. Pisac kojem su tada tek 23 godine napisao je komad od mnogih dočekan zviždanjem i zgražanjem\, ali bilo je i onih koji su\, poput velikog irskog pjesnika Yeatesa\, te večeri svjedočili “revolucionarnom događaju”. I doista\, riječ je o tekstu koji je najavio dolazak avangardnih pokreta\, od nadrealizma i dadaizma\, do kazališta apsurda\, dok je izvankazališno zavirio duboko u tamu pohepe i želje za vlašću\, time nagovijestivši i mrak(ove) totalitarizama i rat(ov)a koji će uslijediti.\nIpak\, Kralj Ubu danas bi mogao djelovati zatupljene oštrice\, barem u društvu ili dijelu svijeta trenutno pošteđenom totalitarnog vođe nalik protagonistu drame čija ambicioznost i glad premašuju njegov talent i sposobnosti.  Naš Kralj Ubu stavljen je stoga u autorski okvir i tako postaje predstava u predstavi\, originalan komad u raljama jednog omanjeg razreda pseudoprogresivne gimnazije. Među likovima u tom se razredu našao i sam Alfred Jarry\, učenik koji u inat vodstvu škole ali i razrednim kolegama za vrijeme nastave postavlja igrokaz\, ili barem pokušava. \n\nPrema prijevodu Mislava Hudoletnjaka\nAdaptacija teksta: Miran Kurspahić i Rona Žulj\nDramaturginja: Rona Žulj\nScenograf: Matija Blašković\nKostimografkinja: Danica Dedijer\nSuradnik za glazbu: Igor Jurinić\nSuradnica za scenski pokret: Matea Bilosnić\nOblikovatelj svjetla: Zdravko Stolnik\nAsistentica kostimografkinje: Dora Črnjević\nInspicijentica: Ana Dulčić\nŠaptačica na probama: Andrea Glad \nIgraju:\nAlfred Jarry – Miran Kurspahić / Marko Petrić\nFelix-Frederic Hebert\, Kralj Ubu – Borko Perić\nMonsieur Trapu\, Gluposlav – Amar Bukvić\nMonsieur Sycophant\, Kapetan Bordura: – Sven Šestak\nConchita Sausage\, Kralj Vjenceslav: – Enes Vejzović\nHenri Moron\, Boleslav\, Car Aleksej – Ranko Zidarić/Andrej Dojkić\nCharles Moron\, Ladislav\, Medvjed – Đorđe Kukuljica\nMonsieur Accessoire\, Pile – Ozren Opačić\nMbape Nganou – Josip Brakus\nMadame Cougouar\, Mama Ubu – Nela Kocsis\nMademoiselle Fakin\, Kraljica Rosamunda – Barbara Nola\nMademoiselle Vertu – Iskra Jirsak\nMonsieur Metronome – Igor Jurinić \n 
URL:https://planforculture.com/event/kralj-ubu/
LOCATION:Satiričko kazalište Kerempuh\, Prolaz Fadila Hadžića 7\, Zagreb\, Croatia (Local Name: Hrvatska)
CATEGORIES:THEATER
ATTACH;FMTTYPE=image/jpeg:https://planforculture.com/wp-content/uploads/2024/03/Kralj-Ubu.jpg
ORGANIZER;CN="Satiri%C4%8Dko%20kazali%C5%A1te%20Kerempuh":MAILTO:blagajna@kerempuh.hr
END:VEVENT
BEGIN:VEVENT
DTSTART;TZID=Europe/Zagreb:20240328T190000
DTEND;TZID=Europe/Zagreb:20240328T210000
DTSTAMP:20260423T184704
CREATED:20240322T120544Z
LAST-MODIFIED:20240322T120544Z
UID:10002077-1711652400-1711659600@planforculture.com
SUMMARY:HNK u Osijeku: TEROR
DESCRIPTION:Koprodukcija s Hrvatskim kazalištem Pečuh \nIznimno uzbudljiva drama proslavljenog odvjetnika Ferdinanda von Schiracha priča je o sudskoj raspravi u koju se interaktivno uključuje i publika. \nLufthansin let na liniji Berlin-München otima terorist. Cilj napada je dupkom pun münchenski stadion. Lovački pilot Lars Koch za nekoliko minuta mora odlučiti hoće li oboriti zrakoplov koji prevozi 164 putnika i time spasiti sedamdeset tisuća ljudi na stadionu ili neće djelovati. Nekoliko tjedana kasnije za svoju odluku mora odgovarati pred sudom. \nKazalište se pretvara u sudnicu\, gledatelji postaju porotnici\, a kraj predstave određuju njihovi glasovi na kraju izvedbe. Postavlja se pitanje o krivici bojnika Larsa Kocha. Na pozornici se sučeljavaju razne ideje i ideologije\, pri čemu se publika mora prepustiti svojim pravnim i etičkim nazorima i prema njima glasovanjem presuditi na kraju predstave. \nNakon druge izvedbe Terora\, u četvrtak 12. siječnja u 21.15 sati održat će se okrugli stol pod nazivom “Vrijedi li žrtvovati 164 života kako bi se spasilo 70 000 života?” na kojemu će\, uz glumce i moderatoricu\, sudjelovati izvanredni profesor Pravnog fakulteta u Osijeku\, dr.sc. Zvonimir Jelinić s kojim ćemo razgovarati o širokoj temi vrijednosti i važnosti ljudskog života koja pod svoje skute povlači ne samo moral\, nego pravo i filozofiju. Izuzetno zanimljiva rasprava/razgovor sa zanimljivim\, svestranim sugovornikom.
URL:https://planforculture.com/event/hnk-u-osijeku-teror-2/
LOCATION:HNK u Osijeku\, Županijska 9\, Osijek\, Slavonija\, 31000\, Croatia (Local Name: Hrvatska)
ATTACH;FMTTYPE=image/jpeg:https://planforculture.com/wp-content/uploads/2024/03/309389995_785665859464721_7889239233542691767_n-1-1.jpg
ORGANIZER;CN="HNK%20u%20Osijeku":MAILTO:blagajna@hnk-osijek.hr
END:VEVENT
BEGIN:VEVENT
DTSTART;TZID=Europe/Zagreb:20240329T080000
DTEND;TZID=Europe/Zagreb:20240329T170000
DTSTAMP:20260423T184704
CREATED:20240329T084126Z
LAST-MODIFIED:20240726T122559Z
UID:10002146-1711699200-1711731600@planforculture.com
SUMMARY:Book Club: Marie Aubert\, "Odrasli ljudi"
DESCRIPTION:Frakturin Book Club i u travnju nastavlja sa svojim čitateljskim susretima. \nJednom mjesečno u prostorima Knjižare Fraktura (Ulica kneza Mislava 17\, Zagreb) uz čaj\, sok ili čašu vina\, uz vodstvo Kristine i Lucije\, razgovarat ćemo o knjigama sjajnih autorica i autora koje proučavaju teme teme poput seksualnosti\, klase\, ekologije\, feminizma\, LGBTQ+ teme i brojne druge. Trajanje je predviđeno na sat i pol vremena. \nU utorak 16. travnja 2024. u 19 sati razgovaramo o romanu Odrasli ljudi (Naklada Ljevak\, 2021.) norveške spisateljice Marie Aubert.Dob: 20-40 godinaPrijava je obavezna na: promocije@fraktura.hr \nPridruži se!
URL:https://planforculture.com/event/book-club-marie-aubert-odrasli-ljudi/
CATEGORIES:LITERATURE
ATTACH;FMTTYPE=image/jpeg:https://planforculture.com/wp-content/uploads/2024/03/book_club_travanj_f_magazin-1.jpg
END:VEVENT
BEGIN:VEVENT
DTSTART;TZID=Europe/Zagreb:20240330T200000
DTEND;TZID=Europe/Zagreb:20240330T213000
DTSTAMP:20260423T184704
CREATED:20240322T112903Z
LAST-MODIFIED:20240322T141420Z
UID:10002070-1711828800-1711834200@planforculture.com
SUMMARY:GSK Kerempuh: JA OD JUTRA NISAM STAO
DESCRIPTION:Autorica: Una Vizek\nRedateljica: Nana Šojlev \nUna Vizek progovara o rodnoj problematici\, ali uz bitan sadržajni zaokret – stereotipizirane muške i ženske rodne uloge obrću se na duhovit\, apsurdan i nekonvencionalan način\, dok uvriježeni klišeji o dinamici muško-ženskih odnosa podliježu satiričkoj oštrici.\nU ozračju ženske dominacije i muške submisivnosti\, bezimeni muškarci\, svedeni tek na brojeve\, vrte se u zatvorenim\, cikličkim dijalozima i situacijama u okviru opuštenog netipičnog muškog druženja gdje propitkuju svoj položaj u intimnim vezama i na širem društvenom planu\, a pritom čeznu za promjenama i afirmacijom. Poigravajući se s predrasudama i društvenim očekivanjima\, Ja od jutra nisam stao Une Vizek pitkim se i nepretencioznim izrazom dotiče neprijeporno aktualnih rodnih pitanja. \nDramaturginja: Dora Delbianco\nAsistentica dramaturginje: Dina Vukelić\nKostimografkinja i scenografkinja: Valentina Crnković\nSkladatelj i glazbeni suradnik: Milorad Stranić\nOblikovatelj svjetla: Aleksandar Mondecar\n„Chef“ savjetnik: Tomislav Škunca\nInspicijentica: Mirela Tihava \nIgraju:\nJedinica – Jerko Marčić\nDvojka – Marko Makovičić\nTrojka – Ozren Opačić\nČetvorka – Hrvoje Kečkeš\nPrva – Ornela Vištica\nSusjeda – Linda Begonja
URL:https://planforculture.com/event/u-vizek-ja-od-jutra-nisam-stao/
LOCATION:Satiričko kazalište Kerempuh\, Prolaz Fadila Hadžića 7\, Zagreb\, Croatia (Local Name: Hrvatska)
CATEGORIES:THEATER
ATTACH;FMTTYPE=image/jpeg:https://planforculture.com/wp-content/uploads/2024/03/Ja-od-jutra-nisam-stao.jpg
ORGANIZER;CN="Satiri%C4%8Dko%20kazali%C5%A1te%20Kerempuh":MAILTO:blagajna@kerempuh.hr
END:VEVENT
END:VCALENDAR