BEGIN:VCALENDAR
VERSION:2.0
PRODID:-//PLAN FOR CULTURE - ECPv6.0.6//NONSGML v1.0//EN
CALSCALE:GREGORIAN
METHOD:PUBLISH
X-WR-CALNAME:PLAN FOR CULTURE
X-ORIGINAL-URL:https://planforculture.com
X-WR-CALDESC:Events for PLAN FOR CULTURE
REFRESH-INTERVAL;VALUE=DURATION:PT1H
X-Robots-Tag:noindex
X-PUBLISHED-TTL:PT1H
BEGIN:VTIMEZONE
TZID:Europe/Zagreb
BEGIN:DAYLIGHT
TZOFFSETFROM:+0100
TZOFFSETTO:+0200
TZNAME:CEST
DTSTART:20250330T010000
END:DAYLIGHT
BEGIN:STANDARD
TZOFFSETFROM:+0200
TZOFFSETTO:+0100
TZNAME:CET
DTSTART:20251026T010000
END:STANDARD
BEGIN:DAYLIGHT
TZOFFSETFROM:+0100
TZOFFSETTO:+0200
TZNAME:CEST
DTSTART:20260329T010000
END:DAYLIGHT
BEGIN:STANDARD
TZOFFSETFROM:+0200
TZOFFSETTO:+0100
TZNAME:CET
DTSTART:20261025T010000
END:STANDARD
END:VTIMEZONE
BEGIN:VEVENT
DTSTART;TZID=Europe/Zagreb:20251007T170000
DTEND;TZID=Europe/Zagreb:20260526T183000
DTSTAMP:20260420T181708
CREATED:20251003T123648Z
LAST-MODIFIED:20251003T123648Z
UID:10003212-1759856400-1779820200@planforculture.com
SUMMARY:Strip-Lab: Mala akademija crteža i priče
DESCRIPTION:Strip-Lab: Mala akademija crteža i priča je program kreativnih radionica za djecu od 8 do 12 godina pod vodstvom Zdenka Mikše\, mag. educ. art. Cilj ovog programa je osnažiti dječju maštu\, kreativnost i samopouzdanje te razviti sposobnost izražavanja kroz crtež i priču. \nJesen – Škola crtanja Djeca otkrivaju prve korake crtanja i uče kako linijom i oblikom izraziti osjećaje. Kroz vježbe crtanja likova i izraza lica razvijaju pažnju\, sigurnost i osjećaj za crtež.\nZima – Tajne stripa Na zabavan način ulaze u svijet stripa. Upoznaju elemente kao što su tabla\, kadar\, balončići i onomatopeje te uče kako osmisliti i ispričati kratku priču kroz slike i tekst.\nProljeće – Ilustracija Djeca uče o bojama i kompozicijama te otkrivaju kako slikom stvoriti atmosferu priče. Korak po korak prolaze proces stvaranja ilustracije spajajući crtež i priču. \nNa poticajnim i procesno orijentiranim radionicama djeca slobodno crtaju\, maštaju i stvaraju vlastite priče igrajući se bojama\, oblicima i raznovrsnim tehnikama čime se potiče prirodna znatiželja\, kreativnost i izgradnja samopouzdanja. Uz stručno vodstvo u opuštenoj i podržavajućoj atmosferi djeca uče kako izražavati svoje ideje\, surađivati s drugima i uživati u procesu zajedničkog stvaranja.
URL:https://planforculture.com/event/strip-lab-mala-akademija-crteza-i-price/
CATEGORIES:WORKSHOP
ATTACH;FMTTYPE=image/jpeg:https://planforculture.com/wp-content/uploads/2025/10/STRIP-LAB.jpg
ORGANIZER;CN="Hrvatski%20%C5%A1kolski%20muzej%2C%20galerija%20%22%C5%A0kolica%20za%205%22":MAILTO:hsm@hsmuzej.hr
END:VEVENT
BEGIN:VEVENT
DTSTART;TZID=Europe/Zagreb:20251011T100000
DTEND;TZID=Europe/Zagreb:20251220T120000
DTSTAMP:20260420T181708
CREATED:20251003T122349Z
LAST-MODIFIED:20251003T122349Z
UID:10003211-1760176800-1766232000@planforculture.com
SUMMARY:„Apsolutni početnici“ s Ivicom Prtenjačom Besplatne besplatne radionice kreativnog pisanja!
DESCRIPTION:Hrvatski školski muzej poziva vas na jedinstveni ciklus radionica kreativnog pisanja „Apsolutni početnici“ pod vodstvom Ivice Prtenjače\, iskusnog pisca\, urednika i mentora s dugogodišnjim iskustvom u radu s mladima.\nProgram kreativnog pisanja namijenjen je početnicima od 15 do 30 godina i otvoren za sve žanrove\, pružajući polaznicima prostor za individualno stvaranje\, ali i kolegijalnu interakciju unutar grupe. Radionice uključuju individualizirana vodstva u procesu promišljanja\, stvaranja i komentiranja teksta\, a završavaju javnim čitanjem radova polaznika.\nCiklus obuhvaća 10 subotnjih sesija\, svaka u trajanju od 2 sata\, održavat će se subotama od 10 do 12 sati u Galeriji Školskog muzeja „Školica za 5“\, Hebrangova 5\, Zagreb.\nHrvatski školski muzej u suradnji s Ivicom Prtenjačom omogućava novu priliku za besplatno obrazovanje i kreativni razvoj mladih sugrađana\, potičući njihovu kreativnost\, izražavanje i cjeloživotno učenje kroz kvalitetan i strukturiran program radionica.
URL:https://planforculture.com/event/apsolutni-pocetnici-s-ivicom-prtenjacom-besplatne-besplatne-radionice-kreativnog-pisanja/
CATEGORIES:WORKSHOP
ATTACH;FMTTYPE=image/png:https://planforculture.com/wp-content/uploads/2025/10/APSOLUTNI-POCETNICI.png
ORGANIZER;CN="Hrvatski%20%C5%A1kolski%20muzej%2C%20galerija%20%22%C5%A0kolica%20za%205%22":MAILTO:hsm@hsmuzej.hr
END:VEVENT
BEGIN:VEVENT
DTSTART;TZID=Europe/Zagreb:20251014T080000
DTEND;TZID=Europe/Zagreb:20251114T170000
DTSTAMP:20260420T181708
CREATED:20251014T102554Z
LAST-MODIFIED:20251014T102554Z
UID:10003262-1760428800-1763139600@planforculture.com
SUMMARY:Riječ je slika je riječ: Srednji vijek rastumačen djeci
DESCRIPTION:U okviru programa „Riječ je slika je riječ” u sklopu kojeg naklada Mala zvona održava razgovore i tematske izložbe posvećene odnosu književnosti i likovne umjetnosti\, održat će se razgovor o popularno-povijesnoj knjizi J. Le Goffa „Srednji vijek rastumačen djeci” uz popratnu izložbu ilustracija Ivana Stanišića.
URL:https://planforculture.com/event/rijec-je-slika-je-rijec-srednji-vijek-rastumacen-djeci/
CATEGORIES:LITERATURE
END:VEVENT
BEGIN:VEVENT
DTSTART;TZID=Europe/Zagreb:20251104T200000
DTEND;TZID=Europe/Zagreb:20251104T220000
DTSTAMP:20260420T181708
CREATED:20251007T105244Z
LAST-MODIFIED:20251007T105244Z
UID:10003228-1762286400-1762293600@planforculture.com
SUMMARY:GSK Kerempuh: SUBOTA\, NEDJELJA I PONEDJELJAK
DESCRIPTION:Autor: Eduardo de Filippo\nRedatelj: Paolo Magelli \nNedjeljni ručak u domu obitelji Priore okuplja tri generacije koje žive pod istim krovom. Tu je djed\, zatim roditelji\, djeca\, njihovi partneri\, teta\, nećak\, susjedi i drugi nezvani ili pak zvani gosti – plejada likova čija nas šarolikost uvodi u bogat i često turbulentan svijet razgranatih obiteljskih i inih odnosa dok se prepliću niti njihovih sudbina i međusobnih veza. Glumački ansambl vješto razotkriva slojeve života svojih likova\, otkrivajući nam njihove tajne\, strahove\, ambicije i snove. U tome mediteranski glasnom ali ipak intimnom okruženju otkrivaju se univerzalne istine koje nas sve povezuju kao što je prirodna želja za ljubavlju\, razumijevanjem i pripadnošću.\nKao intrigantan okvir priči poslužio je sukob između starog i novog\, interakcija tradicije i modernosti. Obitelj Priore čvrsto je ukorijenjena u svojim napolitanskim tradicijama\, ali se suočava s vjetrovima promjena koji pušu kroz njihove živote. Sukob generacija jasno ilustrira napetosti između prihvaćanja uspostavljenih normi i neizbježnog traženja novih putova. \nPrevoditeljica: Branka Rakić\nAutorica adaptacije i dramaturginja: Željka Udovičić Pleština\nScenograf: Miljenko Sekulić\nKostimografkinja: Marita Ćopo\nAutori glazbe: Ivanka Mazurkijević i Damir Martinović Mrle\nAutor video projekcija: Ivan Marušić Klif\nOblikovatelj svjetla: Aleksandar Čavlek\nKoreografkinja za ples mambo: Tamara Despot\nAsistentica redatelja: Mirela Tihava\nPomoćnik redatelja: Max Foretić\nInspicijentica: Mirela Tihava \n  \nIgraju: \nRosa – Linda Begonja\nVirginia – Mia Anočić – Valentić / Mirela Videk Hranjec\nPepino – Dražen Čuček\nRocco – Filip Detelić\nFederico – Igor Jurinić\nAntonio – Vilim Matula\nGiulianella – Josipa Anković\nAmelia – Anita Matić Delić\nAtilio – Matija Šakoronja\nRafaele – Marko Makovičić\nLuigi Ianiello – Hrvoje Kečkeš\nElena Ianiello – Branka Trlin\nKrojač – Vedran Mlikota\nMikele – Damir Poljičak\nMaria Carolina – Ana Maras Harmander\nRoberto – Davor Kovač\nDoktor – Karlo Mlinar \nPopusti na grupne posjete (10 i više osoba)\nProdaja na tel. 01/4833 645\, 01/4833 646
URL:https://planforculture.com/event/gsk-kerempuh-subota-nedjelja-i-ponedjeljak-12/
LOCATION:Satiričko kazalište Kerempuh\, Prolaz Fadila Hadžića 7\, Zagreb\, Croatia (Local Name: Hrvatska)
CATEGORIES:THEATER
ATTACH;FMTTYPE=image/jpeg:https://planforculture.com/wp-content/uploads/2025/10/Subota-nedjelja-i-ponedjeljak.jpg
ORGANIZER;CN="Satiri%C4%8Dko%20kazali%C5%A1te%20Kerempuh":MAILTO:blagajna@kerempuh.hr
END:VEVENT
BEGIN:VEVENT
DTSTART;TZID=Europe/Zagreb:20251105T200000
DTEND;TZID=Europe/Zagreb:20251105T220500
DTSTAMP:20260420T181708
CREATED:20251007T105428Z
LAST-MODIFIED:20251007T105428Z
UID:10003229-1762372800-1762380300@planforculture.com
SUMMARY:GSK Kerempuh: TRAŽI SE NOVI SUPRUG
DESCRIPTION:Autor: Miro Gavran\nRedatelj: Željko Königsknecht \n˝Traži se novi suprug˝ neobični je spoj komedije karaktera i komedije situacije te pruža brojne mogućnosti glumcima za stvaranje atraktivnih likova. Središnji je lik udovica koja odluči pomoću tarot karata i novinskog oglasa pronaći novog muža koji bi trebao zadovoljiti idealne\, dakle\, nemoguće kriterije. Istodobno\, njezin prvi susjed\, usamljeni neženja\, odlučuje se napokon oženiti. Da bi osvojio njezino srce dosjeti se zamoliti za pomoć prijatelja iz djetinjstva\, kojega nagovori da se javi na oglas i odglumi nekoliko prosaca koji će biti jedan gori od drugog. Miro Gavran u ovom djelu s izrazitim simpatijama oslikava prepoznatljive junake naše svakodnevice koji nastoje ostvariti svoje snove i ambicije. \nDramaturg: Željko Königsknecht\nKostimografkinja: Tanja Rodd\nScenografkinja: Nina Mia Čikeš\nAutor glazbe: Mario Mirković\nOblikovateljica svjetla: Vesna Kolarec\nAsistent režije: Zvonko Benić\nUmjetnički savjetnik: Zoran Mužić\nOblikovanje vizualnih komunikacija: Love\, Ana studio i Dario Dević\nFotografkinja: Maja Kljajić \nIgraju:\nAnita Matić Delić\nDamir Poljičak\nŽeljko Königsknecht \nPopusti na grupne posjete (10 i više osoba)\nProdaja na tel. 01/4833 645\, 01/4833 646
URL:https://planforculture.com/event/gsk-kerempuh-trazi-se-novi-suprug-15/
LOCATION:Satiričko kazalište Kerempuh\, Prolaz Fadila Hadžića 7\, Zagreb\, Croatia (Local Name: Hrvatska)
CATEGORIES:THEATER
ATTACH;FMTTYPE=image/jpeg:https://planforculture.com/wp-content/uploads/2025/10/Trazi-se-novi-suprug.jpg
ORGANIZER;CN="Satiri%C4%8Dko%20kazali%C5%A1te%20Kerempuh":MAILTO:blagajna@kerempuh.hr
END:VEVENT
BEGIN:VEVENT
DTSTART;TZID=Europe/Zagreb:20251106T180000
DTEND;TZID=Europe/Zagreb:20251106T200000
DTSTAMP:20260420T181708
CREATED:20251031T083616Z
LAST-MODIFIED:20251031T083616Z
UID:10003278-1762452000-1762459200@planforculture.com
SUMMARY:Tribina Nikola Biliškov i Marija Ott Franolić
DESCRIPTION:Hrvatski P.E.N. centar s veseljem Vas poziva na tribinu “Susret kemije\, klime i književnosti”. Tribina se odvija u sklopu programa “Svijet se sastoji od riječi: čitanje\, učenje i kreativnosti”\, a sudjelovat će Nikola Biliškov uz vodstvo Marije Ott Franolić.
URL:https://planforculture.com/event/tribina-nikola-biliskov-i-marija-ott-franolic/
LOCATION:Knjižnica Marije Jurić Zagorke\, Krvavi most 2\, Zagreb\, Croatia (Local Name: Hrvatska)
CATEGORIES:LITERATURE
ORGANIZER;CN="Knji%C5%BEnica%20Marije%20Juri%C4%87%20Zagorke":MAILTO:knjiznica.m.j.zagorke@kgz.hr
END:VEVENT
BEGIN:VEVENT
DTSTART;TZID=Europe/Zagreb:20251106T200000
DTEND;TZID=Europe/Zagreb:20251106T214000
DTSTAMP:20260420T181708
CREATED:20251007T105941Z
LAST-MODIFIED:20251007T105941Z
UID:10003231-1762459200-1762465200@planforculture.com
SUMMARY:GSK Kerempuh: SVE ZBOG JEDNOG IMENA
DESCRIPTION:Autori teksta: Matthieu Delaporte & Alexandre de La Patellière\nRedateljica: Saša Broz \nRadnja predstave odvija se jedne večeri\, na druženju obitelji i prijatelja. Sve započinje idilično\, s Vincentom koji dijeli fotografiju svoje i Annine tek nedavno začete bebe. No ubrzo se dobra atmosfera drastično mijenja kada im Vincent objavi da će se dijete zvati Adolphe\, što je francuski ekvivalent za Adolfa… \nOva vrhunska komedija hit je u više od 45 zemalja diljem svijeta\, zahvaljujući iskričavosti dijaloga te detaljno oslikanim\, vjerodostojnim i neodoljivim likovima s kojima se lako možemo poistovjetiti. Jedna od centralnih tema jest suparništvo između braće i sestara\, tinjajuća ogorčenost i netrpeljivost koja se vrlo lako može razumjeti u bilo kojem okruženju. \nU 90 minuta trajanja predstave nema ni sekunde pauze niti praznog hoda\, pa tako protagonisti\, ali ni publika\, do samog kraja ne dolaze do daha. Tekst u mnogočemu asocira na Rezin komad ˝Bog masakra˝\, kao i na kultni Genoveseov film ˝Perfetti sconosciuti˝ (“Potpuni stranci”). \nKomad su napisali Matthieu Delaporte i Alexandre de la Patellière\, a uspješno je adaptiran i za film\, čiji je original također pratilo nekoliko varijanti remakea. \nPariška produkcija osvojila je šest nominacija za nagradu Molière\, uključujući i onu za najbolju komediju\, dvije nominacije za najboljeg sporednog glumca za Jean-Michela Dupuisa i Guillaumea de Tonquédeca\, zatim za najbolju sporednu glumicu za Valérie Benguigui\, najboljeg dramatičara za Matthieua Delaportea i Alexandrea de la Patellièrea i najbolju režiju za Bernarda Murata. \nPrevoditeljica: Vanda Mikšić\nAutorica adaptacije i dramaturginja: Dora Delbianco\nScenografkinja: Sara Haas\nKostimografkinja: Mia Popovska\nSuradnica za scenski pokret: Nastasja Štefanić Kralj\nOblikovatelj svjetla: Aleksandar Čavlek\nInspicijentica: Lorena Matešić  \nIgraju: \nÉlisabeth Garaud-Larchet – Anita Matić Delić\nPierre Garaud\, Élisabethin muž – Damir Poljičak\nClaude Gratignol\, Élisabethin prijatelj iz djetinjstva – Domagoj Ivanković\nVincent Larchet\, Élisabethin brat – Borko Perić\nAnna Caravati\, Vincentova partnerica – Mirela Videk Hranjec \nPopusti na grupne posjete (10 i više osoba)\nProdaja na tel. 01/4833 645\, 01/4833 646
URL:https://planforculture.com/event/gsk-kerempuh-sve-zbog-jednog-imena-23/
LOCATION:Satiričko kazalište Kerempuh\, Prolaz Fadila Hadžića 7\, Zagreb\, Croatia (Local Name: Hrvatska)
CATEGORIES:THEATER
ATTACH;FMTTYPE=image/jpeg:https://planforculture.com/wp-content/uploads/2025/10/Sve-zbog-jednog-imena.jpg
ORGANIZER;CN="Satiri%C4%8Dko%20kazali%C5%A1te%20Kerempuh":MAILTO:blagajna@kerempuh.hr
END:VEVENT
BEGIN:VEVENT
DTSTART;TZID=Europe/Zagreb:20251107T200000
DTEND;TZID=Europe/Zagreb:20251107T223000
DTSTAMP:20260420T181708
CREATED:20251007T111400Z
LAST-MODIFIED:20251007T111400Z
UID:10003243-1762545600-1762554600@planforculture.com
SUMMARY:GSK Kerempuh: ŠKRTAC
DESCRIPTION:Autor: J.B.P. Molière\nAutor adaptacije: Tomislav Zajec\nRedateljica: Dora Ruždjak Podolski \nKerempuhov Škrtac u režiji Dore Ruždjak Podolski i adaptaciji Tomislava Zajeca svjestan je istovremeno i Molièreovog komediografskog umijeća\, ali i vremena u kojem ova inscenacija nastaje\, te ga neprestano otvara našoj suvremenosti. Koketirajući s elementima pop kulture\, stihovima dobro nam poznatim s estrade\, još se dodatno naglašava situacijska komika\, ali i činjenica da Molièreove likove pokreću iste strasti kao i naše suvremenike. \nSpominjanjem Shakespeara\, Camusa\, Krleže i korištenjem drugih referentnih točki izvandramske zbilje autori predstave upravo nas upućuju na to da Molièrovo ime pripada nizu bardova koji su bespoštedno kritizirali ljudsku narav\, ali i da je vrijeme Molièrovih komedija bezvremensko odnosno da ono postoji upravo u onom vremenu u kojem se njegovi komadi igraju i može se ponavljati u beskonačnost. \nScenograf: Stefano Katunar\nKostimografkinja: Barbara Bourek\nAutor glazbe: Stanislav Kovačić\nOblikovatelj svjetla: Miljenko Bengez\nAsistentica kostimografkinje: Karmen Polović\nInspicijentica: Ena Subotić\nKoordinatorica u pripremi predstave: Jasna Rešić \nIgraju: \nHarpagon – Hrvoje Kečkeš\nCléante – Josip Brakus\nÉlise – Mirela Videk Hranjec\nValère – Filip Detelić\nMariane – Iskra Jirsak\nAnselme – Vedran Mlikota / Dražen Čuček\nFrosine – Linda Begonja\nJacques – Borko Perić\nLa Flèche – Luka Petrušić\nSudski istražitelj – Damir Poljičak\nLa Merluche\, Simon\, Sudski pisar – Karlo Mlinar \nPopusti na grupne posjete (10 i više osoba)\nProdaja na tel. 01/4833 645\, 01/4833 646
URL:https://planforculture.com/event/gsk-kerempuh-skrtac-8/
LOCATION:Satiričko kazalište Kerempuh\, Prolaz Fadila Hadžića 7\, Zagreb\, Croatia (Local Name: Hrvatska)
CATEGORIES:THEATER
ATTACH;FMTTYPE=image/jpeg:https://planforculture.com/wp-content/uploads/2025/10/Skrtac.jpg
ORGANIZER;CN="Satiri%C4%8Dko%20kazali%C5%A1te%20Kerempuh":MAILTO:blagajna@kerempuh.hr
END:VEVENT
BEGIN:VEVENT
DTSTART;TZID=Europe/Zagreb:20251108T200000
DTEND;TZID=Europe/Zagreb:20251108T214000
DTSTAMP:20260420T181708
CREATED:20251007T110015Z
LAST-MODIFIED:20251007T110015Z
UID:10003232-1762632000-1762638000@planforculture.com
SUMMARY:GSK Kerempuh: SVE ZBOG JEDNOG IMENA
DESCRIPTION:Autori teksta: Matthieu Delaporte & Alexandre de La Patellière\nRedateljica: Saša Broz \nRadnja predstave odvija se jedne večeri\, na druženju obitelji i prijatelja. Sve započinje idilično\, s Vincentom koji dijeli fotografiju svoje i Annine tek nedavno začete bebe. No ubrzo se dobra atmosfera drastično mijenja kada im Vincent objavi da će se dijete zvati Adolphe\, što je francuski ekvivalent za Adolfa… \nOva vrhunska komedija hit je u više od 45 zemalja diljem svijeta\, zahvaljujući iskričavosti dijaloga te detaljno oslikanim\, vjerodostojnim i neodoljivim likovima s kojima se lako možemo poistovjetiti. Jedna od centralnih tema jest suparništvo između braće i sestara\, tinjajuća ogorčenost i netrpeljivost koja se vrlo lako može razumjeti u bilo kojem okruženju. \nU 90 minuta trajanja predstave nema ni sekunde pauze niti praznog hoda\, pa tako protagonisti\, ali ni publika\, do samog kraja ne dolaze do daha. Tekst u mnogočemu asocira na Rezin komad ˝Bog masakra˝\, kao i na kultni Genoveseov film ˝Perfetti sconosciuti˝ (“Potpuni stranci”). \nKomad su napisali Matthieu Delaporte i Alexandre de la Patellière\, a uspješno je adaptiran i za film\, čiji je original također pratilo nekoliko varijanti remakea. \nPariška produkcija osvojila je šest nominacija za nagradu Molière\, uključujući i onu za najbolju komediju\, dvije nominacije za najboljeg sporednog glumca za Jean-Michela Dupuisa i Guillaumea de Tonquédeca\, zatim za najbolju sporednu glumicu za Valérie Benguigui\, najboljeg dramatičara za Matthieua Delaportea i Alexandrea de la Patellièrea i najbolju režiju za Bernarda Murata. \nPrevoditeljica: Vanda Mikšić\nAutorica adaptacije i dramaturginja: Dora Delbianco\nScenografkinja: Sara Haas\nKostimografkinja: Mia Popovska\nSuradnica za scenski pokret: Nastasja Štefanić Kralj\nOblikovatelj svjetla: Aleksandar Čavlek\nInspicijentica: Lorena Matešić  \nIgraju: \nÉlisabeth Garaud-Larchet – Anita Matić Delić\nPierre Garaud\, Élisabethin muž – Damir Poljičak\nClaude Gratignol\, Élisabethin prijatelj iz djetinjstva – Domagoj Ivanković\nVincent Larchet\, Élisabethin brat – Borko Perić\nAnna Caravati\, Vincentova partnerica – Mirela Videk Hranjec \nPopusti na grupne posjete (10 i više osoba)\nProdaja na tel. 01/4833 645\, 01/4833 646
URL:https://planforculture.com/event/gsk-kerempuh-sve-zbog-jednog-imena-24/
LOCATION:Satiričko kazalište Kerempuh\, Prolaz Fadila Hadžića 7\, Zagreb\, Croatia (Local Name: Hrvatska)
CATEGORIES:THEATER
ATTACH;FMTTYPE=image/jpeg:https://planforculture.com/wp-content/uploads/2025/10/Sve-zbog-jednog-imena-1.jpg
ORGANIZER;CN="Satiri%C4%8Dko%20kazali%C5%A1te%20Kerempuh":MAILTO:blagajna@kerempuh.hr
END:VEVENT
BEGIN:VEVENT
DTSTART;TZID=Europe/Zagreb:20251109T200000
DTEND;TZID=Europe/Zagreb:20251109T212500
DTSTAMP:20260420T181708
CREATED:20251007T104631Z
LAST-MODIFIED:20251007T104631Z
UID:10003221-1762718400-1762723500@planforculture.com
SUMMARY:GSK Kerempuh: ALAN FORD
DESCRIPTION:Autor teksta: Milan Fošner\nRedatelj: Mario Kovač \nAlan Ford je kultni talijanski strip koji već više od pola stoljeća zabavlja i oduševljava ljubitelje devete umjetnosti u Hrvatskoj i svijetu. Crnohumorni i satiričan prikaz djelovanja grupice siromašnih tajnih agenata koji rješavaju bizarne kriminalističke slučajeve idealna je podloga za predstavu koja bi se bavila nelogičnostima i apsurdima suvremenog hrvatskog društva. Iako se radnja stripa događa uglavnom u New Yorku\, teme koje obuhvaća su univerzalno prepoznatljive i uvijek aktualne. \nZanimljivo je kako se\, usprkos medijskoj dominaciji superherojskih stripova DC-a i Marvela\, potpomogutoj raskošnim i visokobudžetnim ekranizacijama\, Alan Ford još uvijek sjajno prodaje na tržištu a interes za njega pokazuje i mlađa generacija. Razlog vjerojatno leži u originalnom ironičnom humoru specifičnom za naše područje i mentalitet na čemu možemo zahvaliti fantastičnom prijevodu Nenada Brixyja. Obzirom na činjenicu kako se obrada teme stripa nalazi u obaveznom kurikulumu za više razrede osnovne škole te srednjih škola\, smatramo kako je upravo Alan Ford ona poveznica koja učenicima može pokazati kako strip ne mora nužno biti isključivo eksapistički uradak temeljen na znanstvenoj fantastici već kako može biti oštar i precizan komentar negativnih društvenih fenomena a sve kroz prizmu humora. \nNaša dramatizacija stripa kao centralnu negativnu ličnost smjestila bi lik Superhika\, karizmatičnog lopova koji ironično otima siromašnima da bi dao bogatima. Već kroz odabir super-antiheroja kao direktnog suparnika našim junacima iz Grupe TNT jasno ocrtavamo smjer u kojem će naša predstava ići obrađujući inače teške teme poput socijalne nepravde\, siromaštva i zakulisnih političkih igara na mladima prihvatljiv način uz zdravu dozu humornog odmaka. \nUz neizbježnu „estetiku ružnog“ i tzv. „siromašno kazalište“ koji bi dominirali vizualnim identitetom predstave\, važno je naglasiti kako bi zvučni segment obogatili jazz noir glazbenom podlogom koja bi djelomično bila izvedena i „uživo“ od strane benda sastavljenog od glumaca kazališta Kerempuh. \nDramaturg: Vid Lež\nScenograf: Davor Prah\nKostimografkinja: Nikolina Miletić\nAutor glazbe: Tomislav Babić\nKoreograf: Branko Banković\nOblikovatelj svjetla: Alen Marin \nInspicijentica: Mirela Tihava  \nIgraju: \nAlan Ford – Luka Petrušić\nBob Rock – Matija Šakoronja\nBroj 1 – Tomislav Štriga\nGrunf – Domagoj Ivanković\nSir Oliver – Tarik Filipović\nDebeli šef – Hrvoje Kečkeš\nSuperhik – Filip Detelić\nJeremija – Borko Perić\nBepa – Ana Maras Harmander\nMargot – Ines Bojanić\nPolicajac / Čaruga – Josip Brakus\nInspektor Brock – Ozren Opačić\nSamoubojica – Karlo Mlinar\nBogataš / Tamburaš – Tomislav Dunđer \nPopusti na grupne posjete (10 i više osoba)\nProdaja na tel. 01/4833 645\, 01/4833 646 \n 
URL:https://planforculture.com/event/gsk-kerempuh-alan-ford-10/
LOCATION:Satiričko kazalište Kerempuh\, Prolaz Fadila Hadžića 7\, Zagreb\, Croatia (Local Name: Hrvatska)
CATEGORIES:THEATER
ATTACH;FMTTYPE=image/jpeg:https://planforculture.com/wp-content/uploads/2025/10/Alan-Ford-1.jpg
ORGANIZER;CN="Satiri%C4%8Dko%20kazali%C5%A1te%20Kerempuh":MAILTO:blagajna@kerempuh.hr
END:VEVENT
END:VCALENDAR