BEGIN:VCALENDAR
VERSION:2.0
PRODID:-//PLAN FOR CULTURE - ECPv6.0.6//NONSGML v1.0//EN
CALSCALE:GREGORIAN
METHOD:PUBLISH
X-WR-CALNAME:PLAN FOR CULTURE
X-ORIGINAL-URL:https://planforculture.com
X-WR-CALDESC:Events for PLAN FOR CULTURE
REFRESH-INTERVAL;VALUE=DURATION:PT1H
X-Robots-Tag:noindex
X-PUBLISHED-TTL:PT1H
BEGIN:VTIMEZONE
TZID:Europe/Zagreb
BEGIN:DAYLIGHT
TZOFFSETFROM:+0100
TZOFFSETTO:+0200
TZNAME:CEST
DTSTART:20250330T010000
END:DAYLIGHT
BEGIN:STANDARD
TZOFFSETFROM:+0200
TZOFFSETTO:+0100
TZNAME:CET
DTSTART:20251026T010000
END:STANDARD
BEGIN:DAYLIGHT
TZOFFSETFROM:+0100
TZOFFSETTO:+0200
TZNAME:CEST
DTSTART:20260329T010000
END:DAYLIGHT
BEGIN:STANDARD
TZOFFSETFROM:+0200
TZOFFSETTO:+0100
TZNAME:CET
DTSTART:20261025T010000
END:STANDARD
END:VTIMEZONE
BEGIN:VEVENT
DTSTART;TZID=Europe/Zagreb:20251007T170000
DTEND;TZID=Europe/Zagreb:20260526T183000
DTSTAMP:20260420T084620
CREATED:20251003T123648Z
LAST-MODIFIED:20251003T123648Z
UID:10003212-1759856400-1779820200@planforculture.com
SUMMARY:Strip-Lab: Mala akademija crteža i priče
DESCRIPTION:Strip-Lab: Mala akademija crteža i priča je program kreativnih radionica za djecu od 8 do 12 godina pod vodstvom Zdenka Mikše\, mag. educ. art. Cilj ovog programa je osnažiti dječju maštu\, kreativnost i samopouzdanje te razviti sposobnost izražavanja kroz crtež i priču. \nJesen – Škola crtanja Djeca otkrivaju prve korake crtanja i uče kako linijom i oblikom izraziti osjećaje. Kroz vježbe crtanja likova i izraza lica razvijaju pažnju\, sigurnost i osjećaj za crtež.\nZima – Tajne stripa Na zabavan način ulaze u svijet stripa. Upoznaju elemente kao što su tabla\, kadar\, balončići i onomatopeje te uče kako osmisliti i ispričati kratku priču kroz slike i tekst.\nProljeće – Ilustracija Djeca uče o bojama i kompozicijama te otkrivaju kako slikom stvoriti atmosferu priče. Korak po korak prolaze proces stvaranja ilustracije spajajući crtež i priču. \nNa poticajnim i procesno orijentiranim radionicama djeca slobodno crtaju\, maštaju i stvaraju vlastite priče igrajući se bojama\, oblicima i raznovrsnim tehnikama čime se potiče prirodna znatiželja\, kreativnost i izgradnja samopouzdanja. Uz stručno vodstvo u opuštenoj i podržavajućoj atmosferi djeca uče kako izražavati svoje ideje\, surađivati s drugima i uživati u procesu zajedničkog stvaranja.
URL:https://planforculture.com/event/strip-lab-mala-akademija-crteza-i-price/
LOCATION:Grad Zagreb
CATEGORIES:WORKSHOP
ATTACH;FMTTYPE=image/jpeg:https://planforculture.com/wp-content/uploads/2025/10/STRIP-LAB.jpg
ORGANIZER;CN="Hrvatski%20%C5%A1kolski%20muzej%2C%20galerija%20%22%C5%A0kolica%20za%205%22":MAILTO:hsm@hsmuzej.hr
END:VEVENT
BEGIN:VEVENT
DTSTART;VALUE=DATE:20251210
DTEND;VALUE=DATE:20260911
DTSTAMP:20260420T084620
CREATED:20251124T111208Z
LAST-MODIFIED:20260212T095440Z
UID:10003319-1765324800-1789084799@planforculture.com
SUMMARY:Izložba „Bilo jednom… hrvatske tvornice igračaka u 20. stoljeću“
DESCRIPTION:Izložba „Bilo jednom… hrvatske tvornice igračaka u 20. stoljeću“\, kojom Hrvatski školski muzej istražuje povijest\, razvoj i kulturni značaj industrijski proizvedenih igračaka u Hrvatskoj\, otvara se 10. prosinca 2025. u 19 sati u galeriji muzeja „Školica za 5“ (Hebrangova 5\, Zagreb). Posjetitelji će kroz izložene predmete moći pratiti kako su igračke oblikovale djetinjstvo\, reflektirale društvene promjene i postale vrijedan dio hrvatske kulturne i pedagoške baštine.
URL:https://planforculture.com/event/izlozba-bilo-jednom-hrvatske-tvornice-igracaka-u-20-stoljecu/
LOCATION:ZAGREB
CATEGORIES:EXHIBITION
ATTACH;FMTTYPE=image/jpeg:https://planforculture.com/wp-content/uploads/2025/11/Plakat-final-.jpg
ORGANIZER;CN="Hrvatski%20%C5%A1kolski%20muzej%2C%20galerija%20%22%C5%A0kolica%20za%205%22":MAILTO:hsm@hsmuzej.hr
END:VEVENT
BEGIN:VEVENT
DTSTART;TZID=Europe/Zagreb:20251223T200000
DTEND;TZID=Europe/Zagreb:20251223T220000
DTSTAMP:20260420T084620
CREATED:20251007T113227Z
LAST-MODIFIED:20251201T141529Z
UID:10003256-1766520000-1766527200@planforculture.com
SUMMARY:GSK Kerempuh: CLUEDO – društvena igra na sceni
DESCRIPTION:Autor: Sandy Rustin\nPrijevod\, režija i adaptacija: Nina Kleflin \nOva je krimi komedija nastala kao adaptacija filma “Clue” iz 1985.\, a sve zajedno inspirirano  je  poznatom  detektivskom  društvenom  igrom Clue\,  kod  nas  nazvana Cluedo\, oživljenom na sceni. Tekst i nosi naslov “Clue:  Na  sceni!” \nŠestero gostiju pozvano je na večernju zabavu koju organizira anonimni domaćin. Svatko od njih dobije fiktivno svoje ime specijalno za tu priliku — Colonel Mustard\, Mrs. White\, Mr. Green\, Mrs. Peacock\, Professor Plum\, and Miss Scarlet. Kroz protok vremena\, otkriva se kako svi imaju nešto zajedničko\, svi su žrtve istog ucjenjivača\, onog istog koji je druženje i organizirao. Svakome je dodijeljeno oružje i mogućnost izbora: dvostruko platiti ucjenjivaču ili ubiti nedužnog batlera. Slijedi totalna ludnica\, komedija dijaloga i slapstika u noći punoj zagonetki i smijeha\, a sve do otkrivanja ubojice. \nKomedija\, baš kao i društvena igra\, ima nekoliko krajeva. Bila je riječ o čak 200 kombinacija koje se međusobno razlikuju te ih bira publika putem karata. Sve se odvija na šahovskom polju i sama je priča namijenjena mlađoj publici\, kao i onoj koja je voljela naš “Raspad sistema”. \n\nDramaturginja: Dora Delbianco\nScenograf: Stefano Katunar\nKostimografkinja: Sara Lovrić Caparin\nKoreograf: Damir Klemenić\nAutor glazbe: Tomislav Babić\nOblikovateljica svjetla: Vesna Kolarec\nInspicijentica: Lorena Matešić  \n  \nIgraju: \nWadsworth – Domagoj Ivanković\nYvette – Ornela Vištica\nGospođica Scarlet (Rujnić) – Tanja Smoje\nGospođa Peacock (Paunica)\, – Ana Maras Harmander\nGospođa White (Bjelinski)\, – Mia Begović\nPukovnik Mustard (Senf) – Filip Detelić\nProfesor Plum (Šljivac) – Marko Makovičić\nGospodin Green (Zelenski) – Matija Šakoronja\nGospodin Body (Trupina) – Dražen Čuček\nKuharica / Poštarica – Anica Kontić\nPolicajac – Jakov Zovko \nPopusti na grupne posjete (10 i više osoba)\nProdaja na tel. 01/4833 645\, 01/4833 646
URL:https://planforculture.com/event/gsk-kerempuh-cluedo-drustvena-igra-na-sceni-5/
LOCATION:Satiričko kazalište Kerempuh\, Prolaz Fadila Hadžića 7\, Zagreb\, Croatia (Local Name: Hrvatska)
CATEGORIES:THEATER
ATTACH;FMTTYPE=image/jpeg:https://planforculture.com/wp-content/uploads/2025/10/Cluedo-3.jpg
ORGANIZER;CN="Satiri%C4%8Dko%20kazali%C5%A1te%20Kerempuh":MAILTO:blagajna@kerempuh.hr
END:VEVENT
BEGIN:VEVENT
DTSTART;TZID=Europe/Zagreb:20251227T200000
DTEND;TZID=Europe/Zagreb:20251227T214000
DTSTAMP:20260420T084620
CREATED:20251007T110217Z
LAST-MODIFIED:20251007T110217Z
UID:10003235-1766865600-1766871600@planforculture.com
SUMMARY:GSK Kerempuh: SVE ZBOG JEDNOG IMENA
DESCRIPTION:Autori teksta: Matthieu Delaporte & Alexandre de La Patellière\nRedateljica: Saša Broz \nRadnja predstave odvija se jedne večeri\, na druženju obitelji i prijatelja. Sve započinje idilično\, s Vincentom koji dijeli fotografiju svoje i Annine tek nedavno začete bebe. No ubrzo se dobra atmosfera drastično mijenja kada im Vincent objavi da će se dijete zvati Adolphe\, što je francuski ekvivalent za Adolfa… \nOva vrhunska komedija hit je u više od 45 zemalja diljem svijeta\, zahvaljujući iskričavosti dijaloga te detaljno oslikanim\, vjerodostojnim i neodoljivim likovima s kojima se lako možemo poistovjetiti. Jedna od centralnih tema jest suparništvo između braće i sestara\, tinjajuća ogorčenost i netrpeljivost koja se vrlo lako može razumjeti u bilo kojem okruženju. \nU 90 minuta trajanja predstave nema ni sekunde pauze niti praznog hoda\, pa tako protagonisti\, ali ni publika\, do samog kraja ne dolaze do daha. Tekst u mnogočemu asocira na Rezin komad ˝Bog masakra˝\, kao i na kultni Genoveseov film ˝Perfetti sconosciuti˝ (“Potpuni stranci”). \nKomad su napisali Matthieu Delaporte i Alexandre de la Patellière\, a uspješno je adaptiran i za film\, čiji je original također pratilo nekoliko varijanti remakea. \nPariška produkcija osvojila je šest nominacija za nagradu Molière\, uključujući i onu za najbolju komediju\, dvije nominacije za najboljeg sporednog glumca za Jean-Michela Dupuisa i Guillaumea de Tonquédeca\, zatim za najbolju sporednu glumicu za Valérie Benguigui\, najboljeg dramatičara za Matthieua Delaportea i Alexandrea de la Patellièrea i najbolju režiju za Bernarda Murata. \nPrevoditeljica: Vanda Mikšić\nAutorica adaptacije i dramaturginja: Dora Delbianco\nScenografkinja: Sara Haas\nKostimografkinja: Mia Popovska\nSuradnica za scenski pokret: Nastasja Štefanić Kralj\nOblikovatelj svjetla: Aleksandar Čavlek\nInspicijentica: Lorena Matešić  \nIgraju: \nÉlisabeth Garaud-Larchet – Anita Matić Delić\nPierre Garaud\, Élisabethin muž – Damir Poljičak\nClaude Gratignol\, Élisabethin prijatelj iz djetinjstva – Domagoj Ivanković\nVincent Larchet\, Élisabethin brat – Borko Perić\nAnna Caravati\, Vincentova partnerica – Mirela Videk Hranjec \nPopusti na grupne posjete (10 i više osoba)\nProdaja na tel. 01/4833 645\, 01/4833 646
URL:https://planforculture.com/event/gsk-kerempuh-sve-zbog-jednog-imena-27/
LOCATION:Satiričko kazalište Kerempuh\, Prolaz Fadila Hadžića 7\, Zagreb\, Croatia (Local Name: Hrvatska)
CATEGORIES:THEATER
ATTACH;FMTTYPE=image/jpeg:https://planforculture.com/wp-content/uploads/2025/10/Sve-zbog-jednog-imena-4.jpg
ORGANIZER;CN="Satiri%C4%8Dko%20kazali%C5%A1te%20Kerempuh":MAILTO:blagajna@kerempuh.hr
END:VEVENT
BEGIN:VEVENT
DTSTART;TZID=Europe/Zagreb:20251228T200000
DTEND;TZID=Europe/Zagreb:20251228T220500
DTSTAMP:20260420T084620
CREATED:20251007T105456Z
LAST-MODIFIED:20251022T081708Z
UID:10003230-1766952000-1766959500@planforculture.com
SUMMARY:GSK Kerempuh: TRAŽI SE NOVI SUPRUG
DESCRIPTION:Autor: Miro Gavran\nRedatelj: Željko Königsknecht \n˝Traži se novi suprug˝ neobični je spoj komedije karaktera i komedije situacije te pruža brojne mogućnosti glumcima za stvaranje atraktivnih likova. Središnji je lik udovica koja odluči pomoću tarot karata i novinskog oglasa pronaći novog muža koji bi trebao zadovoljiti idealne\, dakle\, nemoguće kriterije. Istodobno\, njezin prvi susjed\, usamljeni neženja\, odlučuje se napokon oženiti. Da bi osvojio njezino srce dosjeti se zamoliti za pomoć prijatelja iz djetinjstva\, kojega nagovori da se javi na oglas i odglumi nekoliko prosaca koji će biti jedan gori od drugog. Miro Gavran u ovom djelu s izrazitim simpatijama oslikava prepoznatljive junake naše svakodnevice koji nastoje ostvariti svoje snove i ambicije. \nDramaturg: Željko Königsknecht\nKostimografkinja: Tanja Rodd\nScenografkinja: Nina Mia Čikeš\nAutor glazbe: Mario Mirković\nOblikovateljica svjetla: Vesna Kolarec\nAsistent režije: Zvonko Benić\nUmjetnički savjetnik: Zoran Mužić\nOblikovanje vizualnih komunikacija: Love\, Ana studio i Dario Dević\nFotografkinja: Maja Kljajić \nIgraju:\nAnita Matić Delić\nDamir Poljičak\nŽeljko Königsknecht \nPopusti na grupne posjete (10 i više osoba)\nProdaja na tel. 01/4833 645\, 01/4833 646
URL:https://planforculture.com/event/gsk-kerempuh-trazi-se-novi-suprug-16/
LOCATION:Satiričko kazalište Kerempuh\, Prolaz Fadila Hadžića 7\, Zagreb\, Croatia (Local Name: Hrvatska)
CATEGORIES:THEATER
ATTACH;FMTTYPE=image/jpeg:https://planforculture.com/wp-content/uploads/2025/10/Trazi-se-novi-suprug-1.jpg
ORGANIZER;CN="Satiri%C4%8Dko%20kazali%C5%A1te%20Kerempuh":MAILTO:blagajna@kerempuh.hr
END:VEVENT
END:VCALENDAR