BEGIN:VCALENDAR
VERSION:2.0
PRODID:-//PLAN FOR CULTURE - ECPv6.0.6//NONSGML v1.0//EN
CALSCALE:GREGORIAN
METHOD:PUBLISH
X-ORIGINAL-URL:https://planforculture.com
X-WR-CALDESC:Events for PLAN FOR CULTURE
REFRESH-INTERVAL;VALUE=DURATION:PT1H
X-Robots-Tag:noindex
X-PUBLISHED-TTL:PT1H
BEGIN:VTIMEZONE
TZID:Europe/Zagreb
BEGIN:DAYLIGHT
TZOFFSETFROM:+0100
TZOFFSETTO:+0200
TZNAME:CEST
DTSTART:20250330T010000
END:DAYLIGHT
BEGIN:STANDARD
TZOFFSETFROM:+0200
TZOFFSETTO:+0100
TZNAME:CET
DTSTART:20251026T010000
END:STANDARD
BEGIN:DAYLIGHT
TZOFFSETFROM:+0100
TZOFFSETTO:+0200
TZNAME:CEST
DTSTART:20260329T010000
END:DAYLIGHT
BEGIN:STANDARD
TZOFFSETFROM:+0200
TZOFFSETTO:+0100
TZNAME:CET
DTSTART:20261025T010000
END:STANDARD
END:VTIMEZONE
BEGIN:VEVENT
DTSTART;TZID=Europe/Zagreb:20251007T170000
DTEND;TZID=Europe/Zagreb:20260526T183000
DTSTAMP:20260424T093233
CREATED:20251003T123648Z
LAST-MODIFIED:20251003T123648Z
UID:10003212-1759856400-1779820200@planforculture.com
SUMMARY:Strip-Lab: Mala akademija crteža i priče
DESCRIPTION:Strip-Lab: Mala akademija crteža i priča je program kreativnih radionica za djecu od 8 do 12 godina pod vodstvom Zdenka Mikše\, mag. educ. art. Cilj ovog programa je osnažiti dječju maštu\, kreativnost i samopouzdanje te razviti sposobnost izražavanja kroz crtež i priču. \nJesen – Škola crtanja Djeca otkrivaju prve korake crtanja i uče kako linijom i oblikom izraziti osjećaje. Kroz vježbe crtanja likova i izraza lica razvijaju pažnju\, sigurnost i osjećaj za crtež.\nZima – Tajne stripa Na zabavan način ulaze u svijet stripa. Upoznaju elemente kao što su tabla\, kadar\, balončići i onomatopeje te uče kako osmisliti i ispričati kratku priču kroz slike i tekst.\nProljeće – Ilustracija Djeca uče o bojama i kompozicijama te otkrivaju kako slikom stvoriti atmosferu priče. Korak po korak prolaze proces stvaranja ilustracije spajajući crtež i priču. \nNa poticajnim i procesno orijentiranim radionicama djeca slobodno crtaju\, maštaju i stvaraju vlastite priče igrajući se bojama\, oblicima i raznovrsnim tehnikama čime se potiče prirodna znatiželja\, kreativnost i izgradnja samopouzdanja. Uz stručno vodstvo u opuštenoj i podržavajućoj atmosferi djeca uče kako izražavati svoje ideje\, surađivati s drugima i uživati u procesu zajedničkog stvaranja.
URL:https://planforculture.com/event/strip-lab-mala-akademija-crteza-i-price/
CATEGORIES:WORKSHOP
ATTACH;FMTTYPE=image/jpeg:https://planforculture.com/wp-content/uploads/2025/10/STRIP-LAB.jpg
ORGANIZER;CN="Hrvatski%20%C5%A1kolski%20muzej%2C%20galerija%20%22%C5%A0kolica%20za%205%22":MAILTO:hsm@hsmuzej.hr
END:VEVENT
BEGIN:VEVENT
DTSTART;VALUE=DATE:20251210
DTEND;VALUE=DATE:20260911
DTSTAMP:20260424T093233
CREATED:20251124T111208Z
LAST-MODIFIED:20260212T095440Z
UID:10003319-1765324800-1789084799@planforculture.com
SUMMARY:Izložba „Bilo jednom… hrvatske tvornice igračaka u 20. stoljeću“
DESCRIPTION:Izložba „Bilo jednom… hrvatske tvornice igračaka u 20. stoljeću“\, kojom Hrvatski školski muzej istražuje povijest\, razvoj i kulturni značaj industrijski proizvedenih igračaka u Hrvatskoj\, otvara se 10. prosinca 2025. u 19 sati u galeriji muzeja „Školica za 5“ (Hebrangova 5\, Zagreb). Posjetitelji će kroz izložene predmete moći pratiti kako su igračke oblikovale djetinjstvo\, reflektirale društvene promjene i postale vrijedan dio hrvatske kulturne i pedagoške baštine.
URL:https://planforculture.com/event/izlozba-bilo-jednom-hrvatske-tvornice-igracaka-u-20-stoljecu/
LOCATION:ZAGREB
CATEGORIES:EXHIBITION
ATTACH;FMTTYPE=image/jpeg:https://planforculture.com/wp-content/uploads/2025/11/Plakat-final-.jpg
ORGANIZER;CN="Hrvatski%20%C5%A1kolski%20muzej%2C%20galerija%20%22%C5%A0kolica%20za%205%22":MAILTO:hsm@hsmuzej.hr
END:VEVENT
BEGIN:VEVENT
DTSTART;TZID=Europe/Zagreb:20260513T190000
DTEND;TZID=Europe/Zagreb:20260513T221500
DTSTAMP:20260424T093233
CREATED:20260317T115154Z
LAST-MODIFIED:20260317T115154Z
UID:10003436-1778698800-1778710500@planforculture.com
SUMMARY:GSK Kerempuh: OTAC\, KĆI I DUH SVETI
DESCRIPTION:Autor: Mate Matišić\nRedatelj: Janusz Kica \n˝Otac\, Kći i Duh Sveti˝ nova je duologija Mate Matišića napisana za Kerempuh koju na scenu postavlja Janusz Kica. Ovaj umjetnički tandem predstavlja sam vrh kazališne umjetničke produkcije i spoj su koji obećava neponovljiv teatarski doživljaj. U ovim urnebesnim tekstovima prožetim gorkim humorom\, finom ironijom i nevjerojatnim apsurdom\, Matišić ispisuje obrate dostojne najpametnijih krimića\, kopajući uvijek dublje u ponore samog sebe i nalazeći krivca na najneočekivanijim mjestima. Jesmo li voljni doći do istine\, ma koliko skrivena ona bila i još važnije\, platiti cijenu koju ona podrazumijeva? Za autora je odgovor jasan i nedvosmislen. Uvijek istina i ništa drugo osim istine. \nDramaturginja: Dora Delbianco\nKostimografkinja: Doris Kristić\nScenografkinja: Liberta Mišan\nAutorica glazbe: Tamara Obrovac\nOblikovatelj svjetla: Aleksandar Čavlek\nInspicijentica: Mirela Tihava \n  \nIgraju: \nSIJAMSKI BLIZANCI PLEŠU SAMBU ILI NEVINI UMIRU PRVI \nSlavko – Vedran Mlikota \nSlavica\, njegova supruga – Branka Trlin \nAna\, njihova kći – Mirela Videk Hranjec \nDjevojčica – Anica Kontić \nDjevojčica 2 – Tamara Kovačević \nSvećenik – Dražen Čuček \n  \nŽENE BEZ ZUBA ILITI PLES MELANIJE TRUMP \nBlaž – Marko Makovičić \nAna – Ines Bojanić \nMarko – Hrvoje Kečkeš \nMarija – Linda Begonja \nTkz. Melanija Trump – Mia Begović \nMatea – Anica Kontić \nDunja – Tamara Kovačević \nMate – Dražen Čuček \nMuškarac – Vilim Matula \n  \nPopusti na grupne posjete (10 i više osoba)\nProdaja na tel. 01/4833 645\, 01/4833 646
URL:https://planforculture.com/event/gsk-kerempuh-otac-kci-i-duh-sveti-22/
LOCATION:Satiričko kazalište Kerempuh\, Prolaz Fadila Hadžića 7\, Zagreb\, Croatia (Local Name: Hrvatska)
CATEGORIES:THEATER
ATTACH;FMTTYPE=image/jpeg:https://planforculture.com/wp-content/uploads/2026/03/Otac-Kci-i-Duh-Sveti.jpg
ORGANIZER;CN="Satiri%C4%8Dko%20kazali%C5%A1te%20Kerempuh":MAILTO:blagajna@kerempuh.hr
END:VEVENT
BEGIN:VEVENT
DTSTART;TZID=Europe/Zagreb:20260514T200000
DTEND;TZID=Europe/Zagreb:20260514T211000
DTSTAMP:20260424T093233
CREATED:20260317T112808Z
LAST-MODIFIED:20260317T112808Z
UID:10003428-1778788800-1778793000@planforculture.com
SUMMARY:GSK Kerempuh: MAMA SE OPILA KO MAJKA
DESCRIPTION:Autor: Ivor Martinić\nRedateljica: Marina Pejnović \n“Mama se opila ko majka” je drama o jednoj običnoj zagrebačkoj obitelji iz nebodera u Trnskom i događajima koji su je zatekli jednog\, sasvim običnog\, 9. ožujka 2025. godine. Tog dana bilo je samo malo toplije nego što su 9. ožujci inače znali biti kroz povijest\, i činilo se da ništa neće taj datum učiniti iole vrijednim sjećanja. \nNo\, jedna žena odlučila je začiniti svoju svakodnevicu. Marina\, majka troje djece\, upravo je tog dana prvi put u životu odlučila napiti se — “ko majka”. Kako će ta odluka utjecati na njezinu obitelj\, djecu\, susjede i ostatak rodbine? A kako će utjecati na nju samu? Što će se dogoditi kada konačno spozna onu staru istinu: “Pijan govori ono što trijezan misli.” \nTo je drama o govorenju istine – o životu bez filtera\, bez kontrole. O načinu na koji živimo\, na koji trpimo sebe i one oko nas i o tome kako bismo možda mogli živjeti. \nIgraju:\nMarina – Tanja Smoje\nZoran – Hrvoje Kečkeš\nTea – Anica Kontić\nTom – Jakov Zovko\nSusjeda Klara – Mia Anočić – Valentić\nSusjed Miro – Vedran Mlikota\nVesna – Branka Trlin \n  \nPopusti na grupne posjete (10 i više osoba)\nProdaja na tel. 01/4833 645\, 01/4833 646
URL:https://planforculture.com/event/gsk-kerempuh-mama-se-opila-ko-majka-12/
LOCATION:Satiričko kazalište Kerempuh\, Prolaz Fadila Hadžića 7\, Zagreb\, Croatia (Local Name: Hrvatska)
CATEGORIES:THEATER
ATTACH;FMTTYPE=image/jpeg:https://planforculture.com/wp-content/uploads/2026/03/Mama-se-opila-ko-majka-1.jpg
ORGANIZER;CN="Satiri%C4%8Dko%20kazali%C5%A1te%20Kerempuh":MAILTO:blagajna@kerempuh.hr
END:VEVENT
BEGIN:VEVENT
DTSTART;TZID=Europe/Zagreb:20260515T200000
DTEND;TZID=Europe/Zagreb:20260515T215000
DTSTAMP:20260424T093233
CREATED:20260317T111119Z
LAST-MODIFIED:20260409T080821Z
UID:10003424-1778875200-1778881800@planforculture.com
SUMMARY:GSK Kerempuh: PUTUJUĆE KAZALIŠTE ŠOPALOVIĆ
DESCRIPTION:Autor: Ljubomir Simović \nRedatelj:  Aleksandar Popovski \nAutorica adaptacije i dramaturginja: Dora Delbianco \n“Putujuće kazalište Šopalović”\, klasična je poetska drama s elementima tragedije i iskričavog humora koji izbija kao simbol autentičnosti pojedinaca te kao nusprodukt apsurda svakodnevice u kojoj likove zatičemo. U fokusu su članovi glumačke trupe i putujućeg kazališta Šopalović\, građani okupiranog grada koji nastavljaju igrati svoj repertoar na otvorenom\, dok se rat oko njih razbuktava do krajnjih granica. Komad je to koji kroz obilje duhovitosti\, ali uvijek uz kulisu tragike i duboke tuge koja protagoniste okružuje\, postavlja pitanje o važnosti umjetnosti u vremenima kada ludilo preuzima glavnu riječ. \nKoji je najbolji odgovor na mržnju? Ljubav\, ona prema životu\, ali i prema svojoj profesiji. A koji je najtočniji odgovor na destrukciju? Upravo kreiranje i umjetnost u cjelini. Umjetničko djelovanje kao najhumaniji trag ljudskog postojanja. Je li u tako teška vremena primjereno igranje predstava\, jedno je od pitanja koje komad otvara te se u njemu progovara o važnosti igre i slavljenju svega onog dobrog što nam književnost i dramska umjetnost mogu donijeti. I na kraju krajeva\, s jedne strane\, kada bi kazališta čekala prestanak ratova za početak svojeg rada\, ne bi nikada stigla na red\, a s druge – ima li na svijetu jače sile od one stvaralačke koja bi besmislenoj agresiji\, mogla uspješnije baciti rukavicu u lice. \n  \nIgraju: \nMajcen\, Sipo – Dražen Čuček \nMilan – Ozren Opačić \nDrobac – Tarik Filipović \nBožo Babić – Damir Poljičak \nGina – Ines Bojanić \nSemka – Ornela Vištica \nDarko – Josip Brakus \nMatija Šopalović – Borko Perić \nElizabeta Protić – Anita Matić Delić \nSofija Subotić – Josipa Anković \nFilip Trnavac – Marko Makovičić \nPopusti na grupne posjete (10 i više osoba)\nProdaja na tel. 01/4833 645\, 01/4833 646
URL:https://planforculture.com/event/gsk-kerempuh-putujuce-kazaliste-sopalovic-9/
LOCATION:Satiričko kazalište Kerempuh\, Prolaz Fadila Hadžića 7\, Zagreb\, Croatia (Local Name: Hrvatska)
CATEGORIES:THEATER
ATTACH;FMTTYPE=image/jpeg:https://planforculture.com/wp-content/uploads/2026/03/Putujuce-kazaliste-Sopalovic-5.jpg
ORGANIZER;CN="Satiri%C4%8Dko%20kazali%C5%A1te%20Kerempuh":MAILTO:blagajna@kerempuh.hr
END:VEVENT
BEGIN:VEVENT
DTSTART;TZID=Europe/Zagreb:20260516T200000
DTEND;TZID=Europe/Zagreb:20260516T214000
DTSTAMP:20260424T093233
CREATED:20260317T113936Z
LAST-MODIFIED:20260317T113936Z
UID:10003434-1778961600-1778967600@planforculture.com
SUMMARY:GSK Kerempuh: SVE ZBOG JEDNOG IMENA
DESCRIPTION:Autori teksta: Matthieu Delaporte & Alexandre de La Patellière\nRedateljica: Saša Broz \nRadnja predstave odvija se jedne večeri\, na druženju obitelji i prijatelja. Sve započinje idilično\, s Vincentom koji dijeli fotografiju svoje i Annine tek nedavno začete bebe. No ubrzo se dobra atmosfera drastično mijenja kada im Vincent objavi da će se dijete zvati Adolphe\, što je francuski ekvivalent za Adolfa… \nOva vrhunska komedija hit je u više od 45 zemalja diljem svijeta\, zahvaljujući iskričavosti dijaloga te detaljno oslikanim\, vjerodostojnim i neodoljivim likovima s kojima se lako možemo poistovjetiti. Jedna od centralnih tema jest suparništvo između braće i sestara\, tinjajuća ogorčenost i netrpeljivost koja se vrlo lako može razumjeti u bilo kojem okruženju. \nU 90 minuta trajanja predstave nema ni sekunde pauze niti praznog hoda\, pa tako protagonisti\, ali ni publika\, do samog kraja ne dolaze do daha. Tekst u mnogočemu asocira na Rezin komad ˝Bog masakra˝\, kao i na kultni Genoveseov film ˝Perfetti sconosciuti˝ (“Potpuni stranci”). \nKomad su napisali Matthieu Delaporte i Alexandre de la Patellière\, a uspješno je adaptiran i za film\, čiji je original također pratilo nekoliko varijanti remakea. \nPariška produkcija osvojila je šest nominacija za nagradu Molière\, uključujući i onu za najbolju komediju\, dvije nominacije za najboljeg sporednog glumca za Jean-Michela Dupuisa i Guillaumea de Tonquédeca\, zatim za najbolju sporednu glumicu za Valérie Benguigui\, najboljeg dramatičara za Matthieua Delaportea i Alexandrea de la Patellièrea i najbolju režiju za Bernarda Murata. \nPrevoditeljica: Vanda Mikšić\nAutorica adaptacije i dramaturginja: Dora Delbianco\nScenografkinja: Sara Haas\nKostimografkinja: Mia Popovska\nSuradnica za scenski pokret: Nastasja Štefanić Kralj\nOblikovatelj svjetla: Aleksandar Čavlek\nInspicijentica: Lorena Matešić  \nIgraju: \nÉlisabeth Garaud-Larchet – Anita Matić Delić\nPierre Garaud\, Élisabethin muž – Damir Poljičak\nClaude Gratignol\, Élisabethin prijatelj iz djetinjstva – Domagoj Ivanković\nVincent Larchet\, Élisabethin brat – Borko Perić\nAnna Caravati\, Vincentova partnerica – Mirela Videk Hranjec \nPopusti na grupne posjete (10 i više osoba)\nProdaja na tel. 01/4833 645\, 01/4833 646
URL:https://planforculture.com/event/gsk-kerempuh-sve-zbog-jednog-imena-36/
LOCATION:Satiričko kazalište Kerempuh\, Prolaz Fadila Hadžića 7\, Zagreb\, Croatia (Local Name: Hrvatska)
CATEGORIES:THEATER
ATTACH;FMTTYPE=image/jpeg:https://planforculture.com/wp-content/uploads/2026/03/Sve-zbog-jednog-imena-2.jpg
ORGANIZER;CN="Satiri%C4%8Dko%20kazali%C5%A1te%20Kerempuh":MAILTO:blagajna@kerempuh.hr
END:VEVENT
BEGIN:VEVENT
DTSTART;TZID=Europe/Zagreb:20260517T200000
DTEND;TZID=Europe/Zagreb:20260517T220000
DTSTAMP:20260424T093233
CREATED:20260317T115533Z
LAST-MODIFIED:20260317T115533Z
UID:10003437-1779048000-1779055200@planforculture.com
SUMMARY:GSK Kerempuh: SUBOTA\, NEDJELJA I PONEDJELJAK
DESCRIPTION:Autor: Eduardo de Filippo\nRedatelj: Paolo Magelli \nNedjeljni ručak u domu obitelji Priore okuplja tri generacije koje žive pod istim krovom. Tu je djed\, zatim roditelji\, djeca\, njihovi partneri\, teta\, nećak\, susjedi i drugi nezvani ili pak zvani gosti – plejada likova čija nas šarolikost uvodi u bogat i često turbulentan svijet razgranatih obiteljskih i inih odnosa dok se prepliću niti njihovih sudbina i međusobnih veza. Glumački ansambl vješto razotkriva slojeve života svojih likova\, otkrivajući nam njihove tajne\, strahove\, ambicije i snove. U tome mediteranski glasnom ali ipak intimnom okruženju otkrivaju se univerzalne istine koje nas sve povezuju kao što je prirodna želja za ljubavlju\, razumijevanjem i pripadnošću.\nKao intrigantan okvir priči poslužio je sukob između starog i novog\, interakcija tradicije i modernosti. Obitelj Priore čvrsto je ukorijenjena u svojim napolitanskim tradicijama\, ali se suočava s vjetrovima promjena koji pušu kroz njihove živote. Sukob generacija jasno ilustrira napetosti između prihvaćanja uspostavljenih normi i neizbježnog traženja novih putova. \nPrevoditeljica: Branka Rakić\nAutorica adaptacije i dramaturginja: Željka Udovičić Pleština\nScenograf: Miljenko Sekulić\nKostimografkinja: Marita Ćopo\nAutori glazbe: Ivanka Mazurkijević i Damir Martinović Mrle\nAutor video projekcija: Ivan Marušić Klif\nOblikovatelj svjetla: Aleksandar Čavlek\nKoreografkinja za ples mambo: Tamara Despot\nAsistentica redatelja: Mirela Tihava\nPomoćnik redatelja: Max Foretić\nInspicijentica: Mirela Tihava \n  \nIgraju: \nRosa – Linda Begonja\nVirginia – Mia Anočić – Valentić / Mirela Videk Hranjec\nPepino – Dražen Čuček\nRocco – Filip Detelić\nFederico – Igor Jurinić\nAntonio – Vilim Matula\nGiulianella – Josipa Anković\nAmelia – Anita Matić Delić\nAtilio – Matija Šakoronja\nRafaele – Marko Makovičić\nLuigi Ianiello – Hrvoje Kečkeš\nElena Ianiello – Branka Trlin\nKrojač – Vedran Mlikota\nMikele – Damir Poljičak\nMaria Carolina – Ana Maras Harmander\nRoberto – Davor Kovač\nDoktor – Karlo Mlinar \nPopusti na grupne posjete (10 i više osoba)\nProdaja na tel. 01/4833 645\, 01/4833 646
URL:https://planforculture.com/event/gsk-kerempuh-subota-nedjelja-i-ponedjeljak-15/
LOCATION:Satiričko kazalište Kerempuh\, Prolaz Fadila Hadžića 7\, Zagreb\, Croatia (Local Name: Hrvatska)
CATEGORIES:THEATER
ATTACH;FMTTYPE=image/jpeg:https://planforculture.com/wp-content/uploads/2026/03/Subota-nedjelja-i-ponedjeljak.jpg
ORGANIZER;CN="Satiri%C4%8Dko%20kazali%C5%A1te%20Kerempuh":MAILTO:blagajna@kerempuh.hr
END:VEVENT
END:VCALENDAR