BEGIN:VCALENDAR
VERSION:2.0
PRODID:-//PLAN FOR CULTURE - ECPv6.0.6//NONSGML v1.0//EN
CALSCALE:GREGORIAN
METHOD:PUBLISH
X-WR-CALNAME:PLAN FOR CULTURE
X-ORIGINAL-URL:https://planforculture.com
X-WR-CALDESC:Events for PLAN FOR CULTURE
REFRESH-INTERVAL;VALUE=DURATION:PT1H
X-Robots-Tag:noindex
X-PUBLISHED-TTL:PT1H
BEGIN:VTIMEZONE
TZID:Europe/Zagreb
BEGIN:DAYLIGHT
TZOFFSETFROM:+0100
TZOFFSETTO:+0200
TZNAME:CEST
DTSTART:20230326T010000
END:DAYLIGHT
BEGIN:STANDARD
TZOFFSETFROM:+0200
TZOFFSETTO:+0100
TZNAME:CET
DTSTART:20231029T010000
END:STANDARD
BEGIN:DAYLIGHT
TZOFFSETFROM:+0100
TZOFFSETTO:+0200
TZNAME:CEST
DTSTART:20240331T010000
END:DAYLIGHT
BEGIN:STANDARD
TZOFFSETFROM:+0200
TZOFFSETTO:+0100
TZNAME:CET
DTSTART:20241027T010000
END:STANDARD
BEGIN:DAYLIGHT
TZOFFSETFROM:+0100
TZOFFSETTO:+0200
TZNAME:CEST
DTSTART:20250330T010000
END:DAYLIGHT
BEGIN:STANDARD
TZOFFSETFROM:+0200
TZOFFSETTO:+0100
TZNAME:CET
DTSTART:20251026T010000
END:STANDARD
END:VTIMEZONE
BEGIN:VEVENT
DTSTART;TZID=Europe/Zagreb:20250508T180000
DTEND;TZID=Europe/Zagreb:20250508T180000
DTSTAMP:20260424T225536
CREATED:20250506T102907Z
LAST-MODIFIED:20250506T102907Z
UID:10003051-1746727200-1746727200@planforculture.com
SUMMARY:ASAP TALKS #18 | PLAN FIRME KAO PLAN GRADA - O skaliranju\, odgovornosti i organizacionoj arhitekturi
DESCRIPTION:  \n08.05.2025. | 18:00  | Cara Uroša 18\, Nova Iskra Dorćol\, Beograd \nASAP TALKS #18 | PLAN FIRME KAO PLAN GRADA – O skaliranju\, odgovornosti i organizacionoj arhitekturi \n  \nVerujemo da nije potrebno posebno najavljivati i oglašavati događaj na kojem će govoriti Marko Dabrović\, partner u zagrebačkom arhitektonskom studiju 3LHD. \n3LHD je nedavno proslavila 30 godina svog postojanja\, što je u geopolitičkom prostoru u kojem postoje poltičke zajednice/ države koje imaju kraću istoriju postojanja pravi kuriozitete. \nNe želimo ovom najavom da pružimo više uvida u teme kroz koje će vas Marko Dabrović provesti.  \nPreporučujemo vam da se prijavite za prisustvo putem linka \nhttps://forms.gle/oFnbd2SchqbgFagG6
URL:https://planforculture.com/event/asap-talks-18-plan-firme-kao-plan-grada-o-skaliranju-odgovornosti-i-organizacionoj-arhitekturi/
LOCATION:Nova Iskra Workspace\, Cara Uroša 18\, Belgrade\, 11000\, Serbia
CATEGORIES:ARCHITECTURE
ATTACH;FMTTYPE=image/png:https://planforculture.com/wp-content/uploads/2025/05/Artboard-1-copy-5_4.png
ORGANIZER;CN="ASAP%20-%20Association%20of%20Serbian%20Architectural%20Practices":MAILTO:contact@asap.org.rs
END:VEVENT
BEGIN:VEVENT
DTSTART;TZID=Europe/Zagreb:20250423T180000
DTEND;TZID=Europe/Zagreb:20250423T180000
DTSTAMP:20260424T225536
CREATED:20250422T124808Z
LAST-MODIFIED:20250422T124808Z
UID:10003036-1745431200-1745431200@planforculture.com
SUMMARY:ASAP PRO #11 – AI ALATI U ARHITEKTURI
DESCRIPTION:Prostor\, Beogradska 11\, Petrovaradin\, Novi Sad \nASAP PRO #11 | AI ALATI U ARHITEKTURI \nGovori:\n\n–Veljko Ćirić\, M. Arch. \nModerator: \n-Igor Marsenić\, izvršni menadžer ASAP \n\nAI u arhitekturi: Od alata do kreativnog saradnika \nKako veštačka inteligencija menja arhitektonsku praksu i koje su mogućnosti pomeranja fokusa sa automatizacije ka intuitivnijim\, čoveku prilagođenim kreativnim procesima? Na osnovu svog iskustva u arhitekturi i studija u oblasti interakcije čoveka i AI\, Veljko deli uvide u razvoj specijalizovanih alata za arhitekte koje je razvijao\, uključujući prilagođene GPT modele i generativne AI sisteme. Publika će imati priliku da uživo testira ove alate i radne procese\, stičući konkretan uvid u to kako veštačka inteligencija može postati kreativni saradnik\, a ne samo izvršni alat.
URL:https://planforculture.com/event/asap-pro-11-ai-alati-u-arhitekturi/
LOCATION:PROSTOR\, Beogradska 11\, Novi Sad\, Petrovaradin\, 21000\, Serbia
CATEGORIES:ARCHITECTURE
ATTACH;FMTTYPE=image/png:https://planforculture.com/wp-content/uploads/2025/04/Pro-11-ns-prostor.png
ORGANIZER;CN="ASAP%20-%20Association%20of%20Serbian%20Architectural%20Practices":MAILTO:contact@asap.org.rs
END:VEVENT
BEGIN:VEVENT
DTSTART;TZID=Europe/Zagreb:20241107T170000
DTEND;TZID=Europe/Zagreb:20241107T183000
DTSTAMP:20260424T225536
CREATED:20241105T104800Z
LAST-MODIFIED:20241105T105023Z
UID:10002716-1730998800-1731004200@planforculture.com
SUMMARY:ASAP TALKS #17 – KONKURSNE POLITIKE : ISKUSTVA IZ REGIONA
DESCRIPTION:StartIT Centar\, Savska 5\, Beograd \nASAP TALKS #17 | KONKURSNE POLITIKE : Iskustva iz regiona \nGosti:\n\n–Roman Šilje\, Udruženje hrvatskih arhitekata \n-Novica Mitrović\, Predsednik strukovne Komore Arhitekata Crne Gore \n\n  \nTragedija od 1. 11. nas upozorava da je poslednji momenat da srpsko društvo i donosioci odluka promene pristup kako se sprovode javne investicije. Verujemo da će se istragom utvrditi činjenice i učinjeni propusti koji su doveli do gubitka 14 ljudskih života. Verujemo da su nužne promene u konkursnoj i tenderskoj politici kako se ovakve tragedije ne bi ponavljale. \nAkcionim merama nedavno usvojene Nacionalne arhitektonske strategije 2023-2035 (Sl. Glasnik RS br. 48/2023)razvijeni su novi i unapređeni postojeći instrumenti i mehanizmi kojima se utiče na kvalitet arhitekture i građene sredine\, izmena zakonskih i podzakonskih akata kojima se reguliše status i institucija arhitektonskog konkursa. \nKako bi kao profesionalna zajednica prepoznali sve pozitivne primere u regionalnim politikama pozvali smo kolege iz regiona da sa nama podele svoje uvide i iskustva. \nRepublika Hrvatska\, kao zemlja članica EU\, koja je svoje arhitektonske politike uskladila sa Direktivama EU\, ali i Crna Gora\, kao država kandidat\, na putu ka članstvu u EU\, učinile su u poslednjih par godina značajne korake u (re)definisanju mesta i uloge arhitekture u društvu. \nVerujemo da je pravi momenat da uz pomoć kolega iz regiona mapiramo one prakse i pozitivne primere na koje možemo da se ugledamo i da primenimo i u domaćem zakonodavtsvu. \n  \nLINK ZA PRIJAVU: https://www.youtube.com/live/DaLgNk6_WRc?si=OLrhiQuCZc8z8Es5https://forms.gle/2ftS4kh72Ayc7Luq9
URL:https://planforculture.com/event/asap-talks-17-konkursne-politike-iskustva-iz-regiona/
LOCATION:StartIT centar\, Savska 5\,\, Belgrade\, Serbia
CATEGORIES:ARCHITECTURE
ATTACH;FMTTYPE=image/png:https://planforculture.com/wp-content/uploads/2024/11/Artboard-2-copy.png
ORGANIZER;CN="ASAP%20-%20Association%20of%20Serbian%20Architectural%20Practices":MAILTO:contact@asap.org.rs
END:VEVENT
BEGIN:VEVENT
DTSTART;TZID=Europe/Zagreb:20240321T170000
DTEND;TZID=Europe/Zagreb:20240321T190000
DTSTAMP:20260424T225536
CREATED:20240318T145549Z
LAST-MODIFIED:20240318T145549Z
UID:10002060-1711040400-1711047600@planforculture.com
SUMMARY:ASAP TALKS #14 | ARHITEKTURA I MEDIJI
DESCRIPTION:Prostor\, Beogradska 11\, Novi Sad\, Petrovaradin \nASAP TALKS #14 | ARHITEKTURA I MEDIJI | Igor Conić\, Robert Čoban i Igor Mikitišin \nDa li smo u pravu kada tvrdimo da mainstream media ne interesuje arhitektura jer ne prodaje kopije izdanja i ne podstiče na click byte-ove. Ili je odgovornost na nama\, jer smo ostali zarobljeni u nedovoljno komunikativnom jeziku struke koji je najčešće nerazumljiv široj javnosti. \nDa li grešimo što neprekidno očekujemo da se ponovo dogodi neke nove “Antologija kuća” Ranka Radovića na javnom medijskom servisu ili kritički članci Mihaila Mitrovića u “Politici” ili smo samo neodlučni i nekreatvini da izlaz iz medijske senke potražimo na mikroekranima\, na Tik Tik-u ili podkastima. \nDa li ove “male”\, mobilne forme mogu doprineti popularizaciji arhitekture u javnosti i preokrenuti trend u kom je arhitektura vest samo u objavama aktivističkih grupa na društvenim platformama. Da li uopšte “mikroekran” može da ponudi dovoljno kvalitetan sadržaja ili je to moguće jedino u velikim\, tradicionalnim medijima. \nNa ova i mnoga druga pitanja koja već dugo muče arhitektonsku zajednicu u Srbiji govoriće naši gosti na ASAP TALKS #14 kojeg organizujemo 21. 3. u Novom Sadu: Robert Čoban\, Igor Mikitišin i Igor Conić \n  \nLink za prijavu: https://forms.gle/jy4uJSE3kfAJvhYj9
URL:https://planforculture.com/event/asap-talks-14-arhitektura-i-mediji/
LOCATION:PROSTOR\, Beogradska 11\, Novi Sad\, Petrovaradin\, 21000\, Serbia
CATEGORIES:ARCHITECTURE
ATTACH;FMTTYPE=image/png:https://planforculture.com/wp-content/uploads/2024/03/INTRO-08-IG.png
ORGANIZER;CN="ASAP%20-%20Association%20of%20Serbian%20Architectural%20Practices":MAILTO:contact@asap.org.rs
END:VEVENT
BEGIN:VEVENT
DTSTART;TZID=Europe/Zagreb:20240308T170000
DTEND;TZID=Europe/Zagreb:20240308T200000
DTSTAMP:20260424T225536
CREATED:20240305T132149Z
LAST-MODIFIED:20240305T132404Z
UID:10002043-1709917200-1709928000@planforculture.com
SUMMARY:ASAP PRO #08 – RELJA DERETA
DESCRIPTION:StartIT Centar\, Savska 5\, Beograd \nASAP PRO #08 | Relja Dereta – PREZENTACIJSKE VEŠTINE: Ključni aspekti i kako ih razvijati \n  \n  \n“Kada čujemo prezentacijske veštine\, često prvo pomislimo na javni nastup i pitch pred klijentom. Međutim\, svaki sastanak\, svaka komunikacija je prostor gde možemo koristiti i vežbati ove veštine. \nNa predavanju ćemo istražiti ključne aspekte prezentacijskih veština\, kao i kako da ih samostalno razvijamo: \n–       Definisanje ciljeva različitih faza u nastupu – prepoznavanje situacije u kojoj komuniciramo\, utvrđivanje potreba publike\, građenje poverenja sa sagovornikom\, motivisanje na naredne korake… \n–       Prevođenje ideja – kako da kroz storytelling\, metafore\, poređenja i druge tehnike svoju poruku upakujemo tako da je publika zaista razume \n–       Autentičan nastup – kako koristimo svoj glas\, ruke\, telo\, prostor\, kako da se povežemo sa sobom i svojom publikom\, kako da prevaziđemo tremu i odgovorimo na neplanirane situacije.”
URL:https://planforculture.com/event/asap-pro-08-relja-dereta/
LOCATION:StartIT centar\, Savska 5\,\, Belgrade\, Serbia
CATEGORIES:ARCHITECTURE
ATTACH;FMTTYPE=image/png:https://planforculture.com/wp-content/uploads/2024/03/PRO-08-IG-Post.png
ORGANIZER;CN="ASAP%20-%20Association%20of%20Serbian%20Architectural%20Practices":MAILTO:contact@asap.org.rs
END:VEVENT
BEGIN:VEVENT
DTSTART;TZID=Europe/Zagreb:20240301T170000
DTEND;TZID=Europe/Zagreb:20240301T200000
DTSTAMP:20260424T225536
CREATED:20240301T122822Z
LAST-MODIFIED:20240301T122822Z
UID:10002039-1709312400-1709323200@planforculture.com
SUMMARY:ASAP INTRO #08 SEASON 2024 OPENING
DESCRIPTION:Nova Iskra Workspace – Dorćol\, Cara Uroša 18\, Beograd \nASAP INTRO #08 | SEASON 2024 OPENING \n  \nGost: Mr Jasmina Radovanović\, NALED \n  \n  \n 
URL:https://planforculture.com/event/asap-intro-08-season-2024-opening/
LOCATION:Nova Iskra Workspace\, Cara Uroša 18\, Belgrade\, 11000\, Serbia
CATEGORIES:ARCHITECTURE
ATTACH;FMTTYPE=image/png:https://planforculture.com/wp-content/uploads/2024/03/INTRO-04-IG.png
ORGANIZER;CN="ASAP%20-%20Association%20of%20Serbian%20Architectural%20Practices":MAILTO:contact@asap.org.rs
END:VEVENT
BEGIN:VEVENT
DTSTART;TZID=Europe/Zagreb:20231201T160000
DTEND;TZID=Europe/Zagreb:20231201T160000
DTSTAMP:20260424T225536
CREATED:20231128T173056Z
LAST-MODIFIED:20231128T173056Z
UID:10001978-1701446400-1701446400@planforculture.com
SUMMARY:ASAP PRO #07 | HOLISTIČKI PRISTUP POSLOVANJU: Primenjena ekonomija / Formiranje cene
DESCRIPTION:StartIT centar\, Savska 5\, Beograd \nASAP PRO #17 | HOLISTIČKI PRISTUP POSLOVANJU: Primenjena ekonomija / Formiranje cene \n  \n  \nIzuzetna nam je čast što će tokom ASAP PRO #07 svoja poslovna iskustva sa našom zajednicom podeliti gospodin Srđan Janićijević\, osnivač Mokrogorska škola menadžmenta \nArhitektonskoj zajednici su daleke i strane reči poput business\, profit\, preduzetništvo i zbog toga smo zamolili gospodina Janićijevića za kratku izjavu zbog čega on misli da bi arhitekte trebalo da dođu na naš zajednički event u petak 1. 12. \n“Vodjenje biznisa je zanat kao i svaki drugi. Nekad šegrt\, danas pripravnik\, nekad kalfa\, danas menadžer\, nekad majstor\, uvek MAJSTOR! \nMajstorstvo u poslu može da se postigne. Nije 100% sigurno da postoji algoritam\, medjutim postoji skoro siguran put kako do majstorstva možete da stignete. \nMoja iskustva važe jednako za arhitekte\, kao i za konglomerate. \nTemelji treba da su snažni\, konstrukcija čvrsta\, armatura mora da je jaka\, a zanatski radovi i enterijer prema ukusu i mogućnostima. \nRadujem se da razgovaramo o uvidima za razvoj poslovanja koje sam tokom godina stekao!” \n  \nLink za prijavu: https://forms.gle/G41uSTmyJh2ks9F88
URL:https://planforculture.com/event/asap-pro-07-holisticki-pristup-poslovanju-primenjena-ekonomija-formiranje-cene/
LOCATION:StartIT centar\, Savska 5\,\, Belgrade\, Serbia
CATEGORIES:ARCHITECTURE
ATTACH;FMTTYPE=image/png:https://planforculture.com/wp-content/uploads/2023/11/ASAP-PRO-07.png
ORGANIZER;CN="ASAP%20-%20Association%20of%20Serbian%20Architectural%20Practices":MAILTO:contact@asap.org.rs
END:VEVENT
BEGIN:VEVENT
DTSTART;TZID=Europe/Zagreb:20231113T080000
DTEND;TZID=Europe/Zagreb:20231113T170000
DTSTAMP:20260424T225536
CREATED:20231113T161012Z
LAST-MODIFIED:20231113T161012Z
UID:10000137-1699862400-1699894800@planforculture.com
SUMMARY:ASAP TALKS #14 | ARHITEKTURA I MEDIJI: Čekajući prime-time
DESCRIPTION:Ako su mediji “ogledalo” jednog društva\, možemo s pravom postaviti pitanje u kom je stanju naše društvo. S tim u vezi ne bi trebalo da nas čude ogromni otpori u javnosti brojnim savremenim arhitektonskim delima. Više je nego očigledna raspolućenost između ukusa javnosti i savremene arhitekture.\nDa li postoji i naš udeo krivice time što organizujemo događaje gde se isključivo obraćamo jedni drugima u svojevrsnom profesionalnom monologu\, zanemarujući sve i svakog ko pripada “profanoj” sferi društva. U kojoj meri su odgovorni donosioci odluka i regulatorna tela\, koja su ustupila javni resurs poput nacionalne medijske frekfencije ne uslovljavajuči emitere da kreiraju medijske proizvode koji bi vršili emancipatorsku ulogu u društvu.\nZašto u srpskom medijskom prostoru i društvu trenutno nije moguća emisija poput “Antologija kuća” Ranka Radovića\, dok u Hrvatskoj javni medijski servis emituje visokobudzetske emisije o arhitekturi i društvu poput “Točka na A” i “Betonske spavače”.\nO ovim i mnogim drugim temama govoriće gosti na ASAP TALKS #14\nAndrija Rusan\, osnivač časopisa Oris i Orisovih dana arhitekture\nIgor Conic\, glavni i odgovorni urednik portala Gradnja.rs\nModerator razgovora biće Marko Korosec\, suosnivač Remorker Architects \nPrijave za događaj na linku: https://lnkd.in/dGR9Nxh7
URL:https://planforculture.com/event/asap-talks-14-arhitektura-i-mediji-cekajuci-prime-time/
LOCATION:PROSTOR\, Beogradska 11\, Novi Sad\, Petrovaradin\, 21000\, Serbia
CATEGORIES:ARCHITECTURE
ATTACH;FMTTYPE=image/png:https://planforculture.com/wp-content/uploads/2023/11/TALKS-14-LN-ispravljen.png
ORGANIZER;CN="ASAP%20-%20Association%20of%20Serbian%20Architectural%20Practices":MAILTO:contact@asap.org.rs
END:VEVENT
BEGIN:VEVENT
DTSTART;TZID=Europe/Zagreb:20231109T170000
DTEND;TZID=Europe/Zagreb:20231109T170000
DTSTAMP:20260424T225536
CREATED:20231103T091117Z
LAST-MODIFIED:20231103T091117Z
UID:10000107-1699549200-1699549200@planforculture.com
SUMMARY:ASAP TALKS #13 | ARHITEKTURA EMPATIJE: uloga empatije i istraživanja u arhitektonskoj praksi
DESCRIPTION:StartIT centar\, Savska 5\, Beograd \nASAP TALKS #13 | ARHITEKTURA EMPATIJE: uloga empatije i istraživanja u arhitektonskoj praksi \n  \nPridružite nam se na dinamičnom događaju gde ćemo kroz razgovore sa stručnjacima iz oblasti arhitekture\, istraživanja i kreativne industrije\, zajedno otkriti odgovore i saznati više o tome kako duboko razumevanje potreba korisnika postaje temelj u stvaranju prostora koji ne zadovoljavaju samo estetske potrebe\, već su pre svega funkcionalni i odražavaju autentičnu vezu sa korisnicima.  \nOva interaktivna sesija će vam omogućiti da dobijete uvid u neke od user-centered tehnika i strategija koje potiču iz Design Thinking metodologije\, a koje su svoju primenu uspešno našle i u svetu arhitekture i koje vam mogu pomoći da unapredite buduće projekte. \nGosti: \nKristina Grubač\, HR consultant and Obrt team Co-founder \nĐorđe Janković\, Managing Partner & Creative Director\, Friday Finally \nJovana Daljević\, Design Spirit Lead\, Friday Finally \n  \nModerator: Milan Stefanović\, Founder of ReDa / Antipod Studio \n 
URL:https://planforculture.com/event/asap-talks-13-arhitektura-empatije-uloga-empatije-i-istrazivanja-u-arhitektonskoj-praksi/
LOCATION:StartIT centar\, Savska 5\,\, Belgrade\, Serbia
CATEGORIES:ARCHITECTURE
ATTACH;FMTTYPE=image/png:https://planforculture.com/wp-content/uploads/2023/11/TALKS-13-IG.png
ORGANIZER;CN="ASAP%20-%20Association%20of%20Serbian%20Architectural%20Practices":MAILTO:contact@asap.org.rs
END:VEVENT
BEGIN:VEVENT
DTSTART;TZID=Europe/Zagreb:20231027T170000
DTEND;TZID=Europe/Zagreb:20231027T170000
DTSTAMP:20260424T225536
CREATED:20231024T135036Z
LAST-MODIFIED:20231025T075718Z
UID:10000100-1698426000-1698426000@planforculture.com
SUMMARY:ASAP TALKS #12: ARHITEKTURA I NASLEĐE\, budućnost arhitektonskog nasleđa\, izazovi i prakse
DESCRIPTION:StartIT centar\, Savska 5\, Beograd \nASAP TALKS #12: ARHITEKTURA I NASLEĐE\, budućnost arhitektonskog nasleđa\, izazovi i prakse \nKoji je zaista uticaj i moć institucija koja je naše društvo stvorilo kako bi se staralo o našem zajedničkom nasleđu. Kako se formiraju kriterijumi zaštite\, ko sve utiče na njihovo formiranje i da li zaista želimo konsenzus oko minimuma zajedničkih vrednnosti. \nKako ovu sve više društveno polarizuću temu vidi politika\, a kako javne institucije i građanske inicijative. Zašto tako često dolazimo u sukob na temu zaštite arhitektonskog nasleđa umesto da budemo saradnici u stvaranju budućeg dobra. I šta je za nas uopšte zaštita nasleđa? Da li je to puka konzervacija\, kruto očuvanje trenutne strukture i funkcije ili je potrebno da više govorimo o mogućim transformacijama\, novim životima javnih objekata i kuća u skladu sa društvenim\, klimatskim i brojnim drugim izazovima. Na ove i mnoga druge kontroverze i pitanja govoriće naši gosti: \nOlivera Vučković\, istoričarka\, direktorka Zavod za zaštitu spomenika kulture Beograd \nMarko Stojčić\, arhitekta\, glavni urbanista Beograda \nMarko Gavrilović\, arhitekta i aktivista\, suosnivač građanske inicijative “Sačuvajmo Dom JNA”\, Šabac \nModerator: \nDanilo Dangubić\, arhitekta\, Danilo Dangubic Architects \n  \n  \nPrijave na LINKU
URL:https://planforculture.com/event/asap-talks-12-arhitektura-i-naslede-buducnost-arhitektonskog-nasleda-izazovi-i-prakse/
LOCATION:StartIT centar\, Savska 5\,\, Belgrade\, Serbia
CATEGORIES:ARCHITECTURE
ATTACH;FMTTYPE=image/png:https://planforculture.com/wp-content/uploads/2023/10/TALKS-12-IG.png
ORGANIZER;CN="ASAP%20-%20Association%20of%20Serbian%20Architectural%20Practices":MAILTO:contact@asap.org.rs
END:VEVENT
BEGIN:VEVENT
DTSTART;TZID=Europe/Zagreb:20231013T170000
DTEND;TZID=Europe/Zagreb:20231013T170000
DTSTAMP:20260424T225536
CREATED:20231010T153847Z
LAST-MODIFIED:20231010T153847Z
UID:10000085-1697216400-1697216400@planforculture.com
SUMMARY:ASAP TALKS #11 | INVESTITORI I ARHITEKTURA: stvarnost i predrasude
DESCRIPTION:StartIT centar\, Savska 5\, Beograd \nINVESTITORI I ARHITEKTURA: \nstvarnost i predrasude \nKako je uopšte kreiran termin “investitorska arhitektura” i zašto u javnom govoru nosi negativnu konotaciju. Da li svi investitori zaslužuju ovakav odnos javnosti i u kojoj meri je prethodna decenija uticala na trenutne odnose na tržištu kapitala i kreativnih usluga. \nDa li nam upravo ovakvi odnosi daju priliku da redefinišemo prirodu arhitektonskih usluga\, te da ih poboljšamo i proširimo stvarajući time novu društvenu vrednost \nNa ova i mnoga druga pitanja i teme tokom ASAP TALKS #11govoriće: \nDr Ljiljana Blagojević\, arhitektinja\nNebojša Nešovanović\, senior direktor i Rukovodilac odeljenja procene\, CBRE d.o.o. @cbre_see\nArh Bojan Zabukovec\, osnivač i suvlasnik preduzeća ZAP d.o.o.\n@zapdoobelgrade\nModerator: Vladimir Đorić\, partner\, ZABRISKIE\, Predsednik UO ASAP @zabriskie.rs
URL:https://planforculture.com/event/asap-talks-11-investitori-i-arhitektura-stvarnost-i-predrasude/
LOCATION:StartIT centar\, Savska 5\,\, Belgrade\, Serbia
CATEGORIES:ARCHITECTURE
ATTACH;FMTTYPE=image/png:https://planforculture.com/wp-content/uploads/2023/10/TALKS-11-IG-ispravka.png
ORGANIZER;CN="ASAP%20-%20Association%20of%20Serbian%20Architectural%20Practices":MAILTO:contact@asap.org.rs
END:VEVENT
BEGIN:VEVENT
DTSTART;TZID=Europe/Zagreb:20230929T170000
DTEND;TZID=Europe/Zagreb:20230929T200000
DTSTAMP:20260424T225536
CREATED:20230926T134247Z
LAST-MODIFIED:20230926T140328Z
UID:10000068-1696006800-1696017600@planforculture.com
SUMMARY:ASAP & Privredna komora Srbije:Take A Ride On A Green Side - Demistifikacija zelene gradnje
DESCRIPTION:|Privredna komora Srbije\, Terazije 23\, Velika sala na drugom spratu\, Beograd| \nOdrživi razvoj i UN 2030 agenda\, zelena gradnja i zelena sertifikacija su samo neki od termina koje sve češće srećemo u javnom prostoru ili koristimo u stručnom jeziku. Često se koriste bez dubljeg razumevanja\, kao marketinški PR alat\, stvarajući efekat u javnosti suprotan od željenog\, definisan terminom “greenwashing-a”. \nO istinskim principima i pristupu “zelenoj” gradnji\, u kojoj meri će “zelena agenda” uticati na građevinsku industriju i investicije\, u kojoj meri i kako će se arhitektonska zajednica prilagoditi ili prihvatiti te principe\, govoriće naši gosti: \nDragana Konstantinović\, Dr. – vanredni profesor na Departmanu za arhitekturu i urbanizam Fakulteta tehničkih nauka u Novom Sadu. \nAleksandar Tepavčević\, Mast. inž. arh. – osnivač studija Ener-tekt\, arhitekta sa višegodišnjim profesionalnim angažmanom u renomiranim arhitektonskim biroima u Nemačkoj\, Austriji i Polјskoj. \nAleksandra Stefanović\, Mast. inž. arh. – arhitekta\, radi u NET ZERO kao konsultant za BREEAM sertifikaciju projekata\, LEED Green Associate. \nJovana Cvetković\, Direktor razvoja\, tehničkih operacija i inovacija u MPC\, sa bogatim iskustvom na tržištu nekretnina. \nmoderator: Radmila Marković Vavrin\, Mast. inž. arh. – odgovorni projektant arhitekture i energetske efikasnosti\, vlasnica projektnog biroa METFER-PROJEKT Novi Sad koji je član ASAP-a\, član SrbGBC. \nDogađaj je otvoren za javnost. \nPrijave za događaj putem linka
URL:https://planforculture.com/event/asap-privredna-komora-srbije/
LOCATION:Privredna komora Srbije\, Terazije 23\, Belgrade\, Serbia
CATEGORIES:ARCHITECTURE
ATTACH;FMTTYPE=image/png:https://planforculture.com/wp-content/uploads/2023/09/INSTAGRAM.png
ORGANIZER;CN="ASAP%20-%20Association%20of%20Serbian%20Architectural%20Practices":MAILTO:contact@asap.org.rs
END:VEVENT
END:VCALENDAR