BEGIN:VCALENDAR
VERSION:2.0
PRODID:-//PLAN FOR CULTURE - ECPv6.0.6//NONSGML v1.0//EN
CALSCALE:GREGORIAN
METHOD:PUBLISH
X-WR-CALNAME:PLAN FOR CULTURE
X-ORIGINAL-URL:https://planforculture.com
X-WR-CALDESC:Events for PLAN FOR CULTURE
REFRESH-INTERVAL;VALUE=DURATION:PT1H
X-Robots-Tag:noindex
X-PUBLISHED-TTL:PT1H
BEGIN:VTIMEZONE
TZID:Europe/Zagreb
BEGIN:DAYLIGHT
TZOFFSETFROM:+0100
TZOFFSETTO:+0200
TZNAME:CEST
DTSTART:20240331T010000
END:DAYLIGHT
BEGIN:STANDARD
TZOFFSETFROM:+0200
TZOFFSETTO:+0100
TZNAME:CET
DTSTART:20241027T010000
END:STANDARD
END:VTIMEZONE
BEGIN:VEVENT
DTSTART;TZID=Europe/Zagreb:20241010T100000
DTEND;TZID=Europe/Zagreb:20241012T140000
DTSTAMP:20260426T031050
CREATED:20240709T082139Z
LAST-MODIFIED:20240709T082139Z
UID:10002380-1728554400-1728741600@planforculture.com
SUMMARY:Masters of Building Fair
DESCRIPTION:MBF is the meeting place for all those who are in any way connected with the investment & supply chain\, as well as those who influence their business operations. \nMBF serves as a platform for high-profile strategic networking with national and international participants\, and it provides insights into trends in the idyllic setting of the coastal location of Rovinj. \n\n\n\nhttps://www.entrio.hr/event/masters-of-building-fair-17272
URL:https://planforculture.com/event/masters-of-building-fair/
LOCATION:Stara tvornica duhana Rovinj\, Obala Vladimira Nazora 1\, Rovinj\, Istria\, 52210\, Croatia (Local Name: Hrvatska)
CATEGORIES:CONFERENCE,EXHIBITION
ATTACH;FMTTYPE=image/jpeg:https://planforculture.com/wp-content/uploads/2024/07/MBF-Entrio-900x1200-1-3.jpg
ORGANIZER;CN="Building.hr":MAILTO:info@building.hr
END:VEVENT
END:VCALENDAR