BEGIN:VCALENDAR
VERSION:2.0
PRODID:-//PLAN FOR CULTURE - ECPv6.0.6//NONSGML v1.0//EN
CALSCALE:GREGORIAN
METHOD:PUBLISH
X-WR-CALNAME:PLAN FOR CULTURE
X-ORIGINAL-URL:https://planforculture.com
X-WR-CALDESC:Events for PLAN FOR CULTURE
REFRESH-INTERVAL;VALUE=DURATION:PT1H
X-Robots-Tag:noindex
X-PUBLISHED-TTL:PT1H
BEGIN:VTIMEZONE
TZID:Europe/Zagreb
BEGIN:DAYLIGHT
TZOFFSETFROM:+0100
TZOFFSETTO:+0200
TZNAME:CEST
DTSTART:20240331T010000
END:DAYLIGHT
BEGIN:STANDARD
TZOFFSETFROM:+0200
TZOFFSETTO:+0100
TZNAME:CET
DTSTART:20241027T010000
END:STANDARD
END:VTIMEZONE
BEGIN:VEVENT
DTSTART;TZID=Europe/Zagreb:20240422T200000
DTEND;TZID=Europe/Zagreb:20240422T213000
DTSTAMP:20260421T101719
CREATED:20240412T094451Z
LAST-MODIFIED:20240412T094451Z
UID:10002189-1713816000-1713821400@planforculture.com
SUMMARY:Autorski koncert – Milko Kelemen – u povodu 100. obljetnice rođenja
DESCRIPTION:Hrvatsko društvo skladatelja i Cantus d.o.o.\nsa zadovoljstvom Vas pozivaju na \nautorski koncert\nMilko Kelemen\nu povodu 100. obljetnice rođenja\nPonedjeljak 22. travnja 2024.\nu 20.00 sati \nMala dvorana Vatroslava Lisinskog\nTrg Stjepana Radića 4\, Zagreb \nUlaz je slobodan uz obaveznu prethodnu najavu na mail: komunikacije@hds.hr\nVeselimo se Vašem dolasku! \nPROGRAM \nKonstelacije\nza orkestar \nMobile\nza udaraljkaša solo \nRequiem\nza recitatora\, šest violončela i veliki bubanj \nRontondo 1\nza puhački trio \nRadiant\nza komorni ansambl \nCantus Ansambl\nBerislav Šipuš\, dirigent\nSreten Mokrović\, recitator\nMarko Mihajlović\, udaraljke \n  \nPozivnicu možete preuzeti OVDJE.
URL:https://planforculture.com/event/autorski-koncert-milko-kelemen-u-povodu-100-obljetnice-rodenja/
LOCATION:Mala dvorana KD Vatroslava Lisinskog\, Trg Stjepana Radića 4\, Zagreb
ATTACH;FMTTYPE=image/png:https://planforculture.com/wp-content/uploads/2024/04/Kelemen_autorski-koncert_pozivnica.png
END:VEVENT
END:VCALENDAR