BEGIN:VCALENDAR
VERSION:2.0
PRODID:-//PLAN FOR CULTURE - ECPv6.0.6//NONSGML v1.0//EN
CALSCALE:GREGORIAN
METHOD:PUBLISH
X-WR-CALNAME:PLAN FOR CULTURE
X-ORIGINAL-URL:https://planforculture.com
X-WR-CALDESC:Events for PLAN FOR CULTURE
REFRESH-INTERVAL;VALUE=DURATION:PT1H
X-Robots-Tag:noindex
X-PUBLISHED-TTL:PT1H
BEGIN:VTIMEZONE
TZID:Europe/Zagreb
BEGIN:DAYLIGHT
TZOFFSETFROM:+0100
TZOFFSETTO:+0200
TZNAME:CEST
DTSTART:20240331T010000
END:DAYLIGHT
BEGIN:STANDARD
TZOFFSETFROM:+0200
TZOFFSETTO:+0100
TZNAME:CET
DTSTART:20241027T010000
END:STANDARD
END:VTIMEZONE
BEGIN:VEVENT
DTSTART;TZID=Europe/Zagreb:20240427T170000
DTEND;TZID=Europe/Zagreb:20240427T190000
DTSTAMP:20260421T083733
CREATED:20240418T073928Z
LAST-MODIFIED:20240418T073928Z
UID:10002204-1714237200-1714244400@planforculture.com
SUMMARY:Radionica „Graffiti su umjetnost\, a ne vandalizam“ (Dani Travnog)
DESCRIPTION:Voditelj radionice „Graffiti su umjetnost\, a ne vandalizam“ je  Krešimir Golubić\, graffiti umjetnik\, član HDLU \nRadionica se održava u petak\,  26. 4. 2024. na platou „Mamumtice“ od 17 do 19 sati\, a namijenjena je djeci od 10 do 16 godina. \nPrijave su na 01/ 66 – 01 – 626 radnim danom od 9 do 15 sati. Rok za prijavu je 23. travnja. \nGraffiti art kao smjer umjetnosti koji je nastao prije 50 godina u SAD-u prošao je trnovit put od subkulturne pojave\, nerijetko vezane uz vandaliza pa do opće prihvaćenog Street Arta koji je izrastao iz Graffiti art kulture početkom 2000-ih godina. \nKroz duži niz godina djelovanja na sceni\, primijetili smo da velika većina onih najmlađih „umjetnika-početnika“ redovito radi greške  pri svojim prvim pokušajima crtanja na način da bez nekakvog smisla „ukrase“ željenu površinu i na tako pridonose mišljenju o graffitima kao obliku vandalizma. \nDa bi to pokušali spriječiti osmislili smo radionicu: „ Graffiti su umjetnost\, a ne vandalizam“ kroz koju pokušavamo na drugačiji način najmlađima objasniti probleme oko crtanja na neprihvatljivim mjestima te razliku između umjetnosti i vandalizma\, naglašavajući važnost očuvanja zidnih površina koji nikako nisu predviđene za oslikavanje ili još gore – vandaliziranje. \nRadionica se sastoji od teoretskog i praktičnog dijela. U prvom dijelu učimo o povijesti graffiti umjetnosti\, upoznajemo se s prvim skicama te radimo na pripremi za oslikavanje prvog zida\, odnosno pripremamo se za crtanje prvog graffita. Drugi se dio odnosi na samu izvedbu\, odnosno crtanje  graffiti piecea – zidne slike nacrtane bojom u spreju.
URL:https://planforculture.com/event/radionica-graffiti-su-umjetnost-a-ne-vandalizam-dani-travnog/
LOCATION:Plato Mamutice\, Božidara Magovca 17\, Zagreb\, Croatia (Local Name: Hrvatska)
ATTACH;FMTTYPE=image/png:https://planforculture.com/wp-content/uploads/2024/04/Dani-Travnog-Kresimir-Golubovic-graffiti.png
ORGANIZER;CN="Kulturni%20centar%20Travno":MAILTO:kuc@kuctravno.hr
END:VEVENT
BEGIN:VEVENT
DTSTART;TZID=Europe/Zagreb:20240427T150000
DTEND;TZID=Europe/Zagreb:20240427T190000
DTSTAMP:20260421T083733
CREATED:20240418T073720Z
LAST-MODIFIED:20240418T073720Z
UID:10002203-1714230000-1714244400@planforculture.com
SUMMARY:SUSJEDSKI BUVLJAK (Dani Travnog)
DESCRIPTION:Dođite u park iza KUC-a Travno kupovati i prodavati\, razmjenjivati i darivati. U igri je sve što je očuvano i zanimljivo: knjige i umjetnine\, odjeća i modni dodaci te razne druge stvarčice koje su vama višak\, a nekom drugom možda blago. Kao štandove nudimo školske klupe. \nMjesta su besplatna\, no broj je ograničen pa svoju klupu rezervirajte s kratkim opisom onoga što planirate prodavati do 22. travnja na e-mail: nevenka@kuctravno.hr
URL:https://planforculture.com/event/susjedski-buvljak-dani-travnog-2/
LOCATION:Park Travno\, Božidara Magovca 17\, Zagreb\, Croatia (Local Name: Hrvatska)
ATTACH;FMTTYPE=image/jpeg:https://planforculture.com/wp-content/uploads/2024/04/objava-Buvljak-1-scaled.jpg
ORGANIZER;CN="Kulturni%20centar%20Travno":MAILTO:kuc@kuctravno.hr
END:VEVENT
BEGIN:VEVENT
DTSTART;TZID=Europe/Zagreb:20240427T150000
DTEND;TZID=Europe/Zagreb:20240427T160000
DTSTAMP:20260421T083733
CREATED:20240418T070743Z
LAST-MODIFIED:20240418T073347Z
UID:10002202-1714230000-1714233600@planforculture.com
SUMMARY:Radionica izrade privjesaka za ključeve tehnikom makramea (Dani Travnog)
DESCRIPTION:Radionica izrade privjesaka za ključeve tehnikom makramea\, namijenjena djeci od 10 do 15 godina\, održat će se u subotu\, 27. 4. 2024. od 15 do 16 sati u parku pokraj istočnog ulaza u KUC Travno. \nVoditelji radionice su djelatnici Centra za tradicijsku kulturnu baštinu. \nPrijave su na 01/ 66 – 01 – 626 radnim danom od 9 do 15 sati. Rok za prijavu je 23. travnja. \nMakrame je tradicijska tekstilna tehnika koja obuhvaća proces ručnog vezivanja čvorova te njihovo kombiniranje u različite predmete – odjevne\, ukrasne ili praktične. Cilj radionice je popularizirati tradicijsko tekstilno rukotvorstvo među mlađim generacijama te izraditi uporabni predmet koji će u svakodnevnom životu pružiti dašak tradicije.
URL:https://planforculture.com/event/susjedski-buvljak-dani-travnog/2024-04-27/
LOCATION:Kulturni centar Travno\, Božidara Magovca 17\, Zagreb\, 10010\, Croatia (Local Name: Hrvatska)
ATTACH;FMTTYPE=image/png:https://planforculture.com/wp-content/uploads/2024/04/Dani-Travnog-makrame.png
ORGANIZER;CN="Kulturni%20centar%20Travno":MAILTO:kuc@kuctravno.hr
END:VEVENT
BEGIN:VEVENT
DTSTART;TZID=Europe/Zagreb:20240427T080000
DTEND;TZID=Europe/Zagreb:20240427T170000
DTSTAMP:20260421T083733
CREATED:20240418T070743Z
LAST-MODIFIED:20240418T073347Z
UID:10002201-1714204800-1714237200@planforculture.com
SUMMARY:Radionica izrade privjesaka za ključeve tehnikom makramea (Dani Travnog)
DESCRIPTION:Radionica izrade privjesaka za ključeve tehnikom makramea\, namijenjena djeci od 10 do 15 godina\, održat će se u subotu\, 27. 4. 2024. od 15 do 16 sati u parku pokraj istočnog ulaza u KUC Travno. \nVoditelji radionice su djelatnici Centra za tradicijsku kulturnu baštinu. \nPrijave su na 01/ 66 – 01 – 626 radnim danom od 9 do 15 sati. Rok za prijavu je 23. travnja. \nMakrame je tradicijska tekstilna tehnika koja obuhvaća proces ručnog vezivanja čvorova te njihovo kombiniranje u različite predmete – odjevne\, ukrasne ili praktične. Cilj radionice je popularizirati tradicijsko tekstilno rukotvorstvo među mlađim generacijama te izraditi uporabni predmet koji će u svakodnevnom životu pružiti dašak tradicije.
URL:https://planforculture.com/event/susjedski-buvljak-dani-travnog/2024-04-27/
LOCATION:Kulturni centar Travno\, Božidara Magovca 17\, Zagreb\, 10010\, Croatia (Local Name: Hrvatska)
ATTACH;FMTTYPE=image/png:https://planforculture.com/wp-content/uploads/2024/04/Dani-Travnog-makrame.png
ORGANIZER;CN="Kulturni%20centar%20Travno":MAILTO:kuc@kuctravno.hr
END:VEVENT
BEGIN:VEVENT
DTSTART;TZID=Europe/Zagreb:20240426T080000
DTEND;TZID=Europe/Zagreb:20240428T170000
DTSTAMP:20260421T083733
CREATED:20240418T065648Z
LAST-MODIFIED:20240418T070856Z
UID:10002200-1714118400-1714323600@planforculture.com
SUMMARY:DANI TRAVNOG – PROGRAM
DESCRIPTION:Dragi susjedi i prijatelji\, veselimo se skorašnjem druženju na Danima Travnog. Posebno smo ponosi na vizual koji nam je za ovu priliku izradila vrijedna i kreativna studentica grafičkog dizajna Dorotea Maretić\, članica našeg novoosnovanog Kluba mladih KUC-a Travno. \nDođite uživati u bogatom programu i upoznati naše nove mlade snage! \nPETAK\, 26. 4. – KVART U BOJI \nPLATO MAMUTICE \n17 sati KVART U BOJI\, završno bojanje odzračnika\n17 sati GRAFFITI SU UMJETNOST\, radionica uz prijave (10 – 16 godina)\n18 sati CURA I DEČKO\, koncert \nSUBOTA\, 27. 4.  – SUSJED\, KAJ IMA?\nPARK POKRAJ ISTOČNOG ULAZA U KUC TRAVNO \n15 – 16 sati  ODGOJ S GLAZBOM\, radionica (0 – 7 godina)\n15 – 16 sati MAKRAME\, radionica uz prijave (10 – 15 godina)\n15 – 19 sati ARTS & CRAFTS\, izložba rukotvorina\n15 – 19 sati 3 SLIKARICE\, izložba likovnih radova u Galeriji Atomsko sklonište\n15 – 19 sati BUVLJAK\, susjedska razmjena\n16 – 17 sati TRAVNO IZ MAŠTE\, radionica (6 – 12 godina)\n17 – 18 sati ŽIVOTINJE IZ ŠEŠIRA\, radionica (3 – 7 godina)\n16 – 22 sati SUSJEDI NA SCENI\, nastupi susjeda i prijatelja Travnog\n18 – 19 sati SRCOVEZ\, međugeneracijska radionica\n19.30 sati ZAŠTO JE NEKO DRVEĆE ZIMZELENO?\, pričanje priče pod brezom\n17 i 20 sati LETEĆA REVIJA TRIKO CIRKUSA\, predstava u Dvorani KUC-a Travno (ulaznice na blagajni)\nŠAHOVSKI TURNIR\, prostor MO Travno (informacije i prijave na 098/ 163 – 3837) \nNEDJELJA\, 28. 4. \nTURNIR U BELI\, prostor MO Travno (informacije i prijave na 091/ 519 – 4642)\nTURNIR U CATANU\, prostor MO Travno (informacije i prijave na 091/ 330 – 3768)\nPUB KVIZ (informacije i prijave na 091/ 330 – 3768)\n19 sati JURJEVSKI KRIJES\, livada kod boćališta (HKD „Braće Radić“)\nLUNAPARK\, Park Travno (sva tri dana) \nPrijave za radionice na 01/66-01-626 radnim danom od 9 do 15 sati do 23. travnja 2024.
URL:https://planforculture.com/event/dani-travnog-program/
LOCATION:Kulturni centar Travno\, Božidara Magovca 17\, Zagreb\, 10010\, Croatia (Local Name: Hrvatska)
CATEGORIES:CONCERT,EXHIBITION,THEATER
ATTACH;FMTTYPE=image/jpeg:https://planforculture.com/wp-content/uploads/2024/04/raspored-jpg-01-scaled.jpg
ORGANIZER;CN="Kulturni%20centar%20Travno":MAILTO:kuc@kuctravno.hr
END:VEVENT
BEGIN:VEVENT
DTSTART;TZID=Europe/Zagreb:20240423T190000
DTEND;TZID=Europe/Zagreb:20240423T220000
DTSTAMP:20260421T083733
CREATED:20240418T065227Z
LAST-MODIFIED:20240418T095706Z
UID:10002199-1713898800-1713909600@planforculture.com
SUMMARY:Izložba ŽELJKO ČURČIĆ – RETROSPEKTIVA 23/04-20/05
DESCRIPTION:srijeda\,  23. travnja 2024. u 19 sati\nGalerija KUC-a Travno\nIzložba\nŽELJKO ČURČIĆ –  RETROSPEKTIVA \nNastavljajući modernističku estetiku autor je otvoren za sve stilsko-izražajne kombinacije. Njegovo htijenje podudara se s onim težnjama europske pa i svjetske umjetnosti gdje modernost uvijek podrazumijeva novo čitanje tradicije \nIzložba se može razgledati do 20. svibnja\,  radnim danom od 10 do 19 sati.
URL:https://planforculture.com/event/izlozba-zeljko-curcic-retrospektiva/
LOCATION:Kulturni centar Travno\, Božidara Magovca 17\, Zagreb\, 10010\, Croatia (Local Name: Hrvatska)
CATEGORIES:EXHIBITION
ATTACH;FMTTYPE=image/jpeg:https://planforculture.com/wp-content/uploads/2024/04/Slika3.jpg
ORGANIZER;CN="Kulturni%20centar%20Travno":MAILTO:kuc@kuctravno.hr
END:VEVENT
BEGIN:VEVENT
DTSTART;TZID=Europe/Zagreb:20240421T110000
DTEND;TZID=Europe/Zagreb:20240421T114000
DTSTAMP:20260421T083733
CREATED:20240418T064755Z
LAST-MODIFIED:20240418T064755Z
UID:10002197-1713697200-1713699600@planforculture.com
SUMMARY:Predstava za djecu: Ribica Srebrica\, Kazalište Budilica
DESCRIPTION:nedjelja\, 21. travnja u 11.00 sati: predstava za djecu Ribica Srebrica\, Kazalište Budilica \nU ovoj poznatoj\, ali proširenoj priči\, gledajući uživat će mali i veliki u morskoj čaroliji\, lutkarskim i scenskim igrama. \nU priču nas uvodi ribar Duje koji plovi u svojoj brodici. Slijedi zanimljiva igra ribica i ribice Srebrice. Nakon igre\, ribice mole Srebricu da im pokloni po jednu ljusku\, ali ona ih otjera ne želeći im dati svoje srebrene ljuščice. Ostaje tužna i sama. Odlazi potražiti odgovor zašto je nitko ne voli. Morsdke životinjice daju joj savjet: „Pokloni svakoj ribici po jednu ljusku\, tada više nećeš biti najljepša riba u oceanu\, ali ćeš biti ponovo sretna i svi će te voljeti.“ \nPrilazi joj plava ribica i zamoli za  jednu ljuščicu. Srebrica joj odluči pokloniti najmanju ljusku samo da ju ostavi na miru. \nDolazi morski pas\, Srebrica potraži spas. Dolaze u pomoć rak i ribice i uspijevaju je obraniti od morskog psa. Ona im nakon toga dijeli ljuske u znak zahvalnosti\, jer je shvatila što je ljubav i pravo prijateljstvo. \nPo motivima slikovnice „Ribica Srebrica“ Markusa Fristera \nRežija\, izrada lutaka\, scene\, kostimografija\, izbor glazbe i songovi: Daniela Totić\nSongovi i pjesma „Na pučini“ uglazbio : Toni Kottek\nVokali: Maja Mironović\, Stošija Zrinski\nPjesma „Sreća“: Maja Rogić – Zbor „Kikići“\nKoreografija: Stošija Zrinski\nGlumci: Antonija Šašo\, Daniela Totić\, Alfred Posavac\nTrajanje: 35 min\nDob: 3+\nCijena ulaznice 4\,00 €\, za grupe od deset i više djece 3\,00 €\nUlaznice u prodaji na blagajni KUC-a Travno i putem sustava ulaznice.hr
URL:https://planforculture.com/event/predstava-za-djecu-ribica-srebrica-kazaliste-budilica/
LOCATION:Kulturni centar Travno\, Božidara Magovca 17\, Zagreb\, 10010\, Croatia (Local Name: Hrvatska)
CATEGORIES:THEATER
ATTACH;FMTTYPE=image/jpeg:https://planforculture.com/wp-content/uploads/2024/04/druga-2.jpg
ORGANIZER;CN="Kulturni%20centar%20Travno":MAILTO:kuc@kuctravno.hr
END:VEVENT
BEGIN:VEVENT
DTSTART;TZID=Europe/Zagreb:20240420T200000
DTEND;TZID=Europe/Zagreb:20240420T220000
DTSTAMP:20260421T083733
CREATED:20240418T065033Z
LAST-MODIFIED:20240418T065033Z
UID:10002198-1713643200-1713650400@planforculture.com
SUMMARY:Predstava za odrasle: Delirij za dvoje\, Žaba Teatar
DESCRIPTION:subota\, 20. travnja u 20\,00 sati\nPredstava Delirij za dvoje\, Žaba Teatar \nU predstavi Delirij u dvoje\, dvoje supružnika zatvoreno u neki prostor dok vani bjesni građanski rat\, raspravlja o kornjači i pužu\, svađaju se i naizmjenično oplakuju prošlost i moguću budućnost\, ali u situacijama u kojima svatko iz publike može pronaći poznate situacije iz života svog ili nečijeg\, ima puno poruke i težnje za poboljšanjem. Ona i On raspravljaju o nebitnim stvarima\, rasprava prelazi u svađu i eskalira u potpunu mahnitost. \nTijek svađe donekle rekonstruira njihovu prošlost\, iako su u svim Ionescovim djelima granice realnog i nadrealnog vrlo nejasne\, a likovi alegorijski pojednostavljenih imena (Ona i On)\, uprizoruju čitav spektar emocija\, od euforije do pomračenja. Bitan element predstave je i humor. \nRežija\, scenografija\, pokret i vizual: Ana Pogorelić i Luka Šatara\nGlume: Ana Pogorelić i Luka Šatara\nGlazba: Katarina Ranković\nCijena ulaznice 8\,00 €\, za umirovljenike i grupe od deset i više 7\,00 €\nUlaznice u prodaji na blagajni KUC-a Travno i putem sustava ulaznice.hr
URL:https://planforculture.com/event/predstava-za-odrasle-delirij-za-dvoje-zaba-teatar/
LOCATION:Kulturni centar Travno\, Božidara Magovca 17\, Zagreb\, 10010\, Croatia (Local Name: Hrvatska)
CATEGORIES:THEATER
ATTACH;FMTTYPE=image/png:https://planforculture.com/wp-content/uploads/2024/04/Delirij-u-dvoje-plakat.png
ORGANIZER;CN="Kulturni%20centar%20Travno":MAILTO:kuc@kuctravno.hr
END:VEVENT
END:VCALENDAR