BEGIN:VCALENDAR
VERSION:2.0
PRODID:-//PLAN FOR CULTURE - ECPv6.0.6//NONSGML v1.0//EN
CALSCALE:GREGORIAN
METHOD:PUBLISH
X-WR-CALNAME:PLAN FOR CULTURE
X-ORIGINAL-URL:https://planforculture.com
X-WR-CALDESC:Events for PLAN FOR CULTURE
REFRESH-INTERVAL;VALUE=DURATION:PT1H
X-Robots-Tag:noindex
X-PUBLISHED-TTL:PT1H
BEGIN:VTIMEZONE
TZID:Europe/Zagreb
BEGIN:DAYLIGHT
TZOFFSETFROM:+0100
TZOFFSETTO:+0200
TZNAME:CEST
DTSTART:20240331T010000
END:DAYLIGHT
BEGIN:STANDARD
TZOFFSETFROM:+0200
TZOFFSETTO:+0100
TZNAME:CET
DTSTART:20241027T010000
END:STANDARD
BEGIN:DAYLIGHT
TZOFFSETFROM:+0100
TZOFFSETTO:+0200
TZNAME:CEST
DTSTART:20250330T010000
END:DAYLIGHT
BEGIN:STANDARD
TZOFFSETFROM:+0200
TZOFFSETTO:+0100
TZNAME:CET
DTSTART:20251026T010000
END:STANDARD
END:VTIMEZONE
BEGIN:VEVENT
DTSTART;TZID=Europe/Zagreb:20250508T200000
DTEND;TZID=Europe/Zagreb:20250515T220000
DTSTAMP:20260419T234315
CREATED:20250506T104228Z
LAST-MODIFIED:20250506T104228Z
UID:10003052-1746734400-1747346400@planforculture.com
SUMMARY:NMG@PRAKTIKA_Lara Ana Kulenović
DESCRIPTION:NMG@PRAKTIKA_Lara Ana Kulenović – Trava je prije bila zelenija \nGalerija Kluba KockaDom mladih Split\n\n/ / / / / / Otvorenje: četvrtak 8. svibnja 2025. u 20:00 / / / / / /\n\nRadno vrijeme: pon – čet | 17:00 – 20:00\n\n– – – – – – – – – – – – – – – – – – – – – – – – – – – – – – – – – – – – – – – –\n\nRad Lare Ane Kulenović temelji se na preciznoj i ponavljajućoj gesti oblikovanja – pokušaju da se travnjak prenese u galerijski prostor kroz njegovu stiliziranu verziju. Umjetnica koristi travu iz vrta svoje bake\, koju pažljivo sakuplja zajedno sa zemljom\, kukcima i drugim nečistoćama\, zatim melje i od dobivenog materijala oblikuje nove forme – idealizirane prikaze travki. U tom procesu ništa nije izostavljeno; sav sadržaj postaje dio novog materijala\, što je ključno za koncept rada. Te rekonstruirane travke znatno su uvećane i smještene pojedinačno na prozirne ploče od pleksiglasa\, tvoreći estetski organizirani raster\, nalik površini travnjaka.Ovim postupkom\, prirodni materijal prolazi kroz dvostruku transformaciju – najprije postaje sirovina\, a zatim simbol. Trava\, kao živi organizam\, biva izdvojena iz svog prirodnog konteksta\, lišena tla\, korijena i funkcije koju je imala kao dio ekosustava. Time gubi svoju organsku spontanost i postaje pažljivo oblikovan objekt. Pretvorena je u znak – fragment sjećanja\, nositelj značenja\, ali i predmet estetizacije i kontrole. Izložena pojedinačno na prozirnim pločama\, postaje distancirana od izvorne cjeline kojoj je pripadala. Ta izoliranost nije samo fizička\, već i simbolička – označava prekid\, odsutnost\, nostalgiju.\n\nU galerijskom prostoru\, stilizirane travke više ne čine travnjak u doslovnom smislu\, već ga interpretiraju – kao vizualnu ideju\, kao sjećanje. Raspoređene u rasteru\, one oblikuju površinu koja je istovremeno poznata i strana\, bliska i neuhvatljiva. Taj prikaz je krhak\, izvan prirodnog ritma u kojem trava raste\, vene i obnavlja se. Umjesto toga\, gledamo njezinu sačuvanu\, gotovo zamrznutu verziju. Na taj način\, rad evocira osjećaj nostalgije – prema prirodi koja je izgubljena ili udaljena\, prema vremenu koje je prošlo\, prema prostoru koji više ne postoji na isti način. Za umjetnicu\, trava postaje simbol prošlog – sredstvo za prizivanje osobnih uspomena i emocionalnih pejzaža. Iako je njena boja izblijedjela\, ona ostaje prisutna u sjećanju – kao slika\, kao dojam\, kao granica između onoga što je bilo i onoga što još uvijek osjećamo.\n\nStruktura instalacije dodatno pojačava ove ideje. Svaka ploča nosi pažljivo komponirane travke koje\, zahvaljujući transparentnosti pleksiglasa\, djeluju gotovo lebdeće\, oslobođene gravitacije i tla. Korišteni materijali – prirodna trava i umjetni\, gladak pleksiglas – pažljivo su odabrani kako bi podržali temeljne ideje rada. S jedne strane\, tu je organski\, propadljivi materijal\, a s druge – hladna\, postojana površina. U tom kontrastu otvara se prostor za razmišljanje o granici između prirodnog i umjetnog\, živog i zadržanog\, prolaznog i sačuvanog.\n\nUpravo u toj napetosti – između želje da se nešto sačuva i svijesti da je to nemoguće u izvornom obliku – nalazi se srž rada. Umjetnica se vraća mjestima iz djetinjstva – vrtovima\, šumi\, kući – ali prepoznaje i ograničenja današnjeg trenutka: vremenska\, financijska\, emocionalna. Time se ne pokušava rekreirati nekadašnja stvarnost\, već osvijestiti da je rekonstrukcija uvijek izmjena\, interpretacija\, pokušaj da se kroz materijale\, odnosno formu\, dosegne iskustvo koje više ne postoji u izvornom obliku. Na taj način\, Lara Ana Kulenović otvara prostor za kontemplaciju ne samo o prirodi\, već i o načinu na koji je pamtimo\, rekonstruiramo i pokušavamo učiniti dijelom svoje sadašnjosti.\n\nJelena Šimundić Bendić\n\n– – – – – – – – – – – – – – – – – – – – – – – – – – – – – – – – – – – – – – – –\n\nO AUTORICI\nLara Ana Kulenović (2000.\, Zagreb) magistrirala je na Akademiji likovnih umjetnosti u Zagrebu\, na Odsjeku za animirani film i nove medije\, pod mentorstvom profesorice Nicole Hewitt. U svom radu istražuje emocije kroz fizičke manifestacije u objektima\, instalacijama\, videu i fotografiji. Materijali koje koristi usko su povezani s konceptom djela. Bavi se temama kolektivnog pamćenja svoje generacije\, nastojeći potaknuti dijalog s publikom. Izlagala je na brojnim skupnim izložbama u Hrvatskoj te samostalno 2025. godine u Galeriji Karas.\n– – – – – – – – – – – – – – – – – – – – – – – – – – – – – – – – – – – – – – – –IMPRESSUM\n\nKUSTOSICA / Jelena Šimundić Bendić\nKUSTOSI PROGRAMA NMG / Natasha Kadin\, Vedran Perkov\, Jelena Šimundić Bendić\nPRIJEVOD / Katarina Duplančić Dugopoljac\nDOKUMENTACIJA / Glorija Lizde\nPOSTAV / Lara Ana Kulenović\, Jelena Šimundić Bendić\nDONATORI / Ministarstvo kulture i medija RH\, Grad Split\nMAVENU PODRŽAVA / Zaklada Kultura nova\nZAHVALE / KUM\, MKC\, PDM\nDIZAJN / Nikola Križanac\nTISAK / Kopiring
URL:https://planforculture.com/event/nmgpraktika_lara-ana-kulenovic/
LOCATION:Dom mladih Split\, Ulica Slobode 28\, Split\, -\, 21000\, Croatia (Local Name: Hrvatska)
CATEGORIES:EXHIBITION
ATTACH;FMTTYPE=image/jpeg:https://planforculture.com/wp-content/uploads/2025/05/LARA_INSTAGRAM.jpg
ORGANIZER;CN="MAVENA%20-%2036%20njezinih%20%C4%8Duda":MAILTO:home@mavena.hr
END:VEVENT
BEGIN:VEVENT
DTSTART;TZID=Europe/Zagreb:20250220T200000
DTEND;TZID=Europe/Zagreb:20250220T230000
DTSTAMP:20260419T234315
CREATED:20250214T145139Z
LAST-MODIFIED:20250214T145532Z
UID:10002929-1740081600-1740092400@planforculture.com
SUMMARY:Izložba Sanje Merćep
DESCRIPTION:NMG@PRAKTIKA_Sanja Merćep: U stvarnosti i u fikciji \nVidimo li prostor onakvim kakav jest ili onakvim kakvim ga zamišljamo? \nFotografkinja Sanja Merćep u svojoj recentnoj seriji istražuje slojeve značenja pejzaža\, njegove kulturne konstrukcije i osobne interpretacije\, brišući granice između dokumentarnog i insceniranog. Nakon uspješne izložbe u Zagrebu\, rad sada prvi put predstavlja splitskoj publici!  \nViše o izložbi na: https://mavena.hr/nmgpraktika_sanja-mercep-u-stvarnosti-i-u-fikciji/ \nOtvorenje: 20. veljače 2025. u 20:00 \nGalerija Kluba Kocka\, Dom mladih Split \nIzložba ostaje otvorena do 28. veljače\nRadno vrijeme: pon – čet | 17:00 – 20:00
URL:https://planforculture.com/event/nmgpraktika_sanja-mercep-u-stvarnosti-i-u-fikciji/
LOCATION:Dom mladih Split\, Ulica Slobode 28\, Split\, -\, 21000\, Croatia (Local Name: Hrvatska)
CATEGORIES:EXHIBITION
ATTACH;FMTTYPE=image/jpeg:https://planforculture.com/wp-content/uploads/2025/02/sanja_mercep_insta.jpg
ORGANIZER;CN="MAVENA%20-%2036%20njezinih%20%C4%8Duda":MAILTO:home@mavena.hr
END:VEVENT
BEGIN:VEVENT
DTSTART;VALUE=DATE:20241106
DTEND;VALUE=DATE:20241110
DTSTAMP:20260419T234315
CREATED:20241104T154434Z
LAST-MODIFIED:20241104T183212Z
UID:10002714-1730851200-1731196799@planforculture.com
SUMMARY:ISPOD BINE sound art festival
DESCRIPTION:Deveti ISPOD BINE\, sound art festival\, od 6. do 9. studenog u Domu mladih u Splitu\, predstavlja međunarodna gostovanja i nove suradnje umjetnika zvuka; rezidencije\, radionice\, izložbe i izvedbe \n\n\n\n\n\n\n\n\n  \nSplitski Dom mladih ponovno postaje središte suvremene zvukovne umjetnosti kroz deveto izdanje sound art festivala ISPOD BINE\, koji će se održati od 6. do 9. studenog. Ovaj renomirani festival nastavlja promicati inovativne umjetničke prakse\, okupljajući umjetnike iz cijelog svijeta\, te donosi bogat program koji uključuje svjetske premijere\, rezidencije\, radionice\, izložbe i izvedbe. \nFestival započinje 6. studenog u 20 sati otvaranjem instalacije Tonija Meštrovića pod nazivom Odzvuk od zvuka (amfiteatri)\, 14-kanalnom prostorno-zvučnom instalacijom koja će se protezati kroz mali i veliki amfiteatar Doma mladih\, moći će se razgledati svaki dan do završetka festivala\, te poziva na interakciju ostale sudionike festivala i publiku. Monumentalni prostor amfiteatara svojim akustičkim specifičnostima\, postaje rezonantni instrument unutar kojeg se realizira ovaj zvučni rad\, koji kroz feedback sa svih audio izvora doživljava softverske manipulacije i distribucije unutar sustava. Prvog dana festivala u 22 sata slijedi nastup Valeria Tricolija u prostoru po kojem je festival i dobio ime\, ispod bine\, s radom For Old Times Sake. Globalno poznati i vrlo aktivni sound art umjetnik porijeklom sa Sicilije\, Tricoli\, koristi legendarni analogni uređaj Nagra 4.2\, kombinira njegove uzorke i manipulaciju zvuka u stvarnom vremenu\, stvarajući hibridne analogno-digitalne zvučne pejzaže. \nDrugog dana\, 7. studenog\, program festivala započinje otvaranjem audio-vizualne instalacije Sudden Amplitude Roba Mazureka\, svjetski poznatog umjetnika koji spaja eksperimentalni jazz\, elektroniku i vizualnu umjetnost\, nazivajući se “apstraktivistom”. Mazurek kroz svoj sada već dugogodišnji interdisciplinarni rad u raznim djelovima svijeta\, istražuje apstraktne forme kroz zvuk i sliku\, stvarajući složena multimedijalna djela koja nadilaze žanrovske granice. Njegovi radovi\, u kojima se zvuk\, svjetlost i prostor prepliću\, otvaraju nove dimenzije percepcije\, a njegov doprinos ovogodišnjem festivalu nadilazi samo glazbu\, pružajući cjelovito senzorno iskustvo kroz ovu instalaciju-izložbu\, koja će se također moći pogledati do kraja festivala. Iste večeri\, na glavnoj festivalskoj pozornici\, nastupaju Tinymental\, duo Bojana Krhlanka i Pavla Jovanovića\, s elektroakustičkom “komprovizacijom” Inner Disposition\, koja je nastala prošle godine u produkciji organizacije Kontejner\, nakon čega slijedi eksperimentalna audiovizualna izvedba Pitch Shifting autora Grgura Savića\, Sanje Star i Richarda Scotta\, koja spaja improvizaciju uživo\, elektroniku i video umjetnost. \nU petak\, 8. studenog\, na scenu stupa slovenski trio Svojat (Andrej Fon\, Ivo Poderžaj i Vid Drašler)\, koji kroz improvizaciju i eksperimentiranje s bogatim zvučnim teksturama donosi svjež i nekonvencionalan zvuk. Iste večeri premijerno će biti izveden projekt Roj Osa meets Rob Mazurek\, nastao na rezidenciji u sklopu ISPOD BINE festivala u Splitu. Roj Osa\, relativno novi bend Nenada Sinkauza\, Alena Sinkauza i Marca Quarantotta\, koji je s prvim albumom Azbestni krovovi (2023.) izazvao veliki interes publike i kritike\, imali priliku čuti uživo lani\, a ove godine na ISPOD BINE festivalu udružuje snage s multidisciplinarnim umjetnikom Robom Mazurekom\, stvarajući jedinstvenu zvukovnu avanturu kroz rezidenciju u Splitu\, koja će kulminirati premijernim nastupom 8. studenog. Producent ove vrhunske umjetničke suradnje i mini turneje je Umjetnička organizacija P137\, uz koprodukciju udruge Mavena i festivala ISPOD BINE\, a izvedbe će se održati i u Puli i Zagrebu\, kao najava 11. izdanja NO Jazz festivala. \n\n\n\n\n\n\n\n\nPosljednji dan ovogodišnjeg festivala\, 9. studenog\, započinje DJ radionicom koju vode DJ-evi iz beogradskog kolektiva SUTRA. U večernjim satima\, premijerno će nastupiti novi bend iz splitskog underground-a\, 65Bandits (Joško Žižić\, Eugen Jeličić i Lana Beović)\, a nakon njih dugoročni noise jazz duo Brio\, koji kao projekt braće Gordana i Nevena Krajačića postoji još od 90-tih\, svjesno se zadržavajući na margini ‘domaće underground scene’\, baveći se nužnim istraživanjem granica kompozicije i improvizacije\, zvuka i tišine\, buke i muzike. Festival završava u klubu Kocka live actom Jeronima Jandrića\, studenta UMAS-a te predstavljanjem beogradske eksperimentalne elektronske scene kroz nastup DJ-eva iz kolektiva SUTRA (UBICA\, Bucalo\, SAUD). \nOsim izložbi i izvedbi\, festival nudi i “sneek-peak” u rezidencijalni program od 3. do 8. studenog u Beton Kinu\, gdje se može pratiti razvoj suradnje između benda ROJ OSA i ROB MAZUREKA\, DJ radionicu\, kao i već poznati glazbeni intermezzo u lobiju između nastupa koji već godinama pažljivo bira Igor Stangliczky\, koji je autor i ovogodišnjeg vizualnog identiteta festivala\, a ove godine nam se\, kao kreator svjetla cijelog festivala\, autorski pridružuje Izvanredni Bob. \nISPOD BINE nije samo festival\, već je godinama izrastao u platformu koja omogućava umjetnicima i publici da zajedno istraže nove dimenzije zvuka kroz suvremene hibridne\, eksperimentalne\, interdisciplinarne i participative forme. Uz bogat i raznolik program\, međunarodne suradnje\, umjetničke rezidencije i interaktivne radionice\, festival nadilazi granice današnjeg poimanja umjetnosti\, te gleda u budućnost otvarajući prostore za inovacije i eksperiment. \nISPOD BINE 2024 nastavlja istraživati i redefinirati mogućnosti sound arta\, stvarajući inovativnu platformu za dijalog umjetnika i publike u srcu Splita. Ovogodišnji program donosi ne samo zvučne eksperimente\, već i niz interdisciplinarnih suradnji koje otvaraju nova poglavlja u svijetu umjetnosti zvuka. Split se tako i ove godine potvrđuje kao ključna točka na karti europskog sound arta\, okupljajući umjetnike i entuzijaste iz cijelog svijeta u kreativnom središtu Doma mladih. \nOsnivači i voditelji festivala su producentica i kustosica Natasha Kadin i oblikovatelj zvuka i medijski umjetnik Hrvoje Pelicarić\, već godinama uz svestranu pomoć multidisciplinarnog umjetnika Igora Stangliczkog i tehničkog realizatora Eugena Jeličića\, a ove godine im se\, u raznim\, često hibridnim ulogama u produkciji festivala\, pridružuju Izvanredni Bob\, Andrea Miloš\, Marin Renić\, Jelena Šimundić Bendić i Doris Zalović. \nOrganizator i producent festivala je udruga MAVENA – 36 njezinih čuda\, partneri ovogodišnjeg ISPOD BINE festivala su organizacije Kontejner\, P137\, Platforma Doma mladih\, Koalicija udruga mladih i ustanova Multimedijalni kulturni centar Split\, a program se provodi uz financijsku potporu Ministarstva kulture i medija\, Grada Splita\, Grada Pula\, Grada Zagreba i Zaklade Kultura nova. \n  \nPress IB to continue_ \n\n\n\n\n\n\n\n\n  \n6/11 20h — Amfiteatri — TONI MEŠTROVIĆ: Odzvuk od zvuka (amfiteatri)\, otvorenje\n6/11 22h — Ispod Bine — VALERIO TRICOLI: For Old Times Sake\, per Nagra 4.2 (mono) e campionatore \n7/11 20h — Galerija MKC — ROB MAZUREK: Radical Chimeras\, otvorenje\n7/11 21h — Ispod Bine — TINYMENTAL / Bojan Krhlanko\, Pavle Jovanović /: Inner Disposition 7/11 22h — Ispod Bine — PITCH SHIFTING / Grgur Savić\, Sanja Star\, Richard Scott / \n8/11 20h — Ispod Bine — SVOJAT / Andrej Fon\, Ivo Poderžaj\, Vid Drašler / 8/11 22h — Ispod Bine — ROJ OSA meets ROB MAZUREK\, premijera \n9/11 18-20h — Kocka — SUTRA kolektiv – DJ radionica\n9/11 20h — Ispod Bine — 65Bandits / Joško Žižić\, Eugen Jeličić\, Lana Beović /: Angry Birds\n9/11 21h — Ispod Bine — BRIO / Gordan & Neven Krajačić /\n9/11 23h — Klub Kocka — Jeronim Jandrić\, live act \n— SUTRA meets ISPOD BINE / UBICA\, Bucalo\, SAUD /  3 – 8 / 11 — Beton Kino \n— ROJ OSA meets ROB MAZUREK – rezidencija / 6 – 9 / 11 \n— AV Lobi — INCREDIBLE BOB & IGOR STANGLICZKY \n  \nPress linktr.ee/ispodbine to continue_
URL:https://planforculture.com/event/ispod-bine-sound-art-festival/
LOCATION:Dom mladih Split\, Ulica Slobode 28\, Split\, -\, 21000\, Croatia (Local Name: Hrvatska)
CATEGORIES:CONCERT
ATTACH;FMTTYPE=image/jpeg:https://planforculture.com/wp-content/uploads/2024/11/IB_FB_EV_02.jpg
ORGANIZER;CN="MAVENA%20-%2036%20njezinih%20%C4%8Duda":MAILTO:home@mavena.hr
END:VEVENT
BEGIN:VEVENT
DTSTART;TZID=Europe/Zagreb:20241011T190000
DTEND;TZID=Europe/Zagreb:20241018T200000
DTSTAMP:20260419T234315
CREATED:20241010T120223Z
LAST-MODIFIED:20241010T120223Z
UID:10002629-1728673200-1729281600@planforculture.com
SUMMARY:Marianna Nardini - FROM DUSK 'TILL DAWN
DESCRIPTION:NMG@PLATFORMAT\n\n11 – 18 / 09 / 2024\n\nMARIANNA NARDINI\n\nFROM DUST ‘TILL DAWN\n\n– – – – – – – – – – – – – – – – – – – – – – – – – – – – – – –\nOTVORENJE: Petak\, 11. listopada 2024. u 19:00\n– – – – – – – – – – – – – – – – – – – – – – – – – – – – – – –\n\nIzložba je otvorena za posjetitelje od ponedjeljka do petka uz prethodnu najavu na home@mavena.hr\nMKC SPLIT\n Lokacija: Zapadno stubište kod tehničkog ulazaDom mladih Split\,Ulica Slobode 28\n\n— Program se provodi u sklopu 12. Platformata\, festivala nezavisne kulture koji se održava od 8. do 12. listopada u Domu mladih.\n\n– – – – – – – – – – – – – – – – – – – – – – – – – – – – – – –\n\n\nIMPRESSUM\n\nKUSTOSICA / CURATORJelena Šimundić Bendić\n\nKUSTOSI PROGRAMA NMG / NMG CURATORIAL TEAMNatasha Kadin\,Vedran Perkov\,Jelena Šimundić Bendić\n\nPRIJEVOD / TRANSLATIONJelena Šimundić Bendić\n\nDOKUMENTACIJA / DOCUMENTATIONVanessa Barač\n\nPOSTAV / SETUPJelena Šimundić BendićMarianna Nardini\n\nTEHNIČKI POSTAV / TECHNICAL SETUPMarin Renić\n\nDONATORI / DONORSMinistarstvo kulture i medija RH\, Grad Split\n\nMAVENU PODRŽAVA / MAVENA IS SUPPORTED BYZaklada Kultura nova\n\nZAHVALE / SPECIAL MENTIONKUM\, MKC\, PDM\n\nDIZAJN / DESIGNNikola Križanac\n\n– – – – – – – – – – – – – – – – – – – – – – – – – – – – – – –\n\nBIOGRAFIJA\nMarianna Nardini (1994\, Italija) interdisciplinarna je umjetnica koja se aktivno bavi performansom\, videom i zvučnim instalacijama. Diplomirala je na Akademiji likovnih umjetnosti u Zagrebu. U svom radu prakticira istraživački\, interdisciplinarni\, novomedijski pristup ontološkim\, metafizičkim i drugim rubnim i grotesknim temama. Izlagala je na više grupnih i samostalnih izložbi od kojih se ističu Edipova koža\, Galerija Matice Hrvatske\, Zagreb\, 2021.; Spasmus Humanus\, Garaža Kamba\, Zagreb\, 2021.; Ukiseljene bajke – unutar kapka\, ispod sna s Mirjanom Vodopija\, LEXART Zagreb\, 2022.; Don’t kill the grasshopper\, Apoteka\, Vodnjan\, 2022. Tijekom 2022. bila je rezidentica na eksperimentalno-rezidencijalnom programu Dnevna soba koji organizira kustoski kolektiv KUĆĆA.
URL:https://planforculture.com/event/marianna-nardini-from-dusk-till-dawn/
LOCATION:Dom mladih Split\, Ulica Slobode 28\, Split\, -\, 21000\, Croatia (Local Name: Hrvatska)
CATEGORIES:PERFORMANCE
ATTACH;FMTTYPE=image/jpeg:https://planforculture.com/wp-content/uploads/2024/10/instagram_2.jpg
ORGANIZER;CN="MAVENA%20-%2036%20njezinih%20%C4%8Duda":MAILTO:home@mavena.hr
END:VEVENT
BEGIN:VEVENT
DTSTART;TZID=Europe/Zagreb:20240919T200000
DTEND;TZID=Europe/Zagreb:20240926T200000
DTSTAMP:20260419T234315
CREATED:20240912T083629Z
LAST-MODIFIED:20240912T083629Z
UID:10002497-1726776000-1727380800@planforculture.com
SUMMARY:Filip Milković - Desetljeća
DESCRIPTION:Preispitujući ulogu fotografija kao alata za prisjećanje i (re)konstrukciju sjećanja\, mladi fotograf Filip Milković predstavit će se prvi puta splitskoj publici samostalnom izložbom Desetljeća u Galeriji Kluba Kocka Doma mladih. Otvorenje izložbe održat će se u četvrtak\, 19. rujna\, s početkom u 20 sati. \nRecentni rad Filipa Milkovića bavi se osobnim i kolektivnim sjećanjima kroz seriju fotografija i skenova obiteljskih albuma\, istražujući teme memorije\, zaborava\, smrti i prolaznosti vremena. Kroz eksperimentiranje s tehnikama skeniranja\, autor stvara slike koje evociraju osjećaj prolaska vremena i propadanja\, te preispituje ulogu fotografija kao alata za prisjećanje. Rad nastoji povezati prošlost i sadašnjost\, stvarajući autentičan prikaz krhkosti ljudskih sjećanja. Njegov rad prepoznala je kritika i stručna javnost za koji je osvojio prestižnu Nagradu Marina Viculin 2021. godine koja se godišnje dodjeljuje kao priznanje za rad umjetnika s izvanrednim postignućima u području hrvatske fotografije. \nIzložba je realizirana uz potporu udrugu MAVENA kao dio godišnjeg izložbenog programa NMG@PRAKTIKA\, a za posjetitelje je otvorena od 19. do 26. rujna u radnom vremenu galerije od 17 do 21 sat. Kustosica izložbe je Jelena Šimundić Bendić.
URL:https://planforculture.com/event/filip-milkovic-desetljeca/
LOCATION:Dom mladih Split\, Ulica Slobode 28\, Split\, -\, 21000\, Croatia (Local Name: Hrvatska)
CATEGORIES:EXHIBITION
ATTACH;FMTTYPE=image/jpeg:https://planforculture.com/wp-content/uploads/2024/09/img356.jpg
ORGANIZER;CN="MAVENA%20-%2036%20njezinih%20%C4%8Duda":MAILTO:home@mavena.hr
END:VEVENT
END:VCALENDAR