BEGIN:VCALENDAR
VERSION:2.0
PRODID:-//PLAN FOR CULTURE - ECPv6.0.6//NONSGML v1.0//EN
CALSCALE:GREGORIAN
METHOD:PUBLISH
X-WR-CALNAME:PLAN FOR CULTURE
X-ORIGINAL-URL:https://planforculture.com
X-WR-CALDESC:Events for PLAN FOR CULTURE
REFRESH-INTERVAL;VALUE=DURATION:PT1H
X-Robots-Tag:noindex
X-PUBLISHED-TTL:PT1H
BEGIN:VTIMEZONE
TZID:Europe/Zagreb
BEGIN:DAYLIGHT
TZOFFSETFROM:+0100
TZOFFSETTO:+0200
TZNAME:CEST
DTSTART:20240331T010000
END:DAYLIGHT
BEGIN:STANDARD
TZOFFSETFROM:+0200
TZOFFSETTO:+0100
TZNAME:CET
DTSTART:20241027T010000
END:STANDARD
END:VTIMEZONE
BEGIN:VEVENT
DTSTART;TZID=Europe/Zagreb:20240728T210000
DTEND;TZID=Europe/Zagreb:20240728T230000
DTSTAMP:20260425T122919
CREATED:20240710T095110Z
LAST-MODIFIED:20240710T095110Z
UID:10002410-1722200400-1722207600@planforculture.com
SUMMARY:Jazz u muzeju / Dame biraju
DESCRIPTION:KATARINA RAMLJAK TRIO \nKatarina Ramljak\, Pavle Jovanović\, Hrvoje Kralj
URL:https://planforculture.com/event/jazz-u-muzeju-dame-biraju-7/
LOCATION:Muzej prekinutih veza\, Ćirilometodska 2\, Zagreb\, 10 000\, Croatia (Local Name: Hrvatska)
CATEGORIES:CONCERT
ATTACH;FMTTYPE=image/jpeg:https://planforculture.com/wp-content/uploads/2024/07/450069814_875598114593633_3381951117511135409_n-5.jpg
ORGANIZER;CN="Muzej%20prekinutih%20veza":MAILTO:info@brokenships.com
END:VEVENT
BEGIN:VEVENT
DTSTART;TZID=Europe/Zagreb:20240725T210000
DTEND;TZID=Europe/Zagreb:20240725T230000
DTSTAMP:20260425T122919
CREATED:20240710T095001Z
LAST-MODIFIED:20240710T095001Z
UID:10002409-1721941200-1721948400@planforculture.com
SUMMARY:Jazz u muzeju / Dame biraju
DESCRIPTION:SANDRA HALUŽAN KVARTET \nSandra Halužan\, Joe Kaplowitz\, Ivan Džajić; Antun Profeta
URL:https://planforculture.com/event/jazz-u-muzeju-dame-biraju-6/
LOCATION:Muzej prekinutih veza\, Ćirilometodska 2\, Zagreb\, 10 000\, Croatia (Local Name: Hrvatska)
CATEGORIES:CONCERT
ATTACH;FMTTYPE=image/jpeg:https://planforculture.com/wp-content/uploads/2024/07/450069814_875598114593633_3381951117511135409_n-4.jpg
ORGANIZER;CN="Muzej%20prekinutih%20veza":MAILTO:info@brokenships.com
END:VEVENT
BEGIN:VEVENT
DTSTART;TZID=Europe/Zagreb:20240721T210000
DTEND;TZID=Europe/Zagreb:20240721T230000
DTSTAMP:20260425T122919
CREATED:20240710T094727Z
LAST-MODIFIED:20240710T094727Z
UID:10002408-1721595600-1721602800@planforculture.com
SUMMARY:Jazz u muzeju / Dame biraju
DESCRIPTION:ŽELJKA ET EASE \nŽeljka Veverec\, Toni Starešinić\, Đuro Dobranić\, Igor Dorotić
URL:https://planforculture.com/event/jazz-u-muzeju-dame-biraju-5/
LOCATION:Muzej prekinutih veza\, Ćirilometodska 2\, Zagreb\, 10 000\, Croatia (Local Name: Hrvatska)
CATEGORIES:CONCERT
ATTACH;FMTTYPE=image/jpeg:https://planforculture.com/wp-content/uploads/2024/07/450069814_875598114593633_3381951117511135409_n-3.jpg
ORGANIZER;CN="Muzej%20prekinutih%20veza":MAILTO:info@brokenships.com
END:VEVENT
BEGIN:VEVENT
DTSTART;TZID=Europe/Zagreb:20240718T210000
DTEND;TZID=Europe/Zagreb:20240718T230000
DTSTAMP:20260425T122919
CREATED:20240710T094546Z
LAST-MODIFIED:20240710T094546Z
UID:10002406-1721336400-1721343600@planforculture.com
SUMMARY:Jazz u muzeju / Dame biraju
DESCRIPTION:FILIP PAVIĆ & PETAR ĆULIBRK
URL:https://planforculture.com/event/jazz-u-muzeju-dame-biraju-3/
LOCATION:Muzej prekinutih veza\, Ćirilometodska 2\, Zagreb\, 10 000\, Croatia (Local Name: Hrvatska)
CATEGORIES:CONCERT
ATTACH;FMTTYPE=image/jpeg:https://planforculture.com/wp-content/uploads/2024/07/450069814_875598114593633_3381951117511135409_n-1.jpg
ORGANIZER;CN="Muzej%20prekinutih%20veza":MAILTO:info@brokenships.com
END:VEVENT
BEGIN:VEVENT
DTSTART;TZID=Europe/Zagreb:20240714T210000
DTEND;TZID=Europe/Zagreb:20240714T230000
DTSTAMP:20260425T122919
CREATED:20240710T092429Z
LAST-MODIFIED:20240710T093141Z
UID:10002405-1720990800-1720998000@planforculture.com
SUMMARY:Jazz u muzeju / Dame biraju
DESCRIPTION:BRUNA MATIĆ & GRØNTSAGSSUPPE \nBruna Matić\, Vojkan Jocić\, Šimun Matišić\, Hrvoje Galler\, Ivan Kapec
URL:https://planforculture.com/event/jazz-u-muzeju-dame-biraju-2/
CATEGORIES:CONCERT
ATTACH;FMTTYPE=image/jpeg:https://planforculture.com/wp-content/uploads/2024/07/450069814_875598114593633_3381951117511135409_n.jpg
ORGANIZER;CN="Muzej%20prekinutih%20veza":MAILTO:info@brokenships.com
END:VEVENT
BEGIN:VEVENT
DTSTART;TZID=Europe/Zagreb:20240711T210000
DTEND;TZID=Europe/Zagreb:20240711T230000
DTSTAMP:20260425T122919
CREATED:20240710T082739Z
LAST-MODIFIED:20240710T083427Z
UID:10002404-1720731600-1720738800@planforculture.com
SUMMARY:Jazz u muzeju / Dame biraju
DESCRIPTION:ELEONORA HILL KVARTET \nEleonora Hill / vokal\nDomagoj Leljak / gitara\nLuka Veselinović / kontrabas\nPavle Golubić / bubnjevi
URL:https://planforculture.com/event/jazz-u-muzeju-dame-biraju/
CATEGORIES:CONCERT
ATTACH;FMTTYPE=image/jpeg:https://planforculture.com/wp-content/uploads/2024/07/Jazz-u-muzeju.jpg
ORGANIZER;CN="Muzej%20prekinutih%20veza":MAILTO:info@brokenships.com
END:VEVENT
END:VCALENDAR