BEGIN:VCALENDAR
VERSION:2.0
PRODID:-//PLAN FOR CULTURE - ECPv6.0.6//NONSGML v1.0//EN
CALSCALE:GREGORIAN
METHOD:PUBLISH
X-WR-CALNAME:PLAN FOR CULTURE
X-ORIGINAL-URL:https://planforculture.com
X-WR-CALDESC:Events for PLAN FOR CULTURE
REFRESH-INTERVAL;VALUE=DURATION:PT1H
X-Robots-Tag:noindex
X-PUBLISHED-TTL:PT1H
BEGIN:VTIMEZONE
TZID:Europe/Zagreb
BEGIN:DAYLIGHT
TZOFFSETFROM:+0100
TZOFFSETTO:+0200
TZNAME:CEST
DTSTART:20230326T010000
END:DAYLIGHT
BEGIN:STANDARD
TZOFFSETFROM:+0200
TZOFFSETTO:+0100
TZNAME:CET
DTSTART:20231029T010000
END:STANDARD
BEGIN:DAYLIGHT
TZOFFSETFROM:+0100
TZOFFSETTO:+0200
TZNAME:CEST
DTSTART:20240331T010000
END:DAYLIGHT
BEGIN:STANDARD
TZOFFSETFROM:+0200
TZOFFSETTO:+0100
TZNAME:CET
DTSTART:20241027T010000
END:STANDARD
BEGIN:DAYLIGHT
TZOFFSETFROM:+0100
TZOFFSETTO:+0200
TZNAME:CEST
DTSTART:20250330T010000
END:DAYLIGHT
BEGIN:STANDARD
TZOFFSETFROM:+0200
TZOFFSETTO:+0100
TZNAME:CET
DTSTART:20251026T010000
END:STANDARD
END:VTIMEZONE
BEGIN:VEVENT
DTSTART;TZID=Europe/Zagreb:20250513T190000
DTEND;TZID=Europe/Zagreb:20250603T210000
DTSTAMP:20260422T074823
CREATED:20250516T100001Z
LAST-MODIFIED:20250516T100001Z
UID:10003082-1747162800-1748984400@planforculture.com
SUMMARY:OTVORENJE IZLOŽBE MENČE SPIROVSKA - vizualne fascinacije Zagrebom
DESCRIPTION:U suradnji s Kulturno informativni centar Republike Sjeverne Makedonije u Zagrebu\, 13. svibnja 2025. u 19 sati otvara se izložba jedne od najznačajnijih makedonskih grafičkih umjetnica: MENČE SPIROVSKA – vizualne fascinacije Zagrebom\, koja prezentira radove nastale u Zagrebu 1950-ih i gotovo nepoznate široj hrvatskoj javnosti\, a koji se čuvaju u fundusu Muzeja za umjetnost i obrt.\n\n\nSredišnje mjesto izložbe zauzima njezin do sada jedini poznati i neizlagani rad s područja grafičkog dizajna “Idejno rješenje reklamnog turističkog prospekta Zagreb“ koji će sada prvi put biti izložen u cijelosti.\n\n\n\nIzložba je realizirana kao zajednički projekt Muzeja za umjetnost i obrt i Kulturno-informativnog centra Republike Sjeverne Makedonije povodom obljetnice 145 godina MUO-a.\n\n\n\nAutorice i kustosice izložbe su dr. sc. Antonia Došen\, viša kustosica\, Voditeljica Zbirke grafike i Zbirke tiskarstva i knjigoveštva i dr. sc. Koraljka Vlajo\, muzejska savjetnica\, Voditeljica zbirki grafičkog i produkt dizajna MUO.\n\n\n\nPročitajte više: https://www.muo.hr/blog/2025/05/09/izlozba-mence-spirovska/
URL:https://planforculture.com/event/otvorenje-izlozbe-mence-spirovska-vizualne-fascinacije-zagrebom/
LOCATION:Kulturno informativni centar Republike Sjeverne Makedonije u Zagrebu\, Hebrangova 4\, Zagreb\, 10000\, Croatia (Local Name: Hrvatska)
ATTACH;FMTTYPE=image/jpeg:https://planforculture.com/wp-content/uploads/2025/05/4.-Mence-Spirovska-final-FB-cover.jpg
ORGANIZER;CN="Muzej%20za%20umjetnost%20i%20obrt%2C%20Zagreb":MAILTO:muo@muo.hr
END:VEVENT
BEGIN:VEVENT
DTSTART;TZID=Europe/Zagreb:20240905T190000
DTEND;TZID=Europe/Zagreb:20241103T190000
DTSTAMP:20260422T074823
CREATED:20240903T124722Z
LAST-MODIFIED:20240903T124814Z
UID:10002486-1725562800-1730660400@planforculture.com
SUMMARY:Otvorenje izložbe: Jedna za sve – Sve za jednu / Klub likovnih umjetnica 1927. – 1940.
DESCRIPTION:Veliki izložbeni projekt Jedna za sve – Sve za jednu / Klub likovnih umjetnica 1927. – 1940. u Galeriji Klovićevi dvori donosi iscrpan prikaz djelovanja i recepcije umjetnica članica Kluba likovnih umjetnica osnovanog u Zagrebu 1927. godine kao prvog i jedinog ženskog likovnog udruženja u prvoj polovici 20. stoljeća na ovim područjima. Izložba temeljena na višegodišnjem istraživanju kroz dvjestotinjak radova\, većinom slika\, grafika\, skulptura\, djela primijenjene umjetnosti i arhivskog gradiva\, posuđenog iz dvadesetak umjetničkih institucija iz Hrvatske i Slovenije te desetak privatnih zbirki\, predstavit će stvaralaštvo prvih generacija akademski školovanih umjetnica. Članice Kluba likovnih umjetnica\, udruženo su istupile na likovnu scenu i tržište\, te sudjelovale i u organizaciji gostujućih izložbi u Zagrebu\, njemačke kiparice i grafičarke Käthe Kollwitz 1936. godine i izložbe bugarskih likovnih umjetnica 1938. godine. Javnost će izložbu moći razgledati od 5. rujna do 3. studenoga 2024. Autorice i kustosice izložbe su Dunja Nekić\, viša kustosica i voditeljica Zbirke starije fotografije MUO i dr. sc. Darija Alujević\, stručna savjetnica u Arhivu za likovne umjetnosti Kabineta za arhitekturu i urbanizam HAZU.
URL:https://planforculture.com/event/otvorenje-izlozbe-jedna-za-sve-sve-za-jednu-klub-likovnih-umjetnica-1927-1940/
LOCATION:Galerija Klovićevi Dvori\, Jezuitski trg 4\, Zagreb\, Croatia (Local Name: Hrvatska)
CATEGORIES:EXHIBITION
ATTACH;FMTTYPE=image/jpeg:https://planforculture.com/wp-content/uploads/2024/09/FB-event-1920x1080-1-scaled.jpg
ORGANIZER;CN="Muzej%20za%20umjetnost%20i%20obrt%2C%20Zagreb":MAILTO:muo@muo.hr
END:VEVENT
BEGIN:VEVENT
DTSTART;TZID=Europe/Zagreb:20240111T170000
DTEND;TZID=Europe/Zagreb:20240111T180000
DTSTAMP:20260422T074823
CREATED:20240108T131047Z
LAST-MODIFIED:20240108T131047Z
UID:10001990-1704992400-1704996000@planforculture.com
SUMMARY:Stručno vodstvo kroz izložbu Marijan Detoni - od skice do matrice
DESCRIPTION:Još samo četiri dana do zatvaranja izložbe „Marijan Detoni: od skice do matrice“ koja je otvorena u Galerija Kranjčar.\n\n\nTim povodom u četvrtak\, 11.1.2024. u 17 sati dr. sc. Antonia Došen održat će stručno vodstvo kroz izložbu. Vodstvo je besplatno i slobodno se pridružite.\n\n\nO izložbi:\nIzložba prikazuje originalne matrice i grafike dviju linoreznih grafičkih mapa od kojih je jedna svojom važnošću temelj hrvatske međuratne grafike\, a to su „Ljudi sa Seine“ koje je Marijan Detoni izradio i otisnuo nadahnut svojim studijskim boravkom u Parizu 1933. i 1934. godine. Drugi grafički ciklus\, manje poznat javnosti\, posebnost je ove izložbe. Riječ je o grafičkim pločama izvedenima u linoleumu nazvanim „Tračnice“ nastalim 1941. godine u kojima je prikazao tragično putovanje vlakom\, a koje je javnosti zbog činjenice da ih nije odmah otisnuo ostalo uglavnom nepoznato.\n\n\nIzložbu prati istoimeni katalog\, a svi zainteresirani mogu ga kupiti u Galeriji Kranjčar.
URL:https://planforculture.com/event/strucno-vodstvo-kroz-izlozbu-marijan-detoni-od-skice-do-matrice/
LOCATION:Galerija Kranjčar\, Kaptol 26 (dvorište)\, Zagreb\, 10000\, Croatia (Local Name: Hrvatska)
CATEGORIES:EXHIBITION
ATTACH;FMTTYPE=image/jpeg:https://planforculture.com/wp-content/uploads/2024/01/1-FB-cover-event.jpg
ORGANIZER;CN="Muzej%20za%20umjetnost%20i%20obrt%2C%20Zagreb":MAILTO:muo@muo.hr
END:VEVENT
BEGIN:VEVENT
DTSTART;TZID=Europe/Zagreb:20231212T190000
DTEND;TZID=Europe/Zagreb:20231212T210000
DTSTAMP:20260422T074823
CREATED:20231211T104136Z
LAST-MODIFIED:20231211T104136Z
UID:10001987-1702407600-1702414800@planforculture.com
SUMMARY:Otvorenje izložbe: Marijan Detoni - od skice do matrice
DESCRIPTION:Muzej za umjetnost i obrt 12. prosinca u Galeriji Kranjčar otvara izložbu grafičkog stvaralaštva istaknutog hrvatskog slikara i grafičara Marijana Detonija na kojoj će\, uz poznate linoreze iz jedne od najvažnijih grafičkih mapa hrvatske međuratne umjetnosti – Ljudi sa Seine iz 1934. godine\, biti prikazana i dosad rijetko viđena linorezna grafička mapa Tračnice iz 1941. godine. Grafičke ploče koje će biti predstavljene na izložbi donirane su Zbirci grafike Muzeja za umjetnost i obrt zahvaljujući suradnji i darežljivosti obitelji Percl i gospođe Dagmar Löffler-Badžek. Izložba će biti jedinstvena prilika za upoznavanje javnosti s rasponima grafičkog stvaralaštva ovog istaknutog hrvatskog slikara i grafičara koji je na medij grafike nevjerojatnom tehnikom prenosio i dočarao atmosferu svakodnevice ljudi u jeku ekonomske krize kroz prizore života\, otpuštenih\, gladnih i nezaposlenih\, kao i prikaze putovanja i stradanja. \nRadovi Marijana Detonija neprocjenjivo su vrijedna građa za povijest hrvatske grafike kao i za poznavanje njegova rada i djela kao jednog od najistaknutijih grafičkih stvaralaca između dva svjetska rata. \nJavnost će na izložbi moći vidjeti izvorne matrice grafičke mape Tračnice koje su do sada kao cjelovito djelo bile otisnute samo jednom\, čemu ide u prilog i činjenica kako niti jedan drugi primjerak navedene mape dosad nije pronađen. U tome je i njena dodatna vrijednost\, jer osim što je vrlo vješto izvedena sa sjajnim tehničkim pojedinostima i naracijom\, ona je i jedinstveni primjer Detonijeva grafičkog opusa. \nIzložba ostaje otvorena u Galeriji Kranjčar (Kaptol 26\, Zagreb) do 12. siječnja 2024. godine.
URL:https://planforculture.com/event/otvorenje-izlozbe-marijan-detoni-od-skice-do-matrice/
LOCATION:Galerija Kranjčar\, Kaptol 26 (dvorište)\, Zagreb\, 10000\, Croatia (Local Name: Hrvatska)
CATEGORIES:EXHIBITION
ATTACH;FMTTYPE=image/jpeg:https://planforculture.com/wp-content/uploads/2023/12/2-FB-cover-event.jpg
ORGANIZER;CN="Muzej%20za%20umjetnost%20i%20obrt%2C%20Zagreb":MAILTO:muo@muo.hr
END:VEVENT
END:VCALENDAR