BEGIN:VCALENDAR
VERSION:2.0
PRODID:-//PLAN FOR CULTURE - ECPv6.0.6//NONSGML v1.0//EN
CALSCALE:GREGORIAN
METHOD:PUBLISH
X-WR-CALNAME:PLAN FOR CULTURE
X-ORIGINAL-URL:https://planforculture.com
X-WR-CALDESC:Events for PLAN FOR CULTURE
REFRESH-INTERVAL;VALUE=DURATION:PT1H
X-Robots-Tag:noindex
X-PUBLISHED-TTL:PT1H
BEGIN:VTIMEZONE
TZID:Europe/Zagreb
BEGIN:DAYLIGHT
TZOFFSETFROM:+0100
TZOFFSETTO:+0200
TZNAME:CEST
DTSTART:20240331T010000
END:DAYLIGHT
BEGIN:STANDARD
TZOFFSETFROM:+0200
TZOFFSETTO:+0100
TZNAME:CET
DTSTART:20241027T010000
END:STANDARD
END:VTIMEZONE
BEGIN:VEVENT
DTSTART;TZID=Europe/Zagreb:20240928T150000
DTEND;TZID=Europe/Zagreb:20240928T190000
DTSTAMP:20260420T024946
CREATED:20240926T144147Z
LAST-MODIFIED:20240926T144147Z
UID:10002544-1727535600-1727550000@planforculture.com
SUMMARY:Kulturplac - Novi susreti na starom mjestu
DESCRIPTION:Ususret budućem Interkulturnom društvenom centru Trnje\, pozivamo vas da nam se pridružite na prvom od mnogih događanja koje ćemo organizirati na vašoj i našoj Tržnici Trnje! U subotu\, 28.9. organiziramo niz aktivnosti kojima želimo probuditi prostor tržnice\, a koje su namijenjene svima onima koji žele uživati u kulturi upravo u svom kvartu! Ovaj jednodnevni događaj organiziraju gradska ustanova Novi prostori kulture s partnerima (Operacija grad i platforma Upgrade) s ciljem revitalizacije prostora Tržnice Trnje i otvaranja novim sadržajima\, idejama i posjetiteljima. U duhu vizije Grada Zagreba: kultura koja stvara grad\, grad koji živi kulturu\, želimo doprinijeti tome da naš grad živi kulturu\, interkulturalnost i potiče atmosferu dobrodošlice.Sve aktivnosti će biti na otvorenom\, centralnom prostoru Tržnice Trnje. Nadamo se da ćemo graditi nove prostore kvarta Trnje zajedno s vama i veselimo se vidjeti vas u subotu na placu!**Cijeli program je besplatan za sve posjetitelje i posjetiteljice.** \n~~ PROGRAM ~~\n~15.00 – 17.00 Vođena šetnja Trnjanskom uz arhitekte\, uz stajanja na 4 lokacije izložbe~Ponovno otkrivanje TrnjanskeŠetnjom kroz središte mjesnog odbora Trnje ispričat će se bogata povijest ovog vitalnog dijela grada koji kroz pritiske desetljeća urbanizacije postupno gubi svoje tradicijske prostorne veze i svakodnevne obrasce korištenja. Nerealizirani urbanistički narativi sagledat će se u odnosu na živopisne prikaze urbanog života u prošlosti te stvarne probleme i mogućnosti njihovog unaprijeđenja u današnjem trenutku. Šetnja kreće iz parkića zapadno od Palače Pravde.\nŠetnju vode: Ivana Božić Valkaj\, Ksenija Turčić\, Antun Sevšek\n~Izložba~Na trnjanskoj tržnici bit će postavljena interpretativna signalizacija koja će naznačiti početak istraživanja ovog zagrebačkog kvarta. Tijekom kraćeg istraživanja markirali smo 4 punkta na Trnjanskoj cesti koja smo detektirali kao mjesta od značaja za društveni život Trnja u prošlosti. Ono što nam je bitno je da se ovakvim tipom obilježavanja mjesta ne prenose samo informacije nađene u arhivima već da se ispriča priča glasovima Trnjana i Trnjanki i da se kvart potakne na zajedničko promišljanje njegove skore budućnosti.————————————————————————~17.00 – 17.45 Koncert Mangroove ~Mangroove su Željka Veverec i Toni Starešinić\, kreativni tandem koji se sa Mangrooveom potvrdio na sceni kao jedan od najkvalitetnjih domaćih pop sastava. 2009. godine objavili su album prvijenac „Svijet za nas“\, a otada su objavili još 4 albuma. Album iz 2023. Nešto veće od nas je osvojio i dva Porina\, te su Mangroove i Jazz orkestar HRTa\, osvojili Rock&Off nagradu glazbene kritike za najboljeg Jazz & Off izvođača.————————————————————————~ 18.00 – 19.00 Koncert Rundek Duo ~Jedan od naših najznačajnijih skladatelja\, pjevača i gitarista\, Darko Rundek\, dolazi nam na Tržnicu Trnje s Anom Kovačić!“Anu Kovačić i mene u Duo je spojila suradnja na muzici za film Zagrljaj\, Miroslava Mandića”\, navodi Rundek\, a Duo je za glazbu nedavno osvojio i nagradu na History Film Festivalu u Rijeci.\nLegendarni frontmen Haustora tijekom godina mijenja postave (Cargo Orkestar\, Trio\, Kvartet\, Ekipa\, Duo… ) u kojima se ostvaruje kroz nove kreativne pristupe\, a iza njega su brojni albumi i uspješnice koji asociraju na njegovu pojavu\, glas i interpretaciju.
URL:https://planforculture.com/event/kulturplac-novi-susreti-na-starom-mjestu/
LOCATION:Tržnica Trnje\, Trnjanska cesta 33\, Zagreb\, 10000\, Croatia (Local Name: Hrvatska)
CATEGORIES:CONCERT
ATTACH;FMTTYPE=image/jpeg:https://planforculture.com/wp-content/uploads/2024/09/kulturplac.jpg
ORGANIZER;CN="Novi%20Prostori%20Kulture":MAILTO:info@noviprostorikulture.hr
END:VEVENT
END:VCALENDAR