BEGIN:VCALENDAR
VERSION:2.0
PRODID:-//PLAN FOR CULTURE - ECPv6.0.6//NONSGML v1.0//EN
CALSCALE:GREGORIAN
METHOD:PUBLISH
X-WR-CALNAME:PLAN FOR CULTURE
X-ORIGINAL-URL:https://planforculture.com
X-WR-CALDESC:Events for PLAN FOR CULTURE
REFRESH-INTERVAL;VALUE=DURATION:PT1H
X-Robots-Tag:noindex
X-PUBLISHED-TTL:PT1H
BEGIN:VTIMEZONE
TZID:Europe/Zagreb
BEGIN:DAYLIGHT
TZOFFSETFROM:+0100
TZOFFSETTO:+0200
TZNAME:CEST
DTSTART:20240331T010000
END:DAYLIGHT
BEGIN:STANDARD
TZOFFSETFROM:+0200
TZOFFSETTO:+0100
TZNAME:CET
DTSTART:20241027T010000
END:STANDARD
END:VTIMEZONE
BEGIN:VEVENT
DTSTART;TZID=Europe/Zagreb:20241205T180000
DTEND;TZID=Europe/Zagreb:20241205T210000
DTSTAMP:20260425T010819
CREATED:20241109T105012Z
LAST-MODIFIED:20241109T105012Z
UID:10002728-1733421600-1733432400@planforculture.com
SUMMARY:🎄 BOŽIĆNI DOMJENAK ZA LJUBITELJE JEZIKA I FINE KAPLJICE🎄
DESCRIPTION:Nakon uspješnog druženja u rujnu projekt Mr#ža poziva vas na predblagdansko druženje uz\nVINSKU PRIČU I DEGUSTACIJU \n🗓️ četvrtak\, 5. 12. 2024.\n⏰ 18:00 – 21:00\n📍 diWine bar\, Opatovina 29\, Zagreb \nProgram večeri:\n• piće dobrodošlice\,\n• vođena degustacija probranih vina 🍷\,\n• slane i slatke blagdanske grickalice 🥨\,\n• umr#žavanje u blagdanskom ozračju. \nKotizacija: 30 EUR\nPrijave do: 3. 12. 2024. u 18:00\nRezervirajte svoje mjesto na: https://forms.gle/CRfcBJ7cPBG3hhLt7\nBroj mjesta je ograničen \nDođite s nama zaključiti poslovnu godinu u ugodnom ambijentu\, uz čašu dobrog vina i opušteno druženje s kolegama!
URL:https://planforculture.com/event/%f0%9f%8e%84-bozicni-domjenak-za-ljubitelje-jezika-i-fine-kapljice%f0%9f%8e%84/
LOCATION:diWine Club\, Opatovina 29\, Zagreb\, 10000\, Croatia (Local Name: Hrvatska)
CATEGORIES:OTHER
ATTACH;FMTTYPE=image/jpeg:https://planforculture.com/wp-content/uploads/2024/11/WhatsApp-Image-2024-11-04-at-11.55.12-2.jpg
ORGANIZER;CN="Projekt%20Mr%23%C5%BEa":MAILTO:mrezzainfo@gmail.com
END:VEVENT
BEGIN:VEVENT
DTSTART;TZID=Europe/Zagreb:20240927T173000
DTEND;TZID=Europe/Zagreb:20240927T203000
DTSTAMP:20260425T010819
CREATED:20240802T114826Z
LAST-MODIFIED:20240922T085408Z
UID:10002467-1727458200-1727469000@planforculture.com
SUMMARY:MARKO ALERIĆ I NIK TITANIK NA DRUŽENJU JEZIČNIH STRUČNJAKA
DESCRIPTION:🌟 DRUŽENJE JEZIČNIH STRUČNJAKA I LJUBITELJA JEZIKA S MARKOM ALERIĆEM I NIKOM TITANIKOM🌟 \nS ponosom objavljujemo svoje goste: \nprof. dr. sc. MARKO ALERIĆ\, \nkoji je će biti zadužen za ozbiljniji dio večeri\, i \nNIK TITANIK\, \nkoji će nas uvesti u ležerniji dio druženja. \n  \nPožurite s prijavom i odmah rezervirajte svoje mjesto:  https://forms.gle/Mm2U7HLpL6dGAxNN7 📩 \n🗓️ Datum: 27. 9. 2024. ⏰ Vrijeme: 17:30 – 20:30\n📍 Lokacija: BIZkoshnica\, Jabukovac 37\, Zagreb (https://maps.app.goo.gl/uQVsNWNWthbKMG6n9) \nKotizacija: 30\,00 EUR (informacije za uplatu: mailom po prijavi)\nRok za prijave i uplate: 24. 9. do 12 sati \nDodatne informacije: mrezza.info@gmail.com
URL:https://planforculture.com/event/umrezavanje-jezicnih-strucnjaka/
LOCATION:BIZkoshnica\, Jabukovac 37\, Zagreb\, 10000\, Croatia (Local Name: Hrvatska)
CATEGORIES:LECTURE,OTHER
ATTACH;FMTTYPE=image/jpeg:https://planforculture.com/wp-content/uploads/2024/08/353449064_731717755625205_2449097016656978629_n-1.jpg
ORGANIZER;CN="Projekt%20Mr%23%C5%BEa":MAILTO:mrezzainfo@gmail.com
END:VEVENT
END:VCALENDAR