BEGIN:VCALENDAR
VERSION:2.0
PRODID:-//PLAN FOR CULTURE - ECPv6.0.6//NONSGML v1.0//EN
CALSCALE:GREGORIAN
METHOD:PUBLISH
X-ORIGINAL-URL:https://planforculture.com
X-WR-CALDESC:Events for PLAN FOR CULTURE
REFRESH-INTERVAL;VALUE=DURATION:PT1H
X-Robots-Tag:noindex
X-PUBLISHED-TTL:PT1H
BEGIN:VTIMEZONE
TZID:Europe/Zagreb
BEGIN:DAYLIGHT
TZOFFSETFROM:+0100
TZOFFSETTO:+0200
TZNAME:CEST
DTSTART:20240331T010000
END:DAYLIGHT
BEGIN:STANDARD
TZOFFSETFROM:+0200
TZOFFSETTO:+0100
TZNAME:CET
DTSTART:20241027T010000
END:STANDARD
BEGIN:DAYLIGHT
TZOFFSETFROM:+0100
TZOFFSETTO:+0200
TZNAME:CEST
DTSTART:20250330T010000
END:DAYLIGHT
BEGIN:STANDARD
TZOFFSETFROM:+0200
TZOFFSETTO:+0100
TZNAME:CET
DTSTART:20251026T010000
END:STANDARD
BEGIN:DAYLIGHT
TZOFFSETFROM:+0100
TZOFFSETTO:+0200
TZNAME:CEST
DTSTART:20260329T010000
END:DAYLIGHT
BEGIN:STANDARD
TZOFFSETFROM:+0200
TZOFFSETTO:+0100
TZNAME:CET
DTSTART:20261025T010000
END:STANDARD
END:VTIMEZONE
BEGIN:VEVENT
DTSTART;VALUE=DATE:20260217
DTEND;VALUE=DATE:20260218
DTSTAMP:20260422T192848
CREATED:20251211T114508Z
LAST-MODIFIED:20251211T114508Z
UID:10003326-1771286400-1771372799@planforculture.com
SUMMARY:HOME&GARDEN INTERIOR DESIGN 2026
DESCRIPTION:SAJAM I KONFERENCIJA O OPREMANJU DOMA\, UGOSTITELJSKIH\, TURISTIČKIH I POSLOVNIH OBJEKATA \n𝐇𝐎𝐌𝐄 & 𝐆𝐀𝐑𝐃𝐄𝐍 𝐈𝐍𝐓𝐄𝐑𝐈𝐎𝐑 𝐃𝐄𝐒𝐈𝐆𝐍 \n𝟏𝟕.𝟎𝟐.𝟐𝟎𝟐𝟔. | 𝐇𝐨𝐭𝐞𝐥 𝐇𝐢𝐥𝐥𝐬\, 𝐒𝐚𝐫𝐚𝐣𝐞𝐯𝐨 \nSajam i konferencija su namijenjeni arhitektama\, dizajnerima enterijera i eksterijera\, zaljubljenicima u uređenje doma\, vlasnicima\, direktorima i menadžerima ugostiteljskih i turističkih objekata\, vlasnicima poslovnih objekata… \nU sajamskom dijelu će se predstaviti kompanije sa novitetima\, trendovima i proizvodima za savršeno uređenje prostora\, a u konferencijom dijelu će govoriti eminentni stručnjaci i arhitekti o ovoj temi\, sa brojnim savjetima\, preporukama i inovacijama. \nDogađaj koji na jednom mjestu nudi sve\, od temelja do krova\, od enterijera do eksterijera. \nNe propustite ovaj vrhunski događaj sa odličnom ponudom izlagača i odličnim predavanjima poznatih regionalnih arhitekata. \nDođite da se družimo i zabavimo\, i odavde ponesemo jedno divno iskustvo puno savjeta za savršeno uređen prostor. \nPrijavi se već danas i osiguraj svoje mjesto.
URL:https://planforculture.com/event/homegarden-interior-design-2026/
CATEGORIES:ARCHITECTURE,CONFERENCE,EXHIBITION
ATTACH;FMTTYPE=image/png:https://planforculture.com/wp-content/uploads/2025/12/SLIKE-ZA-PLAN-FOR-CULTURE.png
ORGANIZER;CN="Sfera%20d.o.o.%20Mostar":MAILTO:marketing@sfera.ba
END:VEVENT
BEGIN:VEVENT
DTSTART;TZID=Europe/Zagreb:20260210T100000
DTEND;TZID=Europe/Zagreb:20260211T160000
DTSTAMP:20260422T192848
CREATED:20251211T115718Z
LAST-MODIFIED:20251211T115801Z
UID:10003328-1770717600-1770825600@planforculture.com
SUMMARY:KONFERENCIJA “TEHNOLOGIJA BETONA 2026”
DESCRIPTION:Naučno stručna konferencija i sajam o temi ”Tehnologija betona” održat će se 10. i 11.02.2026. godine u Sarajevu\, Hotel Hills. Tradicionalni događaj koji već godinama okuplja struku i nauku na jednom mjestu\, nudi mogućnost uspostavljanja domaće i regionalne saradnje\, komunikacije i edukacije\, i ovaj put će okupiti veliki broj izlagača iz cijele regije\, kao i eminentna imena stručnjaka. S obzirom na to da su betonski proizvodi već decenijama predmet ispitivanja\, cilj diskusije je razmjena znanja i iskustava u različitim oblastima inženjerstva\, a sve s ciljem unaprijeđenja poslovanja\, komunikacije i saradnje. Na konferenciji se iznose regulative i standardi u oblasti tehnologije betona\, prezentiraju dosadašnja iskustva u procesu izgradnje objekata\, te preispituju naučna\, i tehnološka dostignuća kao i profesionalna opredjeljenja u kontekstu proizvodnje i primjene materijala za spravljanje betona\, njihove prednosti i uslovi za primjenu kao i mogućnosti za poboljšanjem. U sajamskom dijelu se predstavljaju kompanije iz regije\, tržišni lideri\, koji nude mogućnost direktne komunikacije i predstavljanja svojih proizvoda\, noviteta i inovacija. Spoj struke i nauke na jednom mjestu već godinama okuplja učesnike i posjetioce iz cijele regije.
URL:https://planforculture.com/event/konferencija-tehnologija-betona-2026/
CATEGORIES:ARCHITECTURE,CONFERENCE,EXHIBITION
ATTACH;FMTTYPE=image/png:https://planforculture.com/wp-content/uploads/2025/12/SLIKE-ZA-PLAN-FOR-CULTURE-2.png
ORGANIZER;CN="Sfera%20d.o.o.%20Mostar":MAILTO:marketing@sfera.ba
END:VEVENT
BEGIN:VEVENT
DTSTART;VALUE=DATE:20260207
DTEND;VALUE=DATE:20260208
DTSTAMP:20260422T192848
CREATED:20251211T115010Z
LAST-MODIFIED:20251211T115010Z
UID:10003327-1770422400-1770508799@planforculture.com
SUMMARY:HUBIH FESTIVAL 2026
DESCRIPTION:Sajam\, konferencija i masterclass HUBIH.
URL:https://planforculture.com/event/hubih-festival-2026/
CATEGORIES:CONFERENCE,EXHIBITION,WORKSHOP
ATTACH;FMTTYPE=image/png:https://planforculture.com/wp-content/uploads/2025/12/SLIKE-ZA-PLAN-FOR-CULTURE-1.png
ORGANIZER;CN="Sfera%20d.o.o.%20Mostar":MAILTO:marketing@sfera.ba
END:VEVENT
BEGIN:VEVENT
DTSTART;VALUE=DATE:20251114
DTEND;VALUE=DATE:20251116
DTSTAMP:20260422T192848
CREATED:20241211T145039Z
LAST-MODIFIED:20251114T095709Z
UID:10002794-1763118000-1763218800@planforculture.com
SUMMARY:HOME&GARDEN INTERIOR DESIGN
DESCRIPTION:Sajam je namijenjen stručnjacima\, profesionalcima\, dizajnerima enterijera i eksterijera\, arhitektama\, krajnjim korisnicima\, te svim zaljubljenica u uređenje doma. Ovaj jedinstveni koncept događaja okupit će kompanije iz BiH koje će se predstaviti sa novitetima i trendovima iz svijeta uređenja\, te sve posjetioce očekuje bogata ponuda\, savjete\, preporuke\, te sve informacije koje su potrebne za uređenje doma\, vrta\, vikendica\, ugostiteljskih i turističkih objekata\, poslovnih prostora… \nKonferencija je namijenjena stručnjacima\, profesionalcima\, dizajnerima enterijera i eksterijera\, te arhitektama. Ugostit će poznate predavače koji će svojim prezentacijama i predavanjima predstaviti sve aktuelnosti i inovacije\, trikove\, trendove i novosti iz svijeta uređenja doma\, enterijera i eskterijera.
URL:https://planforculture.com/event/homegarden-interior-design/
LOCATION:Hotel Hills Sarajevo\, Butmirska cesta 18\, Ilidža\, Kanton Sarajevo\, 71210\, Bosnia and Herzegovina
CATEGORIES:CONFERENCE,EXHIBITION
ATTACH;FMTTYPE=image/png:https://planforculture.com/wp-content/uploads/2024/12/SLIKE-ZA-PLAN-FOR-CULTURE-5.png
ORGANIZER;CN="Sfera%20d.o.o.%20Mostar":MAILTO:marketing@sfera.ba
END:VEVENT
BEGIN:VEVENT
DTSTART;VALUE=DATE:20251017
DTEND;VALUE=DATE:20251019
DTSTAMP:20260422T192848
CREATED:20250715T170811Z
LAST-MODIFIED:20250715T170811Z
UID:10003158-1760659200-1760831999@planforculture.com
SUMMARY:SFERA 2025 SUMMIT ARHITEKTURE
DESCRIPTION:17. i 18. listopada 2025. godine u Bosanskom kulturnom centru Sarajevo bit će održan Regionalni summit arhitekture SFERA 2025\, koji okuplja regionalne i svjetske arhitekte\, kao i stručnjake iz građevinskog i arhitektonskog sektora.  \nSummit se organizira u suradnji s arhitektonskim komorama\, asocijacijama i fakultetima iz regije\, te obuhvaća izložbeni i znanstveni dio. Kompanije iz regije predstavit će svoje proizvode\, dok će renomirani arhitekti iz BiH\, Norveške (poznati biro Snohetta)\, SAD-a\, Austrije\, Srbije\, Slovenije\, Crne Gore i Hrvatske održati predavanja.
URL:https://planforculture.com/event/sfera-2025-summit-arhitekture/
LOCATION:BKC Sarajevo\, Branilaca Sarajeva 24\,\, Sarajevo\, 71000\, Bosnia and Herzegovina
CATEGORIES:ARCHITECTURE,CONFERENCE
ORGANIZER;CN="Sfera%20d.o.o.%20Mostar":MAILTO:marketing@sfera.ba
END:VEVENT
BEGIN:VEVENT
DTSTART;TZID=Europe/Zagreb:20251003T100000
DTEND;TZID=Europe/Zagreb:20251004T170000
DTSTAMP:20260422T192848
CREATED:20241217T081003Z
LAST-MODIFIED:20241217T081003Z
UID:10002802-1759485600-1759597200@planforculture.com
SUMMARY:SAJAM DENTBIH 2025
DESCRIPTION:Sajam će na jednom mjestu okupiti sve najznačajnije proizvođače i dobavljače dentalne opreme\, pribora i usluga i istovremeno omogućiti njihovu neposrednu komunikaciju s poslovnim partnerima\, klijentima\, kupcima iz regiona.
URL:https://planforculture.com/event/sajam-dentbih-2025/
LOCATION:Hotel Hills Sarajevo\, Butmirska cesta 18\, Ilidža\, Kanton Sarajevo\, 71210\, Bosnia and Herzegovina
CATEGORIES:EXHIBITION
ATTACH;FMTTYPE=image/png:https://planforculture.com/wp-content/uploads/2024/12/SLIKE-ZA-PLAN-FOR-CULTURE-4.png
ORGANIZER;CN="Sfera%20d.o.o.%20Mostar":MAILTO:marketing@sfera.ba
END:VEVENT
BEGIN:VEVENT
DTSTART;TZID=Europe/Zagreb:20250906T110000
DTEND;TZID=Europe/Zagreb:20250907T190000
DTSTAMP:20260422T192848
CREATED:20241211T143636Z
LAST-MODIFIED:20241211T143942Z
UID:10002793-1757156400-1757271600@planforculture.com
SUMMARY:SAJAM BEAUTIFUL 2025
DESCRIPTION:Analiziramo teme kao što su novi trendovi\, tehnološki razvoj\, savjeti za razvoj biznisa\, edukacije za unaprjeđenje poslovanja\, predstavljamo proizvode i brendove\, te osiguravamo da izlagači i posjetitelji sajma budu u toku sa razvojem ove industrije. Sajam je namijenjen krajnjim korisnicima (svima onima kojima je prioritet biti lijep i zdrav) i stručnjacima koji posluju u domenu ljepote i zdravlja.
URL:https://planforculture.com/event/sajam-beautiful-2025/
LOCATION:Centar Skenderija Sarajevo\, Terezija BB\, Sarajevo\, 71 000\, Bosnia and Herzegovina
CATEGORIES:EXHIBITION
ATTACH;FMTTYPE=image/png:https://planforculture.com/wp-content/uploads/2024/12/SLIKE-ZA-PLAN-FOR-CULTURE.png
ORGANIZER;CN="Sfera%20d.o.o.%20Mostar":MAILTO:marketing@sfera.ba
END:VEVENT
BEGIN:VEVENT
DTSTART;TZID=Europe/Zagreb:20250225T100000
DTEND;TZID=Europe/Zagreb:20250226T150000
DTSTAMP:20260422T192848
CREATED:20241211T142217Z
LAST-MODIFIED:20241211T144116Z
UID:10002792-1740477600-1740582000@planforculture.com
SUMMARY:SFERA 2025: KLIMATIZACIJA\, GRIJANJE I HLAĐENJE
DESCRIPTION:Konferencija preispituje naučna\, odnosno tehnološka dostignuća i profesionalna opredjeljenja u kontekstu proizvodnje\, primjene i oblikovanja sistema za klimatizaciju\, ventilaciju i grijanje. Shodno trenutnoj svjetskoj situaciji\, teme sistema grijanja\, ventilacije\, klimatizacije\, energetski učinkovitih rješenja za sisteme grijanja\, ventilacije i klimatizacije\, obnovljivih izvora energije\, su teme o kojima će se govoriti na dvodnevnoj konferenciji.
URL:https://planforculture.com/event/sfera-2025-klimatizacija-grijanje-i-hladenje/
LOCATION:Hotel Hills Sarajevo\, Butmirska cesta 18\, Ilidža\, Kanton Sarajevo\, 71210\, Bosnia and Herzegovina
CATEGORIES:ARCHITECTURE,CONFERENCE,EXHIBITION
ATTACH;FMTTYPE=image/png:https://planforculture.com/wp-content/uploads/2024/12/SLIKE-ZA-PLAN-FOR-CULTURE-1.png
ORGANIZER;CN="Sfera%20d.o.o.%20Mostar":MAILTO:marketing@sfera.ba
END:VEVENT
BEGIN:VEVENT
DTSTART;VALUE=DATE:20250219
DTEND;VALUE=DATE:20250220
DTSTAMP:20260422T192848
CREATED:20241211T145744Z
LAST-MODIFIED:20241211T145744Z
UID:10002795-1739923200-1740009599@planforculture.com
SUMMARY:HUBIH MASTERCLASS
DESCRIPTION:Festival će obuhvatiti sajamski dio na preko 1000m2 izložbenog prostora\, masterclassove\, te konferenciju o menadžmentu\, opremanju hotela i ugostiteljskih objekata. Naime\, sajamski dio će biti otvoren za sve posjetioce oba dana\, gdje će imati mogućnost obilaska i posjete štandovima kompanija koje će izlagati\, informisati se o svim novitetima koje nude\, aktuelnostima i trendovima.
URL:https://planforculture.com/event/hubih-masterclass/
LOCATION:Hotel Hills Sarajevo\, Butmirska cesta 18\, Ilidža\, Kanton Sarajevo\, 71210\, Bosnia and Herzegovina
ATTACH;FMTTYPE=image/png:https://planforculture.com/wp-content/uploads/2024/12/SLIKE-ZA-PLAN-FOR-CULTURE-3.png
ORGANIZER;CN="Sfera%20d.o.o.%20Mostar":MAILTO:marketing@sfera.ba
END:VEVENT
BEGIN:VEVENT
DTSTART;TZID=Europe/Zagreb:20240220T000000
DTEND;TZID=Europe/Zagreb:20240220T235900
DTSTAMP:20260422T192848
CREATED:20231110T101221Z
LAST-MODIFIED:20231110T101406Z
UID:10000132-1708387200-1708473540@planforculture.com
SUMMARY:Naučno stručna konferencija “Tehnologija betona”
DESCRIPTION:Sarajevo\, Hotel Hills 20. i 21.2.2024.
URL:https://planforculture.com/event/naucno-strucna-konferencija-tehnologija-betona/
LOCATION:Hotel Hills Sarajevo\, Butmirska cesta 18\, Ilidža\, Kanton Sarajevo\, 71210\, Bosnia and Herzegovina
CATEGORIES:ARCHITECTURE,CONFERENCE
ORGANIZER;CN="Sfera%20d.o.o.%20Mostar":MAILTO:marketing@sfera.ba
END:VEVENT
END:VCALENDAR