BEGIN:VCALENDAR
VERSION:2.0
PRODID:-//PLAN FOR CULTURE - ECPv6.0.6//NONSGML v1.0//EN
CALSCALE:GREGORIAN
METHOD:PUBLISH
X-ORIGINAL-URL:https://planforculture.com
X-WR-CALDESC:Events for PLAN FOR CULTURE
REFRESH-INTERVAL;VALUE=DURATION:PT1H
X-Robots-Tag:noindex
X-PUBLISHED-TTL:PT1H
BEGIN:VTIMEZONE
TZID:Europe/Zagreb
BEGIN:DAYLIGHT
TZOFFSETFROM:+0100
TZOFFSETTO:+0200
TZNAME:CEST
DTSTART:20260329T010000
END:DAYLIGHT
BEGIN:STANDARD
TZOFFSETFROM:+0200
TZOFFSETTO:+0100
TZNAME:CET
DTSTART:20261025T010000
END:STANDARD
END:VTIMEZONE
BEGIN:VEVENT
DTSTART;TZID=Europe/Zagreb:20260420T200000
DTEND;TZID=Europe/Zagreb:20260420T213000
DTSTAMP:20260419T181835
CREATED:20260331T145631Z
LAST-MODIFIED:20260413T115307Z
UID:10003447-1776715200-1776720600@planforculture.com
SUMMARY:Kreativna Ura: ZvUQ – EARTH Day Gala
DESCRIPTION:Kreativna Ura u Uraniji nastavlja suradnju s ansamblom ZvUQ (Zagreb Unlimited Quintet) – novim komornim sastavom koji promišlja glazbu kao prostor dijaloga između umjetnosti\, društva i pojedinca. \nNakon koncerata Peace of Mind\, Fantasy Tales i YOU and ONLY YOU\, ansambl se novim programom iz ciklusa Important Dates by ZvUQ nastavlja baviti odnosom između akustičkog i etičkog prostora. Četvrti koncert u ciklusu nosi naziv EARTH Day Gala. \nOvim koncertom obilježavamo Svjetski dan Zemlje izvedbama skladatelja kojima je priroda bila neiscrpna inspiracija  za njihovo stvaralaštvo. Okosnica programa je popularan puhački kvintet danskog skladatelja Carla Nielsena za kojeg je sklonost puhačkim instrumentima bila usko vezana ljubavlju prema prirodi. \nUskoro više…
URL:https://planforculture.com/event/kreativna-ura-zvuq-earth-day-gala/
LOCATION:Urania\, Trg E. Kvaternika 3/3\, 10000 Zagreb\, Trg E. Kvaternika 3/3\, Zagreb\, 10000\, Croatia (Local Name: Hrvatska)
CATEGORIES:CONCERT
ATTACH;FMTTYPE=image/png:https://planforculture.com/wp-content/uploads/2026/03/Urania-objavq_ZvUQ_20_04_2026_A-02.png
ORGANIZER;CN="Urania":MAILTO:urania@urania.hr
END:VEVENT
END:VCALENDAR