BEGIN:VCALENDAR
VERSION:2.0
PRODID:-//PLAN FOR CULTURE - ECPv6.0.6//NONSGML v1.0//EN
CALSCALE:GREGORIAN
METHOD:PUBLISH
X-ORIGINAL-URL:https://planforculture.com
X-WR-CALDESC:Events for PLAN FOR CULTURE
REFRESH-INTERVAL;VALUE=DURATION:PT1H
X-Robots-Tag:noindex
X-PUBLISHED-TTL:PT1H
BEGIN:VTIMEZONE
TZID:Europe/Zagreb
BEGIN:DAYLIGHT
TZOFFSETFROM:+0100
TZOFFSETTO:+0200
TZNAME:CEST
DTSTART:20230326T010000
END:DAYLIGHT
BEGIN:STANDARD
TZOFFSETFROM:+0200
TZOFFSETTO:+0100
TZNAME:CET
DTSTART:20231029T010000
END:STANDARD
BEGIN:DAYLIGHT
TZOFFSETFROM:+0100
TZOFFSETTO:+0200
TZNAME:CEST
DTSTART:20240331T010000
END:DAYLIGHT
BEGIN:STANDARD
TZOFFSETFROM:+0200
TZOFFSETTO:+0100
TZNAME:CET
DTSTART:20241027T010000
END:STANDARD
END:VTIMEZONE
BEGIN:VEVENT
DTSTART;TZID=Europe/Zagreb:20231005T100000
DTEND;TZID=Europe/Zagreb:20231007T190000
DTSTAMP:20260424T063517
CREATED:20230817T123729Z
LAST-MODIFIED:20230829T135235Z
UID:10000031-1696500000-1696705200@planforculture.com
SUMMARY:Month of Design 2023
DESCRIPTION:Design Week Ljubljana 2023\, scheduled for October 5-7\, as an integral component of the Month of Design\, encompasses a dynamic array of events; Exhibition of Brands and Designers\, Eat & Drink Design\, BIG SEE Winners presentations\, the Design Conference\, the Design Forum\, BIG SEE Debates\, the BIG SEE Grand Prix Award Ceremony\, and the Slovene Design Awards Ceremony. \nProgramme \nOCTOBER 5\, 2023\n10.00-12.00: BIG SEE Debate (Academy of Music\, Kongresni trg 1\, Ljubljana)\n12.00-14.00: BIG SEE Debate (Academy of Music\, Kongresni trg 1\, Ljubljana)\n10.00-16.00: Design Forum (Academy of Music\, Kongresni trg 1\, Ljubljana)\n17.00-18.00: Slovenian Design Award Ceremony (Academy of Music\, Kongresni trg 1\, Ljubljana)\n18.00-22.00: Eat & Drink Design and Opening of the Design Week Ljubljana (Design Zone in Centre of Ljubljana) \nOCTOBER 6\, 2023\n10.00-22.00: Design in the City (Design Zone in Centre of Ljubljana)\n10.00-17.00: Winning Projects Presentations (Academy of Music\, Kongresni trg 1\, Ljubljana)\n13.00-16.00: Design Conference: The Future is Watching You (Academy of Music\, Kongresni trg 1\, Ljubljana)\n17.00-18.00: BIG SEE Design Grand Prix Award Ceremony (Academy of Music\, Kongresni trg 1\, Ljubljana)\n18.00-22.00: Light & Sound Design\, Eat & Drink Design (Design Zone in Centre of Ljubljana) \nOCTOBER 7\, 2023\n10.00-19.00: Design in the City (Design Zone in Centre of Ljubljana) \nMore about the programme: https://bigsee.eu/visit-month-of-design-2023/
URL:https://planforculture.com/event/month-of-design-2023/
LOCATION:Design Zone in Centre of Ljubljana\, Ljubljana\, 1000\, Slovenia
CATEGORIES:ARCHITECTURE,CONCERT,CONFERENCE,EXHIBITION
ATTACH;FMTTYPE=image/jpeg:https://planforculture.com/wp-content/uploads/2023/08/plakat-1536x864px-dragged.jpg
ORGANIZER;CN="Zavod%20Big%20%E2%80%A2%20BIG%20SEE":MAILTO:info@bigsee.eu
END:VEVENT
BEGIN:VEVENT
DTSTART;TZID=Europe/Zagreb:20241010T120000
DTEND;TZID=Europe/Zagreb:20241012T120000
DTSTAMP:20260424T063517
CREATED:20240925T111331Z
LAST-MODIFIED:20240925T111516Z
UID:10002537-1728561600-1728734400@planforculture.com
SUMMARY:BIG Design Ljubljana
DESCRIPTION:BIG Design Ljubljana is a dynamic design festival showcasing events\, exhibitions\, lectures\, debates\, and awards that highlight the best in design excellence. Its mission is to elevate the role of design in society and to spotlight its creative potential. BIG Design Exhibition is a curated event in the heart of Ljubljana\, serving as a creative pool for exchanging new design narratives with an audience hungry for good design\, innovations\, and experiences. \nFor years\, we have been striving to promote the most prominent achievements in as public spaces as possible\, where they are accessible to the largest number of people. Last autumn\, we “occupied” the area in front of City Hall and Stritarjeva Street\, and this year we will expand to Tromostovje\, Prešeren Square\, and Mestni Square. The highlights of the event include the BIG Design Show exhibition with the Eat & Drink Design Performance\, presentations and award ceremonies\, the Progress Powered by Design conference\, and current design discussions.
URL:https://planforculture.com/event/big-design-ljubljana/
LOCATION:Design Zone in Centre of Ljubljana\, Ljubljana\, 1000\, Slovenia
CATEGORIES:CONFERENCE,EXHIBITION,LECTURE
ATTACH;FMTTYPE=image/jpeg:https://planforculture.com/wp-content/uploads/2024/09/BIG-Design.jpg
ORGANIZER;CN="Zavod%20Big%20%E2%80%A2%20BIG%20SEE":MAILTO:info@bigsee.eu
END:VEVENT
END:VCALENDAR