BEGIN:VCALENDAR
VERSION:2.0
PRODID:-//PLAN FOR CULTURE - ECPv6.0.6//NONSGML v1.0//EN
CALSCALE:GREGORIAN
METHOD:PUBLISH
X-ORIGINAL-URL:https://planforculture.com
X-WR-CALDESC:Events for PLAN FOR CULTURE
REFRESH-INTERVAL;VALUE=DURATION:PT1H
X-Robots-Tag:noindex
X-PUBLISHED-TTL:PT1H
BEGIN:VTIMEZONE
TZID:Europe/Zagreb
BEGIN:DAYLIGHT
TZOFFSETFROM:+0100
TZOFFSETTO:+0200
TZNAME:CEST
DTSTART:20240331T010000
END:DAYLIGHT
BEGIN:STANDARD
TZOFFSETFROM:+0200
TZOFFSETTO:+0100
TZNAME:CET
DTSTART:20241027T010000
END:STANDARD
END:VTIMEZONE
BEGIN:VEVENT
DTSTART;TZID=Europe/Zagreb:20240426T080000
DTEND;TZID=Europe/Zagreb:20240426T170000
DTSTAMP:20260419T235107
CREATED:20240416T080748Z
LAST-MODIFIED:20240416T084529Z
UID:10002193-1714118400-1714150800@planforculture.com
SUMMARY:PREMIJERA: ANĐEO OD LEDA
DESCRIPTION:Slavna politička TV novinarka\, poznata po svojoj etičkoj beskompromisnosti\, naglo prekida karijeru na vrhuncu i posvećuje se dobrotvornom radu u popravnom domu za djevojke\, ne sluteći da je otvorila Pandorinu kutiju vlastitih trauma\, a time uzburkala i traumatski talog cijele svoje obitelji… Zaplet dostojan kakvog suvremenog romana\, ili scenarističke podloge za uzbudljivu mini TV seriju ili film. Anđeo od leda\, autorski projekt mađarskog redatelja Árpáda Schillinga\, u scenskom susretu aktera drame\, napisane upravo za ansambl ZKM-a\, spaja literarnu slojevitost i složenost s filmskom dinamikom i napetošću. Što se događa kad se plemeniti poriv za dobročinstvom podsvjesno hrani neprerađenom traumom i kakve su posljedice takvog pothvata? Kad naizgled savršeni životi i obiteljski odnosi počnu pucati po šavovima\, kad se sunovrate u svoju suprotnost? Može li se kaosom ovladati\, čak i ako se za tu borbu više nema snage? Podnaslov Anđela od leda – Pročišćavajuća moć dobrih namjera – u svakom je smislu ključni tematski putokaz ove priče naseljene čehovljevski rafiniranim likovima i popločane neminovnošću susreta s vlastitim srcem tame. \nGlume: Nataša Dangubić\, Filip Nola\, Luka Knez\, Veronika Moćan/ Elizabeta Brleković\, Dado Ćosić\, Nadežda Perišić Radović\, Rakan Rushaidat\, Petra Svrtan\, Doris Šarić Kukuljica\, Zoran Čubrilo\, Nikolina Prkačin\, Adrian Pezdirc\, Dora Polić Vitez\, Milivoj Beader te polaznice Učilišta ZKM-a
URL:https://planforculture.com/event/premijera-andeo-od-leda/2024-04-26/
LOCATION:Zagrebačko kazalište mladih\, Teslina 7\, Zagreb\, grad Zagreb\, 10000\, Croatia (Local Name: Hrvatska)
CATEGORIES:THEATER
ATTACH;FMTTYPE=image/png:https://planforculture.com/wp-content/uploads/2024/04/ANDJEO-OD-LEDA-drustvene-FB-post.png
ORGANIZER;CN="Zagreba%C4%8Dko%20kazali%C5%A1te%20mladih":MAILTO:info@zekaem.hr
END:VEVENT
BEGIN:VEVENT
DTSTART;TZID=Europe/Zagreb:20240426T190000
DTEND;TZID=Europe/Zagreb:20240426T220000
DTSTAMP:20260419T235107
CREATED:20240416T080748Z
LAST-MODIFIED:20240416T084529Z
UID:10002194-1714158000-1714168800@planforculture.com
SUMMARY:PREMIJERA: ANĐEO OD LEDA
DESCRIPTION:Slavna politička TV novinarka\, poznata po svojoj etičkoj beskompromisnosti\, naglo prekida karijeru na vrhuncu i posvećuje se dobrotvornom radu u popravnom domu za djevojke\, ne sluteći da je otvorila Pandorinu kutiju vlastitih trauma\, a time uzburkala i traumatski talog cijele svoje obitelji… Zaplet dostojan kakvog suvremenog romana\, ili scenarističke podloge za uzbudljivu mini TV seriju ili film. Anđeo od leda\, autorski projekt mađarskog redatelja Árpáda Schillinga\, u scenskom susretu aktera drame\, napisane upravo za ansambl ZKM-a\, spaja literarnu slojevitost i složenost s filmskom dinamikom i napetošću. Što se događa kad se plemeniti poriv za dobročinstvom podsvjesno hrani neprerađenom traumom i kakve su posljedice takvog pothvata? Kad naizgled savršeni životi i obiteljski odnosi počnu pucati po šavovima\, kad se sunovrate u svoju suprotnost? Može li se kaosom ovladati\, čak i ako se za tu borbu više nema snage? Podnaslov Anđela od leda – Pročišćavajuća moć dobrih namjera – u svakom je smislu ključni tematski putokaz ove priče naseljene čehovljevski rafiniranim likovima i popločane neminovnošću susreta s vlastitim srcem tame. \nGlume: Nataša Dangubić\, Filip Nola\, Luka Knez\, Veronika Moćan/ Elizabeta Brleković\, Dado Ćosić\, Nadežda Perišić Radović\, Rakan Rushaidat\, Petra Svrtan\, Doris Šarić Kukuljica\, Zoran Čubrilo\, Nikolina Prkačin\, Adrian Pezdirc\, Dora Polić Vitez\, Milivoj Beader te polaznice Učilišta ZKM-a
URL:https://planforculture.com/event/premijera-andeo-od-leda/2024-04-26/
LOCATION:Zagrebačko kazalište mladih\, Teslina 7\, Zagreb\, grad Zagreb\, 10000\, Croatia (Local Name: Hrvatska)
CATEGORIES:THEATER
ATTACH;FMTTYPE=image/png:https://planforculture.com/wp-content/uploads/2024/04/ANDJEO-OD-LEDA-drustvene-FB-post.png
ORGANIZER;CN="Zagreba%C4%8Dko%20kazali%C5%A1te%20mladih":MAILTO:info@zekaem.hr
END:VEVENT
BEGIN:VEVENT
DTSTART;TZID=Europe/Zagreb:20241005T200000
DTEND;TZID=Europe/Zagreb:20241005T214500
DTSTAMP:20260419T235107
CREATED:20241003T092425Z
LAST-MODIFIED:20241003T095037Z
UID:10002567-1728158400-1728164700@planforculture.com
SUMMARY:Z/K/M/: MLADEŽ BEZ BOGA
DESCRIPTION:Koprodukcija ZKM-a i Montažstroja; autor i redatelj Borut Šeparović\, po motivima istoimenog romana Ödöna von Horvátha\, inspiriran djelom Franca Bifa Berardija “Heroji”
URL:https://planforculture.com/event/mladez-bez-boga/
LOCATION:Zagrebačko kazalište mladih\, Teslina 7\, Zagreb\, grad Zagreb\, 10000\, Croatia (Local Name: Hrvatska)
CATEGORIES:THEATER
ATTACH;FMTTYPE=image/jpeg:https://planforculture.com/wp-content/uploads/2024/10/ZKM-Mladez-Bez-Boga15.jpg
ORGANIZER;CN="Zagreba%C4%8Dko%20kazali%C5%A1te%20mladih":MAILTO:info@zekaem.hr
END:VEVENT
BEGIN:VEVENT
DTSTART;TZID=Europe/Zagreb:20241006T200000
DTEND;TZID=Europe/Zagreb:20241006T224500
DTSTAMP:20260419T235107
CREATED:20241003T094405Z
LAST-MODIFIED:20241003T095155Z
UID:10002568-1728244800-1728254700@planforculture.com
SUMMARY:Z/K/M/: JEZIK KOPAČKE
DESCRIPTION:Redatelj: Borut Šeparović \nAutori teksta: Ivan Ergić i Filip Grujić \n 
URL:https://planforculture.com/event/jezik-kopacke/
LOCATION:Zagrebačko kazalište mladih\, Teslina 7\, Zagreb\, grad Zagreb\, 10000\, Croatia (Local Name: Hrvatska)
CATEGORIES:THEATER
ATTACH;FMTTYPE=image/jpeg:https://planforculture.com/wp-content/uploads/2024/10/Jezik-kopacke-_3.jpg
ORGANIZER;CN="Zagreba%C4%8Dko%20kazali%C5%A1te%20mladih":MAILTO:info@zekaem.hr
END:VEVENT
BEGIN:VEVENT
DTSTART;TZID=Europe/Zagreb:20241008T200000
DTEND;TZID=Europe/Zagreb:20241008T224500
DTSTAMP:20260419T235107
CREATED:20241003T095356Z
LAST-MODIFIED:20241003T095356Z
UID:10002569-1728417600-1728427500@planforculture.com
SUMMARY:Z/K/M/: JEZIK KOPAČKE
DESCRIPTION:Redatalj: Borut Šeparović \nAutori teksta: Ivan Ergić i Filip Grujić \n 
URL:https://planforculture.com/event/z-k-m-jezik-kopacke/
LOCATION:Zagrebačko kazalište mladih\, Teslina 7\, Zagreb\, grad Zagreb\, 10000\, Croatia (Local Name: Hrvatska)
CATEGORIES:THEATER
ATTACH;FMTTYPE=image/jpeg:https://planforculture.com/wp-content/uploads/2024/10/Jezik-kopacke-_3-1.jpg
ORGANIZER;CN="Zagreba%C4%8Dko%20kazali%C5%A1te%20mladih":MAILTO:info@zekaem.hr
END:VEVENT
BEGIN:VEVENT
DTSTART;TZID=Europe/Zagreb:20241009T200000
DTEND;TZID=Europe/Zagreb:20241009T224500
DTSTAMP:20260419T235107
CREATED:20241003T095711Z
LAST-MODIFIED:20241003T095711Z
UID:10002570-1728504000-1728513900@planforculture.com
SUMMARY:Z/K/M/: JEZIK KOPAČKE
DESCRIPTION:Redatelj: Borut Šeparović \nAutori teksta: Ivan Ergić i Filip Grujić
URL:https://planforculture.com/event/z-k-m-jezik-kopacke-2/
LOCATION:Zagrebačko kazalište mladih\, Teslina 7\, Zagreb\, grad Zagreb\, 10000\, Croatia (Local Name: Hrvatska)
CATEGORIES:THEATER
ATTACH;FMTTYPE=image/jpeg:https://planforculture.com/wp-content/uploads/2024/10/Jezik-kopacke-_3-2.jpg
ORGANIZER;CN="Zagreba%C4%8Dko%20kazali%C5%A1te%20mladih":MAILTO:info@zekaem.hr
END:VEVENT
BEGIN:VEVENT
DTSTART;TZID=Europe/Zagreb:20241011T190000
DTEND;TZID=Europe/Zagreb:20241011T214000
DTSTAMP:20260419T235107
CREATED:20241003T100337Z
LAST-MODIFIED:20241003T100337Z
UID:10002571-1728673200-1728682800@planforculture.com
SUMMARY:Z/K/M/: ANĐEO OD LEDA
DESCRIPTION:Pročišćavajuća moć dobrih namjera \nAutorski projekt Árpáda Schillinga \n 
URL:https://planforculture.com/event/z-k-m-andeo-od-leda/
LOCATION:Zagrebačko kazalište mladih\, Teslina 7\, Zagreb\, grad Zagreb\, 10000\, Croatia (Local Name: Hrvatska)
CATEGORIES:THEATER
ATTACH;FMTTYPE=image/jpeg:https://planforculture.com/wp-content/uploads/2024/10/ZKM-An─Leo-od-leda13.jpg
ORGANIZER;CN="Zagreba%C4%8Dko%20kazali%C5%A1te%20mladih":MAILTO:info@zekaem.hr
END:VEVENT
BEGIN:VEVENT
DTSTART;TZID=Europe/Zagreb:20241012T190000
DTEND;TZID=Europe/Zagreb:20241012T214000
DTSTAMP:20260419T235107
CREATED:20241003T100540Z
LAST-MODIFIED:20241003T100833Z
UID:10002572-1728759600-1728769200@planforculture.com
SUMMARY:Z/K/M/: ANĐEO OD LEDA
DESCRIPTION:Pročišćavajuća moć dobrih namjera \nAutorski projekt Árpáda Schillinga
URL:https://planforculture.com/event/z-k-m-andeo-od-leda-2/
LOCATION:Zagrebačko kazalište mladih\, Teslina 7\, Zagreb\, grad Zagreb\, 10000\, Croatia (Local Name: Hrvatska)
CATEGORIES:THEATER
ATTACH;FMTTYPE=image/jpeg:https://planforculture.com/wp-content/uploads/2024/10/ZKM-An─Leo-od-leda13-1.jpg
ORGANIZER;CN="Zagreba%C4%8Dko%20kazali%C5%A1te%20mladih":MAILTO:info@zekaem.hr
END:VEVENT
BEGIN:VEVENT
DTSTART;TZID=Europe/Zagreb:20241013T190000
DTEND;TZID=Europe/Zagreb:20241013T214000
DTSTAMP:20260419T235107
CREATED:20241003T100748Z
LAST-MODIFIED:20241024T140500Z
UID:10002573-1728846000-1728855600@planforculture.com
SUMMARY:Z/K/M/: ANĐEO OD LEDA (s titlovima na eng. j.)
DESCRIPTION:Pročišćavajuća moć dobrih namjera \nAutorski projekt Árpáda Schillinga \nRedatelj: Árpád Schilling
URL:https://planforculture.com/event/z-k-m-andeo-od-leda-s-titlovima-na-eng-j/
LOCATION:Zagrebačko kazalište mladih\, Teslina 7\, Zagreb\, grad Zagreb\, 10000\, Croatia (Local Name: Hrvatska)
CATEGORIES:THEATER
ATTACH;FMTTYPE=image/jpeg:https://planforculture.com/wp-content/uploads/2024/10/ZKM-An─Leo-od-leda13-2.jpg
ORGANIZER;CN="Zagreba%C4%8Dko%20kazali%C5%A1te%20mladih":MAILTO:info@zekaem.hr
END:VEVENT
BEGIN:VEVENT
DTSTART;TZID=Europe/Zagreb:20241015T200000
DTEND;TZID=Europe/Zagreb:20241015T214500
DTSTAMP:20260419T235107
CREATED:20241003T103214Z
LAST-MODIFIED:20241003T103214Z
UID:10002574-1729022400-1729028700@planforculture.com
SUMMARY:Z/K/M/: EUFORIJA
DESCRIPTION:Autorski projekt Ksenije Zec
URL:https://planforculture.com/event/z-k-m-euforija/
LOCATION:Zagrebačko kazalište mladih\, Teslina 7\, Zagreb\, grad Zagreb\, 10000\, Croatia (Local Name: Hrvatska)
CATEGORIES:THEATER
ATTACH;FMTTYPE=image/jpeg:https://planforculture.com/wp-content/uploads/2024/10/ZKM-Euforija10.jpg
ORGANIZER;CN="Zagreba%C4%8Dko%20kazali%C5%A1te%20mladih":MAILTO:info@zekaem.hr
END:VEVENT
BEGIN:VEVENT
DTSTART;TZID=Europe/Zagreb:20241016T200000
DTEND;TZID=Europe/Zagreb:20241016T214500
DTSTAMP:20260419T235107
CREATED:20241003T103332Z
LAST-MODIFIED:20241003T103333Z
UID:10002575-1729108800-1729115100@planforculture.com
SUMMARY:Z/K/M/: EUFORIJA
DESCRIPTION:Autorski projekt Ksenije Zec
URL:https://planforculture.com/event/z-k-m-euforija-2/
LOCATION:Zagrebačko kazalište mladih\, Teslina 7\, Zagreb\, grad Zagreb\, 10000\, Croatia (Local Name: Hrvatska)
CATEGORIES:THEATER
ATTACH;FMTTYPE=image/jpeg:https://planforculture.com/wp-content/uploads/2024/10/ZKM-Euforija10-1.jpg
ORGANIZER;CN="Zagreba%C4%8Dko%20kazali%C5%A1te%20mladih":MAILTO:info@zekaem.hr
END:VEVENT
BEGIN:VEVENT
DTSTART;TZID=Europe/Zagreb:20241017T200000
DTEND;TZID=Europe/Zagreb:20241017T214500
DTSTAMP:20260419T235107
CREATED:20241003T103628Z
LAST-MODIFIED:20241003T103628Z
UID:10002576-1729195200-1729201500@planforculture.com
SUMMARY:Z/K/M/: EUFORIJA
DESCRIPTION:Autorski projekt Ksenije Zec
URL:https://planforculture.com/event/z-k-m-euforija-3/
LOCATION:Zagrebačko kazalište mladih\, Teslina 7\, Zagreb\, grad Zagreb\, 10000\, Croatia (Local Name: Hrvatska)
CATEGORIES:THEATER
ATTACH;FMTTYPE=image/jpeg:https://planforculture.com/wp-content/uploads/2024/10/ZKM-Euforija10-2.jpg
ORGANIZER;CN="Zagreba%C4%8Dko%20kazali%C5%A1te%20mladih":MAILTO:info@zekaem.hr
END:VEVENT
BEGIN:VEVENT
DTSTART;TZID=Europe/Zagreb:20241018T110000
DTEND;TZID=Europe/Zagreb:20241018T124500
DTSTAMP:20260419T235107
CREATED:20241003T103826Z
LAST-MODIFIED:20241003T103826Z
UID:10002577-1729249200-1729255500@planforculture.com
SUMMARY:Z/K/M/: EUFORIJA
DESCRIPTION:Autorski projekt Ksenije Zec
URL:https://planforculture.com/event/z-k-m-euforija-4/
LOCATION:Zagrebačko kazalište mladih\, Teslina 7\, Zagreb\, grad Zagreb\, 10000\, Croatia (Local Name: Hrvatska)
CATEGORIES:THEATER
ATTACH;FMTTYPE=image/jpeg:https://planforculture.com/wp-content/uploads/2024/10/ZKM-Euforija10-3.jpg
ORGANIZER;CN="Zagreba%C4%8Dko%20kazali%C5%A1te%20mladih":MAILTO:info@zekaem.hr
END:VEVENT
BEGIN:VEVENT
DTSTART;TZID=Europe/Zagreb:20241019T200000
DTEND;TZID=Europe/Zagreb:20241019T224500
DTSTAMP:20260419T235107
CREATED:20241003T104307Z
LAST-MODIFIED:20241003T104307Z
UID:10002578-1729368000-1729377900@planforculture.com
SUMMARY:Z/K/M/: JEZIK KOPAČKE
DESCRIPTION:Redatelj: Borut Šeparović \nAutori teksta: Ivan Ergić i Filip Grujić
URL:https://planforculture.com/event/z-k-m-jezik-kopacke-3/
LOCATION:Zagrebačko kazalište mladih\, Teslina 7\, Zagreb\, grad Zagreb\, 10000\, Croatia (Local Name: Hrvatska)
CATEGORIES:THEATER
ATTACH;FMTTYPE=image/jpeg:https://planforculture.com/wp-content/uploads/2024/10/Jezik-kopacke-_3-3.jpg
ORGANIZER;CN="Zagreba%C4%8Dko%20kazali%C5%A1te%20mladih":MAILTO:info@zekaem.hr
END:VEVENT
BEGIN:VEVENT
DTSTART;TZID=Europe/Zagreb:20241020T200000
DTEND;TZID=Europe/Zagreb:20241020T224500
DTSTAMP:20260419T235107
CREATED:20241003T104505Z
LAST-MODIFIED:20241003T104505Z
UID:10002579-1729454400-1729464300@planforculture.com
SUMMARY:Z/K/M/: JEZIK KOPAČKE
DESCRIPTION:Redatelj: Borut Šeparović \nAutori teksta: Ivan Ergić i Filip Grujić
URL:https://planforculture.com/event/z-k-m-jezik-kopacke-4/
LOCATION:Zagrebačko kazalište mladih\, Teslina 7\, Zagreb\, grad Zagreb\, 10000\, Croatia (Local Name: Hrvatska)
CATEGORIES:THEATER
ATTACH;FMTTYPE=image/jpeg:https://planforculture.com/wp-content/uploads/2024/10/Jezik-kopacke-_3-4.jpg
ORGANIZER;CN="Zagreba%C4%8Dko%20kazali%C5%A1te%20mladih":MAILTO:info@zekaem.hr
END:VEVENT
BEGIN:VEVENT
DTSTART;TZID=Europe/Zagreb:20241022T200000
DTEND;TZID=Europe/Zagreb:20241022T222000
DTSTAMP:20260419T235107
CREATED:20241003T110601Z
LAST-MODIFIED:20241003T110601Z
UID:10002580-1729627200-1729635600@planforculture.com
SUMMARY:Z/K/M/: BRAĆA KARAMAZOVI - I. dio
DESCRIPTION:I. dio: Sve sretne obitelji nalik su jedna na drugu \nRedatelj: Oliver Frljić \nPrema romanima F. M. Dostojevskog
URL:https://planforculture.com/event/z-k-m-braca-karamazovi-i-dio/
LOCATION:Zagrebačko kazalište mladih\, Teslina 7\, Zagreb\, grad Zagreb\, 10000\, Croatia (Local Name: Hrvatska)
CATEGORIES:THEATER
ATTACH;FMTTYPE=image/jpeg:https://planforculture.com/wp-content/uploads/2024/10/ZKM-Braca-Karamazovi_1.dio_.jpg
ORGANIZER;CN="Zagreba%C4%8Dko%20kazali%C5%A1te%20mladih":MAILTO:info@zekaem.hr
END:VEVENT
BEGIN:VEVENT
DTSTART;TZID=Europe/Zagreb:20241023T200000
DTEND;TZID=Europe/Zagreb:20241023T212000
DTSTAMP:20260419T235107
CREATED:20241003T110950Z
LAST-MODIFIED:20241023T091604Z
UID:10002581-1729713600-1729718400@planforculture.com
SUMMARY:Z/K/M/: Braća Karamazovi – II. dio
DESCRIPTION:II. dio: Svaka nesretna obitelj nesretna je na svoj način \nRedatelj: Oliver Frljić \nPrema romanima F. M. Dostojevskog
URL:https://planforculture.com/event/z-k-m-braca-karamazovi-ii-dio/
LOCATION:Zagrebačko kazalište mladih\, Teslina 7\, Zagreb\, grad Zagreb\, 10000\, Croatia (Local Name: Hrvatska)
CATEGORIES:THEATER
ATTACH;FMTTYPE=image/jpeg:https://planforculture.com/wp-content/uploads/2024/10/ZKM-Braca-Karamazovi41.jpg
ORGANIZER;CN="Zagreba%C4%8Dko%20kazali%C5%A1te%20mladih":MAILTO:info@zekaem.hr
END:VEVENT
BEGIN:VEVENT
DTSTART;TZID=Europe/Zagreb:20241029T200000
DTEND;TZID=Europe/Zagreb:20241029T211500
DTSTAMP:20260419T235107
CREATED:20241003T111939Z
LAST-MODIFIED:20241024T112633Z
UID:10002582-1730232000-1730236500@planforculture.com
SUMMARY:Z/K/M/: Halo\, halo\, ovdje Radio Zagreb
DESCRIPTION:Autorski projekt Pavlice Bajsić Brazzoduro prema radijsko-dokumentarističkoj potrazi Pavlice Bajsić Brazzoduro i tekstu Tomislava Zajeca \nRedateljica: Pavlica Bajsić Brazzoduro
URL:https://planforculture.com/event/z-k-m-halo-halo-ovdje-radio-zagreb/
LOCATION:Zagrebačko kazalište mladih\, Teslina 7\, Zagreb\, grad Zagreb\, 10000\, Croatia (Local Name: Hrvatska)
CATEGORIES:THEATER
ATTACH;FMTTYPE=image/jpeg:https://planforculture.com/wp-content/uploads/2024/10/ZKM-Halo-Halo-ovdje-Radio-Zagreb10.jpg
ORGANIZER;CN="Zagreba%C4%8Dko%20kazali%C5%A1te%20mladih":MAILTO:info@zekaem.hr
END:VEVENT
BEGIN:VEVENT
DTSTART;TZID=Europe/Zagreb:20241030T200000
DTEND;TZID=Europe/Zagreb:20241030T211500
DTSTAMP:20260419T235107
CREATED:20241003T112125Z
LAST-MODIFIED:20241024T112717Z
UID:10002583-1730318400-1730322900@planforculture.com
SUMMARY:Z/K/M/: Halo\, halo\, ovdje Radio Zagreb
DESCRIPTION:Autorski projekt Pavlice Bajsić Brazzoduro prema radijsko-dokumentarističkoj potrazi Pavlice Bajsić Brazzoduro i tekstu Tomislava Zajeca \nRedateljica: Pavlica Bajsić Brazzoduro
URL:https://planforculture.com/event/z-k-m-halo-halo-ovdje-radio-zagreb-2/
LOCATION:Zagrebačko kazalište mladih\, Teslina 7\, Zagreb\, grad Zagreb\, 10000\, Croatia (Local Name: Hrvatska)
CATEGORIES:THEATER
ATTACH;FMTTYPE=image/jpeg:https://planforculture.com/wp-content/uploads/2024/10/ZKM-Halo-Halo-ovdje-Radio-Zagreb10-1.jpg
ORGANIZER;CN="Zagreba%C4%8Dko%20kazali%C5%A1te%20mladih":MAILTO:info@zekaem.hr
END:VEVENT
BEGIN:VEVENT
DTSTART;TZID=Europe/Zagreb:20241102T200000
DTEND;TZID=Europe/Zagreb:20241102T211500
DTSTAMP:20260419T235107
CREATED:20241003T131830Z
LAST-MODIFIED:20241024T112806Z
UID:10002603-1730577600-1730582100@planforculture.com
SUMMARY:Z/K/M/: Halo\, halo\, ovdje Radio Zagreb
DESCRIPTION:Autorski projekt Pavlice Bajsić Brazzoduro prema radijsko-dokumentarističkoj potrazi Pavlice Bajsić Brazzoduro i tekstu Tomislava Zajeca \nRedateljica: Pavlica Bajsić Brazzoduro
URL:https://planforculture.com/event/z-k-m-halo-halo-ovdje-radio-zagreb-3/
LOCATION:Zagrebačko kazalište mladih\, Teslina 7\, Zagreb\, grad Zagreb\, 10000\, Croatia (Local Name: Hrvatska)
CATEGORIES:THEATER
ATTACH;FMTTYPE=image/jpeg:https://planforculture.com/wp-content/uploads/2024/10/ZKM-Halo-Halo-ovdje-Radio-Zagreb10-2.jpg
ORGANIZER;CN="Zagreba%C4%8Dko%20kazali%C5%A1te%20mladih":MAILTO:info@zekaem.hr
END:VEVENT
BEGIN:VEVENT
DTSTART;TZID=Europe/Zagreb:20241108T200000
DTEND;TZID=Europe/Zagreb:20241108T213000
DTSTAMP:20260419T235107
CREATED:20241003T132827Z
LAST-MODIFIED:20241024T094324Z
UID:10002604-1731096000-1731101400@planforculture.com
SUMMARY:Z/K/M/ PREMIJERA: Samo kraj svijeta
DESCRIPTION:Autor: Jean-Luc Lagarce \nRedatelj: Matija Ferlin \n  \n 
URL:https://planforculture.com/event/z-k-m-premijera-samo-kraj-svijeta/
LOCATION:Zagrebačko kazalište mladih\, Teslina 7\, Zagreb\, grad Zagreb\, 10000\, Croatia (Local Name: Hrvatska)
CATEGORIES:THEATER
ATTACH;FMTTYPE=image/png:https://planforculture.com/wp-content/uploads/2024/10/dummy-predstave-2024-01.png
ORGANIZER;CN="Zagreba%C4%8Dko%20kazali%C5%A1te%20mladih":MAILTO:info@zekaem.hr
END:VEVENT
BEGIN:VEVENT
DTSTART;TZID=Europe/Zagreb:20241109T200000
DTEND;TZID=Europe/Zagreb:20241109T213000
DTSTAMP:20260419T235107
CREATED:20241003T133028Z
LAST-MODIFIED:20241024T094533Z
UID:10002605-1731182400-1731187800@planforculture.com
SUMMARY:Z/K/M/: Samo kraj svijeta
DESCRIPTION:Autor teksta: Jean-Luc Lagarce \nRedatelj: Matija Ferlin
URL:https://planforculture.com/event/z-k-m-samo-kraj-svijeta/
LOCATION:Zagrebačko kazalište mladih\, Teslina 7\, Zagreb\, grad Zagreb\, 10000\, Croatia (Local Name: Hrvatska)
CATEGORIES:THEATER
ATTACH;FMTTYPE=image/jpeg:https://planforculture.com/wp-content/uploads/2024/10/samo-kraj-sveta-radne-fotografije5-scaled-1.jpg
ORGANIZER;CN="Zagreba%C4%8Dko%20kazali%C5%A1te%20mladih":MAILTO:info@zekaem.hr
END:VEVENT
BEGIN:VEVENT
DTSTART;TZID=Europe/Zagreb:20241110T200000
DTEND;TZID=Europe/Zagreb:20241110T213000
DTSTAMP:20260419T235108
CREATED:20241003T133155Z
LAST-MODIFIED:20241024T094602Z
UID:10002606-1731268800-1731274200@planforculture.com
SUMMARY:Z/K/M/: Samo kraj svijeta
DESCRIPTION:Autor teksta: Jean-Luc Lagarce \nRedatelj: Matija Ferlin
URL:https://planforculture.com/event/z-k-m-samo-kraj-svijeta-2/
LOCATION:Zagrebačko kazalište mladih\, Teslina 7\, Zagreb\, grad Zagreb\, 10000\, Croatia (Local Name: Hrvatska)
CATEGORIES:THEATER
ATTACH;FMTTYPE=image/jpeg:https://planforculture.com/wp-content/uploads/2024/10/samo-kraj-sveta-radne-fotografije5-scaled-2.jpg
ORGANIZER;CN="Zagreba%C4%8Dko%20kazali%C5%A1te%20mladih":MAILTO:info@zekaem.hr
END:VEVENT
BEGIN:VEVENT
DTSTART;TZID=Europe/Zagreb:20241113T200000
DTEND;TZID=Europe/Zagreb:20241113T210000
DTSTAMP:20260419T235108
CREATED:20241003T133628Z
LAST-MODIFIED:20241023T092335Z
UID:10002607-1731528000-1731531600@planforculture.com
SUMMARY:Z/K/M/: Dobro je dok umiremo po redu
DESCRIPTION:Autor teksta: Ivor Martinić \nRedatelj: Aleksandar Švabić
URL:https://planforculture.com/event/z-k-m-dobro-je-dok-umiremo-po-redu/
LOCATION:Zagrebačko kazalište mladih\, Teslina 7\, Zagreb\, grad Zagreb\, 10000\, Croatia (Local Name: Hrvatska)
CATEGORIES:THEATER
ATTACH;FMTTYPE=image/jpeg:https://planforculture.com/wp-content/uploads/2024/10/ZKM-Dobro-je-dok-umiremo-po-redu14.jpg
ORGANIZER;CN="Zagreba%C4%8Dko%20kazali%C5%A1te%20mladih":MAILTO:info@zekaem.hr
END:VEVENT
BEGIN:VEVENT
DTSTART;TZID=Europe/Zagreb:20241114T200000
DTEND;TZID=Europe/Zagreb:20241114T210000
DTSTAMP:20260419T235108
CREATED:20241003T133802Z
LAST-MODIFIED:20241023T092401Z
UID:10002608-1731614400-1731618000@planforculture.com
SUMMARY:Z/K/M/: Dobro je dok umiremo po redu
DESCRIPTION:Autor teksta: Ivor Martinić \nRedatelj: Aleksandar Švabić
URL:https://planforculture.com/event/z-k-m-dobro-je-dok-umiremo-po-redu-2/
LOCATION:Zagrebačko kazalište mladih\, Teslina 7\, Zagreb\, grad Zagreb\, 10000\, Croatia (Local Name: Hrvatska)
CATEGORIES:THEATER
ATTACH;FMTTYPE=image/jpeg:https://planforculture.com/wp-content/uploads/2024/10/ZKM-Dobro-je-dok-umiremo-po-redu14-1.jpg
ORGANIZER;CN="Zagreba%C4%8Dko%20kazali%C5%A1te%20mladih":MAILTO:info@zekaem.hr
END:VEVENT
BEGIN:VEVENT
DTSTART;TZID=Europe/Zagreb:20241115T200000
DTEND;TZID=Europe/Zagreb:20241115T211500
DTSTAMP:20260419T235108
CREATED:20241003T140439Z
LAST-MODIFIED:20241023T092446Z
UID:10002609-1731700800-1731705300@planforculture.com
SUMMARY:Z/K/M/: Ćelava pjevačica
DESCRIPTION:Autor teksta: Eugene Ionesco \nRedateljica: Suzana Nikolić
URL:https://planforculture.com/event/z-k-m-celava-pjevacica/
LOCATION:Zagrebačko kazalište mladih\, Teslina 7\, Zagreb\, grad Zagreb\, 10000\, Croatia (Local Name: Hrvatska)
CATEGORIES:THEATER
ATTACH;FMTTYPE=image/jpeg:https://planforculture.com/wp-content/uploads/2024/10/ZKM-Celava-Pjevacica2.jpg
ORGANIZER;CN="Zagreba%C4%8Dko%20kazali%C5%A1te%20mladih":MAILTO:info@zekaem.hr
END:VEVENT
BEGIN:VEVENT
DTSTART;TZID=Europe/Zagreb:20241116T200000
DTEND;TZID=Europe/Zagreb:20241116T211500
DTSTAMP:20260419T235108
CREATED:20241023T091113Z
LAST-MODIFIED:20241023T092626Z
UID:10002659-1731787200-1731791700@planforculture.com
SUMMARY:Z/K/M/: Ćelava pjevačica
DESCRIPTION:Autor teksta: Eugene Ionesco \nRedateljica: Suzana Nikolić
URL:https://planforculture.com/event/z-k-m-celava-pjevacica-2/
LOCATION:Zagrebačko kazalište mladih\, Teslina 7\, Zagreb\, grad Zagreb\, 10000\, Croatia (Local Name: Hrvatska)
CATEGORIES:THEATER
ATTACH;FMTTYPE=image/jpeg:https://planforculture.com/wp-content/uploads/2024/10/ZKM-Celava-Pjevacica2-1.jpg
ORGANIZER;CN="Zagreba%C4%8Dko%20kazali%C5%A1te%20mladih":MAILTO:info@zekaem.hr
END:VEVENT
BEGIN:VEVENT
DTSTART;TZID=Europe/Zagreb:20241119T190000
DTEND;TZID=Europe/Zagreb:20241119T214500
DTSTAMP:20260419T235108
CREATED:20241023T091535Z
LAST-MODIFIED:20241024T131838Z
UID:10002662-1732042800-1732052700@planforculture.com
SUMMARY:Z/K/M/: Jezik kopačke
DESCRIPTION:Autori teksta: Ivan Ergić i Filip Grujić \nRedatelj: Borut Šeparović
URL:https://planforculture.com/event/z-k-m-jezik-kopacke-5/
LOCATION:Zagrebačko kazalište mladih\, Teslina 7\, Zagreb\, grad Zagreb\, 10000\, Croatia (Local Name: Hrvatska)
CATEGORIES:THEATER
ATTACH;FMTTYPE=image/jpeg:https://planforculture.com/wp-content/uploads/2024/10/Jezik-kopacke-_3-5.jpg
ORGANIZER;CN="Zagreba%C4%8Dko%20kazali%C5%A1te%20mladih":MAILTO:info@zekaem.hr
END:VEVENT
BEGIN:VEVENT
DTSTART;TZID=Europe/Zagreb:20241120T190000
DTEND;TZID=Europe/Zagreb:20241120T214500
DTSTAMP:20260419T235108
CREATED:20241024T083412Z
LAST-MODIFIED:20241024T131732Z
UID:10002667-1732129200-1732139100@planforculture.com
SUMMARY:Z/K/M/: Jezik kopačke
DESCRIPTION:Autori teksta: Ivan Ergić i Filip Grujić \nRedatelj: Borut Šeparović
URL:https://planforculture.com/event/z-k-m-jezik-kopacke-6/
LOCATION:Zagrebačko kazalište mladih\, Teslina 7\, Zagreb\, grad Zagreb\, 10000\, Croatia (Local Name: Hrvatska)
CATEGORIES:THEATER
ATTACH;FMTTYPE=image/jpeg:https://planforculture.com/wp-content/uploads/2024/10/Jezik-kopacke-_3-6.jpg
ORGANIZER;CN="Zagreba%C4%8Dko%20kazali%C5%A1te%20mladih":MAILTO:info@zekaem.hr
END:VEVENT
BEGIN:VEVENT
DTSTART;TZID=Europe/Zagreb:20241121T190000
DTEND;TZID=Europe/Zagreb:20241121T214500
DTSTAMP:20260419T235108
CREATED:20241024T083605Z
LAST-MODIFIED:20241024T131759Z
UID:10002668-1732215600-1732225500@planforculture.com
SUMMARY:Z/K/M/: Jezik kopačke
DESCRIPTION:Autori teksta: Ivan Ergić i Filip Grujić \nRedatelj: Borut Šeparović
URL:https://planforculture.com/event/z-k-m-jezik-kopacke-7/
LOCATION:Zagrebačko kazalište mladih\, Teslina 7\, Zagreb\, grad Zagreb\, 10000\, Croatia (Local Name: Hrvatska)
CATEGORIES:THEATER
ATTACH;FMTTYPE=image/jpeg:https://planforculture.com/wp-content/uploads/2024/10/Jezik-kopacke-_3-7.jpg
ORGANIZER;CN="Zagreba%C4%8Dko%20kazali%C5%A1te%20mladih":MAILTO:info@zekaem.hr
END:VEVENT
END:VCALENDAR